BEGIN:VCALENDAR
VERSION:2.0
PRODID:-//Tabletop Cincy - ECPv6.15.18//NONSGML v1.0//EN
CALSCALE:GREGORIAN
METHOD:PUBLISH
X-ORIGINAL-URL:https://www.tabletopcincy.com
X-WR-CALDESC:Events for Tabletop Cincy
REFRESH-INTERVAL;VALUE=DURATION:PT1H
X-Robots-Tag:noindex
X-PUBLISHED-TTL:PT1H
BEGIN:VTIMEZONE
TZID:America/Detroit
BEGIN:DAYLIGHT
TZOFFSETFROM:-0500
TZOFFSETTO:-0400
TZNAME:EDT
DTSTART:20250309T070000
END:DAYLIGHT
BEGIN:STANDARD
TZOFFSETFROM:-0400
TZOFFSETTO:-0500
TZNAME:EST
DTSTART:20251102T060000
END:STANDARD
BEGIN:DAYLIGHT
TZOFFSETFROM:-0500
TZOFFSETTO:-0400
TZNAME:EDT
DTSTART:20260308T070000
END:DAYLIGHT
BEGIN:STANDARD
TZOFFSETFROM:-0400
TZOFFSETTO:-0500
TZNAME:EST
DTSTART:20261101T060000
END:STANDARD
BEGIN:DAYLIGHT
TZOFFSETFROM:-0500
TZOFFSETTO:-0400
TZNAME:EDT
DTSTART:20270314T070000
END:DAYLIGHT
BEGIN:STANDARD
TZOFFSETFROM:-0400
TZOFFSETTO:-0500
TZNAME:EST
DTSTART:20271107T060000
END:STANDARD
END:VTIMEZONE
BEGIN:VEVENT
DTSTART;TZID=America/Detroit:20260529T180000
DTEND;TZID=America/Detroit:20260529T210000
DTSTAMP:20260421T061455
CREATED:20251031T195536Z
LAST-MODIFIED:20251031T195536Z
UID:10000301-1780077600-1780088400@www.tabletopcincy.com
SUMMARY:Friday Night Magic!
DESCRIPTION:Join us each Friday for a variety of Friday Night Magic shenanigans. We will be having a variety of different events including Commander\, draft\, and prerelease!
URL:https://www.tabletopcincy.com/event/friday-night-magic/2026-05-29/
LOCATION:Tabletop Cincy\, 4876 Union Center Pavilion\, West Chester\, OH\, 45069\, United States
ATTACH;FMTTYPE=image/png:https://www.tabletopcincy.com/wp-content/uploads/2025/10/Board-Game-Night-1.png
END:VEVENT
BEGIN:VEVENT
DTSTART;TZID=America/Detroit:20260529T183000
DTEND;TZID=America/Detroit:20260529T210000
DTSTAMP:20260421T061455
CREATED:20260323T183525Z
LAST-MODIFIED:20260323T183525Z
UID:10002246-1780079400-1780088400@www.tabletopcincy.com
SUMMARY:Paint & Sip at Tabletop Cincy - Meeple Night!
DESCRIPTION:Join us for a fun and creative Paint & Sip event at Tabletop Cincy where we’ll be painting a playful Meeple! Perfect for board game lovers\, friends\, or a unique night out\, this event combines creativity with a fun\, social atmosphere surrounded by games. Enjoy step-by-step instruction—no painting experience needed—and all supplies are included. Seats are limited\, so book now for this one-of-a-kind game night experience!  \n  \nTickets available here: \nhttps://www.paintingwithatwist.com/studio/mason/event/4268423/?fbclid=IwY2xjawQuRn9leHRuA2FlbQIxMABicmlkETE3ZHc1RTExZ0JDSlZ1eWRDc3J0YwZhcHBfaWQQMjIyMDM5MTc4ODIwMDg5MgABHru2gfBhLblNqxYLvB1p_KXSzSfBdfbJ3ckPsOA83W8EM2kGMCuEfPNsn87V_aem_3n7O9bBh9txnkhoi_31ykA
URL:https://www.tabletopcincy.com/event/paint-sip-at-tabletop-cincy-meeple-night/
LOCATION:Tabletop Cincy\, 4876 Union Center Pavilion\, West Chester\, OH\, 45069\, United States
ATTACH;FMTTYPE=image/jpeg:https://www.tabletopcincy.com/wp-content/uploads/2026/03/655018168_1368497058650750_7612792676568587070_n.jpg
END:VEVENT
END:VCALENDAR