BEGIN:VCALENDAR
VERSION:2.0
PRODID:-//Tabletop Cincy - ECPv6.15.18//NONSGML v1.0//EN
CALSCALE:GREGORIAN
METHOD:PUBLISH
X-ORIGINAL-URL:https://www.tabletopcincy.com
X-WR-CALDESC:Events for Tabletop Cincy
REFRESH-INTERVAL;VALUE=DURATION:PT1H
X-Robots-Tag:noindex
X-PUBLISHED-TTL:PT1H
BEGIN:VTIMEZONE
TZID:America/Detroit
BEGIN:DAYLIGHT
TZOFFSETFROM:-0500
TZOFFSETTO:-0400
TZNAME:EDT
DTSTART:20250309T070000
END:DAYLIGHT
BEGIN:STANDARD
TZOFFSETFROM:-0400
TZOFFSETTO:-0500
TZNAME:EST
DTSTART:20251102T060000
END:STANDARD
BEGIN:DAYLIGHT
TZOFFSETFROM:-0500
TZOFFSETTO:-0400
TZNAME:EDT
DTSTART:20260308T070000
END:DAYLIGHT
BEGIN:STANDARD
TZOFFSETFROM:-0400
TZOFFSETTO:-0500
TZNAME:EST
DTSTART:20261101T060000
END:STANDARD
BEGIN:DAYLIGHT
TZOFFSETFROM:-0500
TZOFFSETTO:-0400
TZNAME:EDT
DTSTART:20270314T070000
END:DAYLIGHT
BEGIN:STANDARD
TZOFFSETFROM:-0400
TZOFFSETTO:-0500
TZNAME:EST
DTSTART:20271107T060000
END:STANDARD
END:VTIMEZONE
BEGIN:VEVENT
DTSTART;TZID=America/Detroit:20260618T173000
DTEND;TZID=America/Detroit:20260618T210000
DTSTAMP:20260421T140037
CREATED:20260315T224837Z
LAST-MODIFIED:20260315T224837Z
UID:10002187-1781803800-1781816400@www.tabletopcincy.com
SUMMARY:TCG Trade Day!
DESCRIPTION:Join us for TCG Trade Day! Bring your binder\, make some trades\, and join in on the fun with the community! \nThis is an official Pokémon organized play event\, those that provide their Pokémon ID will earn a prize pack!
URL:https://www.tabletopcincy.com/event/tcg-trade-day-3/2026-06-18/
LOCATION:Tabletop Cincy\, 4876 Union Center Pavilion\, West Chester\, OH\, 45069\, United States
ATTACH;FMTTYPE=image/jpeg:https://www.tabletopcincy.com/wp-content/uploads/2026/03/TRADE-DAY-3.jpg
END:VEVENT
END:VCALENDAR