BEGIN:VCALENDAR
VERSION:2.0
PRODID:-//Tabletop Cincy - ECPv6.15.18//NONSGML v1.0//EN
CALSCALE:GREGORIAN
METHOD:PUBLISH
X-WR-CALNAME:Tabletop Cincy
X-ORIGINAL-URL:https://www.tabletopcincy.com
X-WR-CALDESC:Events for Tabletop Cincy
REFRESH-INTERVAL;VALUE=DURATION:PT1H
X-Robots-Tag:noindex
X-PUBLISHED-TTL:PT1H
BEGIN:VTIMEZONE
TZID:America/Detroit
BEGIN:DAYLIGHT
TZOFFSETFROM:-0500
TZOFFSETTO:-0400
TZNAME:EDT
DTSTART:20240310T070000
END:DAYLIGHT
BEGIN:STANDARD
TZOFFSETFROM:-0400
TZOFFSETTO:-0500
TZNAME:EST
DTSTART:20241103T060000
END:STANDARD
BEGIN:DAYLIGHT
TZOFFSETFROM:-0500
TZOFFSETTO:-0400
TZNAME:EDT
DTSTART:20250309T070000
END:DAYLIGHT
BEGIN:STANDARD
TZOFFSETFROM:-0400
TZOFFSETTO:-0500
TZNAME:EST
DTSTART:20251102T060000
END:STANDARD
BEGIN:DAYLIGHT
TZOFFSETFROM:-0500
TZOFFSETTO:-0400
TZNAME:EDT
DTSTART:20260308T070000
END:DAYLIGHT
BEGIN:STANDARD
TZOFFSETFROM:-0400
TZOFFSETTO:-0500
TZNAME:EST
DTSTART:20261101T060000
END:STANDARD
END:VTIMEZONE
BEGIN:VEVENT
DTSTART;TZID=America/Detroit:20251122T160000
DTEND;TZID=America/Detroit:20251122T180000
DTSTAMP:20260419T154903
CREATED:20251031T200340Z
LAST-MODIFIED:20260203T160919Z
UID:10001370-1763827200-1763834400@www.tabletopcincy.com
SUMMARY:Pokémon Saturdays!
DESCRIPTION:Join us each Saturday for Pokémon from 4p-6p. There will be someone on hand to help teach. Open to gamers of all ages!
URL:https://www.tabletopcincy.com/event/pokemon-saturdays/2025-11-22/
LOCATION:Tabletop Cincy\, 4876 Union Center Pavilion\, West Chester\, OH\, 45069\, United States
ATTACH;FMTTYPE=image/jpeg:https://www.tabletopcincy.com/wp-content/uploads/2025/10/February-Events-6.jpg
END:VEVENT
BEGIN:VEVENT
DTSTART;TZID=America/Detroit:20251121T180000
DTEND;TZID=America/Detroit:20251121T210000
DTSTAMP:20260419T154903
CREATED:20251031T195536Z
LAST-MODIFIED:20251031T195536Z
UID:10000274-1763748000-1763758800@www.tabletopcincy.com
SUMMARY:Friday Night Magic!
DESCRIPTION:Join us each Friday for a variety of Friday Night Magic shenanigans. We will be having a variety of different events including Commander\, draft\, and prerelease!
URL:https://www.tabletopcincy.com/event/friday-night-magic/2025-11-21/
LOCATION:Tabletop Cincy\, 4876 Union Center Pavilion\, West Chester\, OH\, 45069\, United States
ATTACH;FMTTYPE=image/png:https://www.tabletopcincy.com/wp-content/uploads/2025/10/Board-Game-Night-1.png
END:VEVENT
BEGIN:VEVENT
DTSTART;TZID=America/Detroit:20251120T173000
DTEND;TZID=America/Detroit:20251120T210000
DTSTAMP:20260419T154903
CREATED:20251117T175902Z
LAST-MODIFIED:20251117T180252Z
UID:10001061-1763659800-1763672400@www.tabletopcincy.com
SUMMARY:Themed Thursdays! ("Games to bring to Thanksgiving")
DESCRIPTION:Join us each Thursday as we do a themed game night. For this first Themed Thursday we will be demoing games that are great for Thanksgiving gatherings! We will be playing games such as Flip 7\, Hot Streak\, Just One and many more perfect party games. See you Thursday!
URL:https://www.tabletopcincy.com/event/themed-thursdays-games-to-bring-to-thanksgiving/
LOCATION:Tabletop Cincy\, 4876 Union Center Pavilion\, West Chester\, OH\, 45069\, United States
ATTACH;FMTTYPE=image/jpeg:https://www.tabletopcincy.com/wp-content/uploads/2025/11/hans-1.jpg
END:VEVENT
BEGIN:VEVENT
DTSTART;TZID=America/Detroit:20251118T170000
DTEND;TZID=America/Detroit:20251118T190000
DTSTAMP:20260419T154903
CREATED:20251030T190218Z
LAST-MODIFIED:20251030T190218Z
UID:10000008-1763485200-1763492400@www.tabletopcincy.com
SUMMARY:Quacks -- Learn to Play!
DESCRIPTION:We will have someone in store teaching Quacks from 5p-7p. \nThis event is free to join! \nMore about Quacks from BGG: \nIn Quacks\, players are charlatans — or quack doctors — each making their own secret brew by adding ingredients one at a time. Take care with what you add\, though\, for a pinch too much of this or that will spoil the whole mixture! \nEach player has their own bag of ingredient chips. During each round\, they simultaneously draw chips from their bags and add them to their pots. The higher the face value of the drawn chip\, the further it is placed in the pot’s swirling pattern\, increasing how much the potion will be worth. Push your luck as far as you can\, but if you add too many cherry bombs\, your pot will explode! \nAt the end of each round\, players gain victory points and coins to spend on new ingredients\, depending on how well they managed to fill up their pots. But players whose pots have exploded must choose points or coins — not both! The player with the most victory points at the end of nine rounds wins the game.
URL:https://www.tabletopcincy.com/event/quacks-learn-to-play/
LOCATION:Tabletop Cincy\, 4876 Union Center Pavilion\, West Chester\, OH\, 45069\, United States
ATTACH;FMTTYPE=image/webp:https://www.tabletopcincy.com/wp-content/uploads/2025/10/pic8780291.webp
END:VEVENT
BEGIN:VEVENT
DTSTART;TZID=America/Detroit:20251116T130000
DTEND;TZID=America/Detroit:20251116T170000
DTSTAMP:20260419T154903
CREATED:20251105T184633Z
LAST-MODIFIED:20251105T184633Z
UID:10000793-1763298000-1763312400@www.tabletopcincy.com
SUMMARY:Xcrawl RPG Ongoing Open Table Campaign
DESCRIPTION:RSVP: https://www.heylo.com/event/-OcGy30KBZNXWY8p3b-P?inviteId=0e7d8413-f20e-4127-ae76-91eb46895d24 \nOngoing Xcrawl campaign. More details are coming. (Specific module depends on if we finish the Terror on the Tundra)
URL:https://www.tabletopcincy.com/event/xcrawl-rpg-ongoing-open-table-campaign/
LOCATION:Tabletop Cincy\, 4876 Union Center Pavilion\, West Chester\, OH\, 45069\, United States
ATTACH;FMTTYPE=image/webp:https://www.tabletopcincy.com/wp-content/uploads/2025/11/543fcec2-faba-49bf-bbd7-2e423ea75c3e.webp
END:VEVENT
BEGIN:VEVENT
DTSTART;TZID=America/Detroit:20251115T160000
DTEND;TZID=America/Detroit:20251115T180000
DTSTAMP:20260419T154903
CREATED:20251031T200340Z
LAST-MODIFIED:20260203T160919Z
UID:10001369-1763222400-1763229600@www.tabletopcincy.com
SUMMARY:Pokémon Saturdays!
DESCRIPTION:Join us each Saturday for Pokémon from 4p-6p. There will be someone on hand to help teach. Open to gamers of all ages!
URL:https://www.tabletopcincy.com/event/pokemon-saturdays/2025-11-15/
LOCATION:Tabletop Cincy\, 4876 Union Center Pavilion\, West Chester\, OH\, 45069\, United States
ATTACH;FMTTYPE=image/jpeg:https://www.tabletopcincy.com/wp-content/uploads/2025/10/February-Events-6.jpg
END:VEVENT
BEGIN:VEVENT
DTSTART;TZID=America/Detroit:20251115T100000
DTEND;TZID=America/Detroit:20251115T210000
DTSTAMP:20260419T154903
CREATED:20251030T182326Z
LAST-MODIFIED:20251030T182326Z
UID:10000002-1763200800-1763240400@www.tabletopcincy.com
SUMMARY:Grand Opening Celebration!
DESCRIPTION:🎉 GRAND OPENING CELEBRATION! 🎉\nWe’ve been open for a little while\, but now it’s time to officially celebrate! 🥳\n Join us for the Grand Opening of Tabletop Cincy on Saturday\, November 15th! \nCome hang out for a day full of fun\, prizes\, and gaming:\n 🎲 Learn-to-Play events – try out new board games\, card games\, and RPGs! \n\n12p-2p Unmatched: Teenage Mutant Ninja Turtles – Learn to Play with the designer!\n12p-4p Dungeons & Dragons One Shot – Beginner Friendly! (Sign-ups required)\n2p-5p Pokemon: Learn to Play\n3p-5p Rowdy Partners: Learn to Play with the designer!\n5p-7p Sanctuary: An Ark Nova Game – Learn to Play\n\n🎁 Giveaways – win awesome prizes and exclusive goodies!\n⭐ Double Loyalty Points – earn twice the points on all purchases during the event! \nIt’s our way of saying thank you for all the support during our soft opening. Whether you’re a seasoned gamer or brand new to the hobby\, this is the perfect time to visit and see what we’re all about! \n📅 Saturday\, November 15th 11a-9p \n 📍4876 Union Centre Pavilion\, West Chester\, OH 45059 \nCome celebrate with us and help make our official grand opening one to remember!
URL:https://www.tabletopcincy.com/event/grand-opening-celebration/
LOCATION:Tabletop Cincy\, 4876 Union Center Pavilion\, West Chester\, OH\, 45069\, United States
ATTACH;FMTTYPE=image/png:https://www.tabletopcincy.com/wp-content/uploads/2025/10/Untitled-design-4.png
END:VEVENT
BEGIN:VEVENT
DTSTART;TZID=America/Detroit:20251114T180000
DTEND;TZID=America/Detroit:20251114T210000
DTSTAMP:20260419T154903
CREATED:20251031T195536Z
LAST-MODIFIED:20251031T195536Z
UID:10000273-1763143200-1763154000@www.tabletopcincy.com
SUMMARY:Friday Night Magic!
DESCRIPTION:Join us each Friday for a variety of Friday Night Magic shenanigans. We will be having a variety of different events including Commander\, draft\, and prerelease!
URL:https://www.tabletopcincy.com/event/friday-night-magic/2025-11-14/
LOCATION:Tabletop Cincy\, 4876 Union Center Pavilion\, West Chester\, OH\, 45069\, United States
ATTACH;FMTTYPE=image/png:https://www.tabletopcincy.com/wp-content/uploads/2025/10/Board-Game-Night-1.png
END:VEVENT
BEGIN:VEVENT
DTSTART;TZID=America/Detroit:20251111T180000
DTEND;TZID=America/Detroit:20251111T213000
DTSTAMP:20260419T154903
CREATED:20251030T184659Z
LAST-MODIFIED:20251030T185630Z
UID:10000005-1762884000-1762896600@www.tabletopcincy.com
SUMMARY:Shallow Sea -- Learn to Play!
DESCRIPTION:We will have someone in store teaching Shallow Sea from 6p-9p on Tuesday November 11th and 12p-3p on Friday November 28th! \nThis event is free to join! \nMore about Shallow Sea from BGG: \nIn Shallow Sea\, a multi-layered puzzle board game inspired by the breathtaking beauty of the Great Barrier Reef\, players create their own vivid ocean landscapes by strategically arranging an array of marine life\, colorful fish\, and corals. Unlike typical puzzle games in which pieces merely stack up\, the elements in Shallow Sea can activate\, deactivate\, and even move\, creating exciting combos and thought-provoking dilemmas that keep you on your toes. \nOn your turn\, choose tiles showing fish\, coral\, or sea life\, and place them on an empty space on your board. When fish surround a coral of the same color\, you flip over the completed coral\, which becomes a home for fish. Choose which fish will inhabit the coral\, keeping the puzzle and ecosystem cards in mind. Use seashells to lure fish and move them\, ideally completing multiple coral at once if you build them strategically. \nInvite other creatures to enrich your ocean\, trying to match the distinct scoring requirements of the ecosystem cards in order to score the most points.
URL:https://www.tabletopcincy.com/event/shallow-sea-learn-to-play/2025-11-11/
LOCATION:Tabletop Cincy\, 4876 Union Center Pavilion\, West Chester\, OH\, 45069\, United States
ATTACH;FMTTYPE=image/webp:https://www.tabletopcincy.com/wp-content/uploads/2025/10/bordspellen-shallow-sea_2.webp
END:VEVENT
BEGIN:VEVENT
DTSTART;TZID=America/Detroit:20251111T170000
DTEND;TZID=America/Detroit:20251111T190000
DTSTAMP:20260419T154903
CREATED:20251030T185422Z
LAST-MODIFIED:20251030T185422Z
UID:10000006-1762880400-1762887600@www.tabletopcincy.com
SUMMARY:Up or Down? -- Learn to Play!
DESCRIPTION:We will have someone in store teaching Up or Down? from 5p-7p! \nThis event is free to join and it will be demoed multiple times throughout the evening! \nMore about Up or Down? from BGG: \nIn Up or Down?\, you build ascending and descending rows of cards\, trying to place as many cards of the same color in a row as possible \nTo set up\, shuffle the deck\, deal each player a hand of three cards\, reveal six cards and place them in a ring from low to high\, then split the deck in half and place these piles in the center of the ring\, one face up and the other face down. The deck contains cards numbered 1-126\, although you adjust the deck based on the number of players. \nOn a turn\, place a card from your hand between the surrounding numbers in the ring\, e.g.\, 37 between 34 and 52\, then you take one of the cards surrounding your just-placed card and add it to your display\, either starting a new row or adding to an existing row. (If your card is lower than the lowest number or higher than the highest\, place it between the lowest and highest card\, then add one of those cards to your display.) \nYou can have up to three rows in your display. When you place a second card in a row\, you must decide whether the cards in that row will be placed in ascending order or descending\, and you stack the cards accordingly. If you cannot or do not want to place a card in a row — following the ascending or descending order you set up — take all the cards in a row of your choice\, flip them face down into a personal discard pile\, then start a new row with your current card. \nTo end your turn\, draw a card from either pile inside the ring. Once all the cards in the game have been played\, score your rows. For each row\, multiply the number of cards in that row by the number of cards in the most common color in that row. For each card in your discard pile\, score 1 point. Whoever has the most points wins.
URL:https://www.tabletopcincy.com/event/up-or-down-learn-to-play/
LOCATION:OH
ATTACH;FMTTYPE=image/jpeg:https://www.tabletopcincy.com/wp-content/uploads/2025/10/Up-or-Down-033.jpg
END:VEVENT
BEGIN:VEVENT
DTSTART;TZID=America/Detroit:20251109T150000
DTEND;TZID=America/Detroit:20251109T200000
DTSTAMP:20260419T154903
CREATED:20251030T184150Z
LAST-MODIFIED:20251030T184150Z
UID:10000004-1762700400-1762718400@www.tabletopcincy.com
SUMMARY:Fountains -- Learn to Play!
DESCRIPTION:We will have someone in store teaching Fountains from 3p-8p! \nThis is a free event and it will be demoed multiple times through the evening! \n  \nMore about Fountains from BGG:\nFountains is a take-and-make game in which each player starts with a round fountain that features a spout and room for four features. \nOn a turn\, move one of the tokens 1-3 spaces clockwise around the central board\, skipping occupied spaces\, to land on an empty space. You then take the top tile next to this token and add it to your board. You can expand out or up or both\, but you want to ensure that you have a spout at your highest level and water flowing through all of your lower levels or else you’ll have dead zones that won’t score. If you stop next to the tiny oval features instead of a tile stack\, choose one of these features and add it to an empty space in your fountain. \nWhen someone lands on the green\, blue\, or white space with the matching colored token\, everyone scores for the linked item: lilypads\, separate pools linked by constant water flow\, and fish. (Fish come in three types\, and the player who scores fish chooses which color scores.) For each item\, you score 1\, 2\, 3\, etc. points if the item is on the first\, second\, third\, etc. level. \nWhen a player hits a point threshold\, players then score for all three colors once again\, as well as endgame bonuses such as 2 points per coin icon and 4 points for a set of fish in the three colors.
URL:https://www.tabletopcincy.com/event/fountains-learn-to-play/
LOCATION:OH
ATTACH;FMTTYPE=image/jpeg:https://www.tabletopcincy.com/wp-content/uploads/2025/10/91MHNUuXBfL._AC_SL1500_.jpg
END:VEVENT
BEGIN:VEVENT
DTSTART;TZID=America/Detroit:20251108T160000
DTEND;TZID=America/Detroit:20251108T180000
DTSTAMP:20260419T154903
CREATED:20251031T200340Z
LAST-MODIFIED:20260203T160919Z
UID:10001368-1762617600-1762624800@www.tabletopcincy.com
SUMMARY:Pokémon Saturdays!
DESCRIPTION:Join us each Saturday for Pokémon from 4p-6p. There will be someone on hand to help teach. Open to gamers of all ages!
URL:https://www.tabletopcincy.com/event/pokemon-saturdays/2025-11-08/
LOCATION:Tabletop Cincy\, 4876 Union Center Pavilion\, West Chester\, OH\, 45069\, United States
ATTACH;FMTTYPE=image/jpeg:https://www.tabletopcincy.com/wp-content/uploads/2025/10/February-Events-6.jpg
END:VEVENT
BEGIN:VEVENT
DTSTART;TZID=America/Detroit:20251107T180000
DTEND;TZID=America/Detroit:20251107T210000
DTSTAMP:20260419T154903
CREATED:20251031T195536Z
LAST-MODIFIED:20251031T195536Z
UID:10000272-1762538400-1762549200@www.tabletopcincy.com
SUMMARY:Friday Night Magic!
DESCRIPTION:Join us each Friday for a variety of Friday Night Magic shenanigans. We will be having a variety of different events including Commander\, draft\, and prerelease!
URL:https://www.tabletopcincy.com/event/friday-night-magic/2025-11-07/
LOCATION:Tabletop Cincy\, 4876 Union Center Pavilion\, West Chester\, OH\, 45069\, United States
ATTACH;FMTTYPE=image/png:https://www.tabletopcincy.com/wp-content/uploads/2025/10/Board-Game-Night-1.png
END:VEVENT
BEGIN:VEVENT
DTSTART;TZID=America/Detroit:20251104T170000
DTEND;TZID=America/Detroit:20251104T190000
DTSTAMP:20260419T154903
CREATED:20251030T183323Z
LAST-MODIFIED:20251030T183646Z
UID:10000003-1762275600-1762282800@www.tabletopcincy.com
SUMMARY:Tea Garden -- Learn to Play!
DESCRIPTION:We will have someone in store teaching Tea Garden from 5p-7p! \nThis is a free event and we will have 2 games set up! \n  \nMore about Tea Garden from BGG: \nAs the proud owner of one of the tea gardens in the the Chinese Yunnan region\, your mission in Tea Garden is to cultivate and expand your empire by establishing new tea gardens along the serene river valley. Tea leaves are your most prized asset\, with six grades of tea quality and each region producing a different quality of tea. Transform your fresh\, vibrant green tea leaves through fermentation\, elevating them to rich\, aromatic brown leaves that grow in quality — and value! — as they mature. \nHarness the power of your deck of cards to orchestrate up to four main actions each game round. The strength of these cards is important for performing the chosen action; the higher the strength\, the better the effects you will achieve. With your cards\, you will build new tea gardens\, acquire new cards\, trade your tea with eager caravans\, ferment your tea leaves\, and harvest more tea. Couple your main actions with the power of secondary actions to navigate the river\, produce tea cups\, or practice tea studies at the university.
URL:https://www.tabletopcincy.com/event/tea-garden-learn-to-play/
LOCATION:Tabletop Cincy\, 4876 Union Center Pavilion\, West Chester\, OH\, 45069\, United States
ATTACH;FMTTYPE=image/jpeg:https://www.tabletopcincy.com/wp-content/uploads/2025/10/Tea-Garden-3D-scaled.jpg
END:VEVENT
END:VCALENDAR