BEGIN:VCALENDAR
VERSION:2.0
PRODID:-//Tabletop Cincy - ECPv6.15.18//NONSGML v1.0//EN
CALSCALE:GREGORIAN
METHOD:PUBLISH
X-WR-CALNAME:Tabletop Cincy
X-ORIGINAL-URL:https://www.tabletopcincy.com
X-WR-CALDESC:Events for Tabletop Cincy
REFRESH-INTERVAL;VALUE=DURATION:PT1H
X-Robots-Tag:noindex
X-PUBLISHED-TTL:PT1H
BEGIN:VTIMEZONE
TZID:America/Detroit
BEGIN:DAYLIGHT
TZOFFSETFROM:-0500
TZOFFSETTO:-0400
TZNAME:EDT
DTSTART:20260308T070000
END:DAYLIGHT
BEGIN:STANDARD
TZOFFSETFROM:-0400
TZOFFSETTO:-0500
TZNAME:EST
DTSTART:20261101T060000
END:STANDARD
BEGIN:DAYLIGHT
TZOFFSETFROM:-0500
TZOFFSETTO:-0400
TZNAME:EDT
DTSTART:20270314T070000
END:DAYLIGHT
BEGIN:STANDARD
TZOFFSETFROM:-0400
TZOFFSETTO:-0500
TZNAME:EST
DTSTART:20271107T060000
END:STANDARD
BEGIN:DAYLIGHT
TZOFFSETFROM:-0500
TZOFFSETTO:-0400
TZNAME:EDT
DTSTART:20280312T070000
END:DAYLIGHT
BEGIN:STANDARD
TZOFFSETFROM:-0400
TZOFFSETTO:-0500
TZNAME:EST
DTSTART:20281105T060000
END:STANDARD
END:VTIMEZONE
BEGIN:VEVENT
DTSTART;TZID=America/Detroit:20270326T180000
DTEND;TZID=America/Detroit:20270326T210000
DTSTAMP:20260420T091230
CREATED:20251031T195536Z
LAST-MODIFIED:20251031T195536Z
UID:10000344-1806084000-1806094800@www.tabletopcincy.com
SUMMARY:Friday Night Magic!
DESCRIPTION:Join us each Friday for a variety of Friday Night Magic shenanigans. We will be having a variety of different events including Commander\, draft\, and prerelease!
URL:https://www.tabletopcincy.com/event/friday-night-magic/2027-03-26/
LOCATION:Tabletop Cincy\, 4876 Union Center Pavilion\, West Chester\, OH\, 45069\, United States
ATTACH;FMTTYPE=image/png:https://www.tabletopcincy.com/wp-content/uploads/2025/10/Board-Game-Night-1.png
END:VEVENT
BEGIN:VEVENT
DTSTART;TZID=America/Detroit:20270327T160000
DTEND;TZID=America/Detroit:20270327T180000
DTSTAMP:20260420T091230
CREATED:20251031T200340Z
LAST-MODIFIED:20260203T160919Z
UID:10001440-1806163200-1806170400@www.tabletopcincy.com
SUMMARY:Pokémon Saturdays!
DESCRIPTION:Join us each Saturday for Pokémon from 4p-6p. There will be someone on hand to help teach. Open to gamers of all ages!
URL:https://www.tabletopcincy.com/event/pokemon-saturdays/2027-03-27/
LOCATION:Tabletop Cincy\, 4876 Union Center Pavilion\, West Chester\, OH\, 45069\, United States
ATTACH;FMTTYPE=image/jpeg:https://www.tabletopcincy.com/wp-content/uploads/2025/10/February-Events-6.jpg
END:VEVENT
BEGIN:VEVENT
DTSTART;TZID=America/Detroit:20270328T170000
DTEND;TZID=America/Detroit:20270328T200000
DTSTAMP:20260420T091230
CREATED:20260331T185138Z
LAST-MODIFIED:20260331T185138Z
UID:10002356-1806253200-1806264000@www.tabletopcincy.com
SUMMARY:Sunday Evening Nexus Nights
DESCRIPTION:Join us each Sunday at 5p for a Nexus Night event. \nEntry: $10 \nTime: 5p \nEvents will vary by the week\, all participants will receive a pack of Riftbound and Nexus Nights packs (while supplies last) \nRSVP Required: (https://locator.riftbound.uvsgames.com/events) Just search for Tabletop Cincy to see all of our upcoming events!
URL:https://www.tabletopcincy.com/event/sunday-evening-nexus-nights-2/2027-03-28/
LOCATION:Tabletop Cincy\, 4876 Union Center Pavilion\, West Chester\, OH\, 45069\, United States
ATTACH;FMTTYPE=image/webp:https://www.tabletopcincy.com/wp-content/uploads/2026/02/RiftboundOG.webp
END:VEVENT
BEGIN:VEVENT
DTSTART;TZID=America/Detroit:20270330T120000
DTEND;TZID=America/Detroit:20270330T130000
DTSTAMP:20260420T091230
CREATED:20260203T145026Z
LAST-MODIFIED:20260203T145026Z
UID:10001162-1806408000-1806411600@www.tabletopcincy.com
SUMMARY:Tuesday Lunch Time Gaming!
DESCRIPTION:Join us each Tuesday afternoon for lunch time gaming!
URL:https://www.tabletopcincy.com/event/tuesday-lunch-time-gaming/2027-03-30/
LOCATION:Tabletop Cincy\, 4876 Union Center Pavilion\, West Chester\, OH\, 45069\, United States
ATTACH;FMTTYPE=image/jpeg:https://www.tabletopcincy.com/wp-content/uploads/2026/02/February-Events.jpg
END:VEVENT
BEGIN:VEVENT
DTSTART;TZID=America/Detroit:20270330T180000
DTEND;TZID=America/Detroit:20270330T210000
DTSTAMP:20260420T091230
CREATED:20260330T191705Z
LAST-MODIFIED:20260330T191705Z
UID:10002299-1806429600-1806440400@www.tabletopcincy.com
SUMMARY:Game Night w/ Giveaway!
DESCRIPTION:🎲 Big Update for Game Night! 🎲 \nStarting in April\, our weekly Game Night is moving to Tuesday nights from 6PM–9PM! \nTo celebrate\, we’re doing something extra fun all month long…\n🎁 We’re giving away a game EVERY Tuesday in April! 🎁 \nEveryone who joins us will receive a raffle ticket\, and at the end of the night we’ll draw a winner to take home a game! \nCome hang out\, play something new\, and maybe leave with a new favorite for your collection. See you Tuesday nights!
URL:https://www.tabletopcincy.com/event/game-night-w-giveaway/2027-03-30/
LOCATION:Tabletop Cincy\, 4876 Union Center Pavilion\, West Chester\, OH\, 45069\, United States
ATTACH;FMTTYPE=image/jpeg:https://www.tabletopcincy.com/wp-content/uploads/2026/03/Game-Night.jpg
END:VEVENT
BEGIN:VEVENT
DTSTART;TZID=America/Detroit:20270402T180000
DTEND;TZID=America/Detroit:20270402T210000
DTSTAMP:20260420T091230
CREATED:20251031T195536Z
LAST-MODIFIED:20251031T195536Z
UID:10000345-1806688800-1806699600@www.tabletopcincy.com
SUMMARY:Friday Night Magic!
DESCRIPTION:Join us each Friday for a variety of Friday Night Magic shenanigans. We will be having a variety of different events including Commander\, draft\, and prerelease!
URL:https://www.tabletopcincy.com/event/friday-night-magic/2027-04-02/
LOCATION:Tabletop Cincy\, 4876 Union Center Pavilion\, West Chester\, OH\, 45069\, United States
ATTACH;FMTTYPE=image/png:https://www.tabletopcincy.com/wp-content/uploads/2025/10/Board-Game-Night-1.png
END:VEVENT
BEGIN:VEVENT
DTSTART;TZID=America/Detroit:20270403T160000
DTEND;TZID=America/Detroit:20270403T180000
DTSTAMP:20260420T091230
CREATED:20251031T200340Z
LAST-MODIFIED:20260203T160919Z
UID:10001441-1806768000-1806775200@www.tabletopcincy.com
SUMMARY:Pokémon Saturdays!
DESCRIPTION:Join us each Saturday for Pokémon from 4p-6p. There will be someone on hand to help teach. Open to gamers of all ages!
URL:https://www.tabletopcincy.com/event/pokemon-saturdays/2027-04-03/
LOCATION:Tabletop Cincy\, 4876 Union Center Pavilion\, West Chester\, OH\, 45069\, United States
ATTACH;FMTTYPE=image/jpeg:https://www.tabletopcincy.com/wp-content/uploads/2025/10/February-Events-6.jpg
END:VEVENT
BEGIN:VEVENT
DTSTART;TZID=America/Detroit:20270404T170000
DTEND;TZID=America/Detroit:20270404T200000
DTSTAMP:20260420T091230
CREATED:20260331T185138Z
LAST-MODIFIED:20260331T185138Z
UID:10002357-1806858000-1806868800@www.tabletopcincy.com
SUMMARY:Sunday Evening Nexus Nights
DESCRIPTION:Join us each Sunday at 5p for a Nexus Night event. \nEntry: $10 \nTime: 5p \nEvents will vary by the week\, all participants will receive a pack of Riftbound and Nexus Nights packs (while supplies last) \nRSVP Required: (https://locator.riftbound.uvsgames.com/events) Just search for Tabletop Cincy to see all of our upcoming events!
URL:https://www.tabletopcincy.com/event/sunday-evening-nexus-nights-2/2027-04-04/
LOCATION:Tabletop Cincy\, 4876 Union Center Pavilion\, West Chester\, OH\, 45069\, United States
ATTACH;FMTTYPE=image/webp:https://www.tabletopcincy.com/wp-content/uploads/2026/02/RiftboundOG.webp
END:VEVENT
BEGIN:VEVENT
DTSTART;TZID=America/Detroit:20270406T120000
DTEND;TZID=America/Detroit:20270406T130000
DTSTAMP:20260420T091230
CREATED:20260203T145026Z
LAST-MODIFIED:20260203T145026Z
UID:10001163-1807012800-1807016400@www.tabletopcincy.com
SUMMARY:Tuesday Lunch Time Gaming!
DESCRIPTION:Join us each Tuesday afternoon for lunch time gaming!
URL:https://www.tabletopcincy.com/event/tuesday-lunch-time-gaming/2027-04-06/
LOCATION:Tabletop Cincy\, 4876 Union Center Pavilion\, West Chester\, OH\, 45069\, United States
ATTACH;FMTTYPE=image/jpeg:https://www.tabletopcincy.com/wp-content/uploads/2026/02/February-Events.jpg
END:VEVENT
BEGIN:VEVENT
DTSTART;TZID=America/Detroit:20270406T180000
DTEND;TZID=America/Detroit:20270406T210000
DTSTAMP:20260420T091230
CREATED:20260330T191705Z
LAST-MODIFIED:20260330T191705Z
UID:10002300-1807034400-1807045200@www.tabletopcincy.com
SUMMARY:Game Night w/ Giveaway!
DESCRIPTION:🎲 Big Update for Game Night! 🎲 \nStarting in April\, our weekly Game Night is moving to Tuesday nights from 6PM–9PM! \nTo celebrate\, we’re doing something extra fun all month long…\n🎁 We’re giving away a game EVERY Tuesday in April! 🎁 \nEveryone who joins us will receive a raffle ticket\, and at the end of the night we’ll draw a winner to take home a game! \nCome hang out\, play something new\, and maybe leave with a new favorite for your collection. See you Tuesday nights!
URL:https://www.tabletopcincy.com/event/game-night-w-giveaway/2027-04-06/
LOCATION:Tabletop Cincy\, 4876 Union Center Pavilion\, West Chester\, OH\, 45069\, United States
ATTACH;FMTTYPE=image/jpeg:https://www.tabletopcincy.com/wp-content/uploads/2026/03/Game-Night.jpg
END:VEVENT
BEGIN:VEVENT
DTSTART;TZID=America/Detroit:20270409T180000
DTEND;TZID=America/Detroit:20270409T210000
DTSTAMP:20260420T091230
CREATED:20251031T195536Z
LAST-MODIFIED:20251031T195536Z
UID:10000346-1807293600-1807304400@www.tabletopcincy.com
SUMMARY:Friday Night Magic!
DESCRIPTION:Join us each Friday for a variety of Friday Night Magic shenanigans. We will be having a variety of different events including Commander\, draft\, and prerelease!
URL:https://www.tabletopcincy.com/event/friday-night-magic/2027-04-09/
LOCATION:Tabletop Cincy\, 4876 Union Center Pavilion\, West Chester\, OH\, 45069\, United States
ATTACH;FMTTYPE=image/png:https://www.tabletopcincy.com/wp-content/uploads/2025/10/Board-Game-Night-1.png
END:VEVENT
BEGIN:VEVENT
DTSTART;TZID=America/Detroit:20270410T160000
DTEND;TZID=America/Detroit:20270410T180000
DTSTAMP:20260420T091230
CREATED:20251031T200340Z
LAST-MODIFIED:20260203T160919Z
UID:10001442-1807372800-1807380000@www.tabletopcincy.com
SUMMARY:Pokémon Saturdays!
DESCRIPTION:Join us each Saturday for Pokémon from 4p-6p. There will be someone on hand to help teach. Open to gamers of all ages!
URL:https://www.tabletopcincy.com/event/pokemon-saturdays/2027-04-10/
LOCATION:Tabletop Cincy\, 4876 Union Center Pavilion\, West Chester\, OH\, 45069\, United States
ATTACH;FMTTYPE=image/jpeg:https://www.tabletopcincy.com/wp-content/uploads/2025/10/February-Events-6.jpg
END:VEVENT
BEGIN:VEVENT
DTSTART;TZID=America/Detroit:20270411T170000
DTEND;TZID=America/Detroit:20270411T200000
DTSTAMP:20260420T091230
CREATED:20260331T185138Z
LAST-MODIFIED:20260331T185138Z
UID:10002358-1807462800-1807473600@www.tabletopcincy.com
SUMMARY:Sunday Evening Nexus Nights
DESCRIPTION:Join us each Sunday at 5p for a Nexus Night event. \nEntry: $10 \nTime: 5p \nEvents will vary by the week\, all participants will receive a pack of Riftbound and Nexus Nights packs (while supplies last) \nRSVP Required: (https://locator.riftbound.uvsgames.com/events) Just search for Tabletop Cincy to see all of our upcoming events!
URL:https://www.tabletopcincy.com/event/sunday-evening-nexus-nights-2/2027-04-11/
LOCATION:Tabletop Cincy\, 4876 Union Center Pavilion\, West Chester\, OH\, 45069\, United States
ATTACH;FMTTYPE=image/webp:https://www.tabletopcincy.com/wp-content/uploads/2026/02/RiftboundOG.webp
END:VEVENT
BEGIN:VEVENT
DTSTART;TZID=America/Detroit:20270413T120000
DTEND;TZID=America/Detroit:20270413T130000
DTSTAMP:20260420T091230
CREATED:20260203T145026Z
LAST-MODIFIED:20260203T145026Z
UID:10001164-1807617600-1807621200@www.tabletopcincy.com
SUMMARY:Tuesday Lunch Time Gaming!
DESCRIPTION:Join us each Tuesday afternoon for lunch time gaming!
URL:https://www.tabletopcincy.com/event/tuesday-lunch-time-gaming/2027-04-13/
LOCATION:Tabletop Cincy\, 4876 Union Center Pavilion\, West Chester\, OH\, 45069\, United States
ATTACH;FMTTYPE=image/jpeg:https://www.tabletopcincy.com/wp-content/uploads/2026/02/February-Events.jpg
END:VEVENT
BEGIN:VEVENT
DTSTART;TZID=America/Detroit:20270413T180000
DTEND;TZID=America/Detroit:20270413T210000
DTSTAMP:20260420T091230
CREATED:20260330T191705Z
LAST-MODIFIED:20260330T191705Z
UID:10002301-1807639200-1807650000@www.tabletopcincy.com
SUMMARY:Game Night w/ Giveaway!
DESCRIPTION:🎲 Big Update for Game Night! 🎲 \nStarting in April\, our weekly Game Night is moving to Tuesday nights from 6PM–9PM! \nTo celebrate\, we’re doing something extra fun all month long…\n🎁 We’re giving away a game EVERY Tuesday in April! 🎁 \nEveryone who joins us will receive a raffle ticket\, and at the end of the night we’ll draw a winner to take home a game! \nCome hang out\, play something new\, and maybe leave with a new favorite for your collection. See you Tuesday nights!
URL:https://www.tabletopcincy.com/event/game-night-w-giveaway/2027-04-13/
LOCATION:Tabletop Cincy\, 4876 Union Center Pavilion\, West Chester\, OH\, 45069\, United States
ATTACH;FMTTYPE=image/jpeg:https://www.tabletopcincy.com/wp-content/uploads/2026/03/Game-Night.jpg
END:VEVENT
BEGIN:VEVENT
DTSTART;TZID=America/Detroit:20270415T173000
DTEND;TZID=America/Detroit:20270415T210000
DTSTAMP:20260420T091230
CREATED:20260315T224837Z
LAST-MODIFIED:20260315T224837Z
UID:10002197-1807810200-1807822800@www.tabletopcincy.com
SUMMARY:TCG Trade Day!
DESCRIPTION:Join us for TCG Trade Day! Bring your binder\, make some trades\, and join in on the fun with the community! \nThis is an official Pokémon organized play event\, those that provide their Pokémon ID will earn a prize pack!
URL:https://www.tabletopcincy.com/event/tcg-trade-day-3/2027-04-15/
LOCATION:Tabletop Cincy\, 4876 Union Center Pavilion\, West Chester\, OH\, 45069\, United States
ATTACH;FMTTYPE=image/jpeg:https://www.tabletopcincy.com/wp-content/uploads/2026/03/TRADE-DAY-3.jpg
END:VEVENT
BEGIN:VEVENT
DTSTART;TZID=America/Detroit:20270416T180000
DTEND;TZID=America/Detroit:20270416T210000
DTSTAMP:20260420T091230
CREATED:20251031T195536Z
LAST-MODIFIED:20251031T195536Z
UID:10000347-1807898400-1807909200@www.tabletopcincy.com
SUMMARY:Friday Night Magic!
DESCRIPTION:Join us each Friday for a variety of Friday Night Magic shenanigans. We will be having a variety of different events including Commander\, draft\, and prerelease!
URL:https://www.tabletopcincy.com/event/friday-night-magic/2027-04-16/
LOCATION:Tabletop Cincy\, 4876 Union Center Pavilion\, West Chester\, OH\, 45069\, United States
ATTACH;FMTTYPE=image/png:https://www.tabletopcincy.com/wp-content/uploads/2025/10/Board-Game-Night-1.png
END:VEVENT
BEGIN:VEVENT
DTSTART;TZID=America/Detroit:20270417T160000
DTEND;TZID=America/Detroit:20270417T180000
DTSTAMP:20260420T091230
CREATED:20251031T200340Z
LAST-MODIFIED:20260203T160919Z
UID:10001443-1807977600-1807984800@www.tabletopcincy.com
SUMMARY:Pokémon Saturdays!
DESCRIPTION:Join us each Saturday for Pokémon from 4p-6p. There will be someone on hand to help teach. Open to gamers of all ages!
URL:https://www.tabletopcincy.com/event/pokemon-saturdays/2027-04-17/
LOCATION:Tabletop Cincy\, 4876 Union Center Pavilion\, West Chester\, OH\, 45069\, United States
ATTACH;FMTTYPE=image/jpeg:https://www.tabletopcincy.com/wp-content/uploads/2025/10/February-Events-6.jpg
END:VEVENT
BEGIN:VEVENT
DTSTART;TZID=America/Detroit:20270418T170000
DTEND;TZID=America/Detroit:20270418T200000
DTSTAMP:20260420T091230
CREATED:20260331T185138Z
LAST-MODIFIED:20260331T185138Z
UID:10002359-1808067600-1808078400@www.tabletopcincy.com
SUMMARY:Sunday Evening Nexus Nights
DESCRIPTION:Join us each Sunday at 5p for a Nexus Night event. \nEntry: $10 \nTime: 5p \nEvents will vary by the week\, all participants will receive a pack of Riftbound and Nexus Nights packs (while supplies last) \nRSVP Required: (https://locator.riftbound.uvsgames.com/events) Just search for Tabletop Cincy to see all of our upcoming events!
URL:https://www.tabletopcincy.com/event/sunday-evening-nexus-nights-2/2027-04-18/
LOCATION:Tabletop Cincy\, 4876 Union Center Pavilion\, West Chester\, OH\, 45069\, United States
ATTACH;FMTTYPE=image/webp:https://www.tabletopcincy.com/wp-content/uploads/2026/02/RiftboundOG.webp
END:VEVENT
BEGIN:VEVENT
DTSTART;TZID=America/Detroit:20270420T120000
DTEND;TZID=America/Detroit:20270420T130000
DTSTAMP:20260420T091230
CREATED:20260203T145026Z
LAST-MODIFIED:20260203T145026Z
UID:10001165-1808222400-1808226000@www.tabletopcincy.com
SUMMARY:Tuesday Lunch Time Gaming!
DESCRIPTION:Join us each Tuesday afternoon for lunch time gaming!
URL:https://www.tabletopcincy.com/event/tuesday-lunch-time-gaming/2027-04-20/
LOCATION:Tabletop Cincy\, 4876 Union Center Pavilion\, West Chester\, OH\, 45069\, United States
ATTACH;FMTTYPE=image/jpeg:https://www.tabletopcincy.com/wp-content/uploads/2026/02/February-Events.jpg
END:VEVENT
BEGIN:VEVENT
DTSTART;TZID=America/Detroit:20270420T180000
DTEND;TZID=America/Detroit:20270420T210000
DTSTAMP:20260420T091230
CREATED:20260330T191705Z
LAST-MODIFIED:20260330T191705Z
UID:10002302-1808244000-1808254800@www.tabletopcincy.com
SUMMARY:Game Night w/ Giveaway!
DESCRIPTION:🎲 Big Update for Game Night! 🎲 \nStarting in April\, our weekly Game Night is moving to Tuesday nights from 6PM–9PM! \nTo celebrate\, we’re doing something extra fun all month long…\n🎁 We’re giving away a game EVERY Tuesday in April! 🎁 \nEveryone who joins us will receive a raffle ticket\, and at the end of the night we’ll draw a winner to take home a game! \nCome hang out\, play something new\, and maybe leave with a new favorite for your collection. See you Tuesday nights!
URL:https://www.tabletopcincy.com/event/game-night-w-giveaway/2027-04-20/
LOCATION:Tabletop Cincy\, 4876 Union Center Pavilion\, West Chester\, OH\, 45069\, United States
ATTACH;FMTTYPE=image/jpeg:https://www.tabletopcincy.com/wp-content/uploads/2026/03/Game-Night.jpg
END:VEVENT
BEGIN:VEVENT
DTSTART;TZID=America/Detroit:20270423T180000
DTEND;TZID=America/Detroit:20270423T210000
DTSTAMP:20260420T091230
CREATED:20251031T195536Z
LAST-MODIFIED:20251031T195536Z
UID:10000348-1808503200-1808514000@www.tabletopcincy.com
SUMMARY:Friday Night Magic!
DESCRIPTION:Join us each Friday for a variety of Friday Night Magic shenanigans. We will be having a variety of different events including Commander\, draft\, and prerelease!
URL:https://www.tabletopcincy.com/event/friday-night-magic/2027-04-23/
LOCATION:Tabletop Cincy\, 4876 Union Center Pavilion\, West Chester\, OH\, 45069\, United States
ATTACH;FMTTYPE=image/png:https://www.tabletopcincy.com/wp-content/uploads/2025/10/Board-Game-Night-1.png
END:VEVENT
BEGIN:VEVENT
DTSTART;TZID=America/Detroit:20270424T160000
DTEND;TZID=America/Detroit:20270424T180000
DTSTAMP:20260420T091230
CREATED:20251031T200340Z
LAST-MODIFIED:20260203T160919Z
UID:10001444-1808582400-1808589600@www.tabletopcincy.com
SUMMARY:Pokémon Saturdays!
DESCRIPTION:Join us each Saturday for Pokémon from 4p-6p. There will be someone on hand to help teach. Open to gamers of all ages!
URL:https://www.tabletopcincy.com/event/pokemon-saturdays/2027-04-24/
LOCATION:Tabletop Cincy\, 4876 Union Center Pavilion\, West Chester\, OH\, 45069\, United States
ATTACH;FMTTYPE=image/jpeg:https://www.tabletopcincy.com/wp-content/uploads/2025/10/February-Events-6.jpg
END:VEVENT
BEGIN:VEVENT
DTSTART;TZID=America/Detroit:20270425T170000
DTEND;TZID=America/Detroit:20270425T200000
DTSTAMP:20260420T091230
CREATED:20260331T185138Z
LAST-MODIFIED:20260331T185138Z
UID:10002360-1808672400-1808683200@www.tabletopcincy.com
SUMMARY:Sunday Evening Nexus Nights
DESCRIPTION:Join us each Sunday at 5p for a Nexus Night event. \nEntry: $10 \nTime: 5p \nEvents will vary by the week\, all participants will receive a pack of Riftbound and Nexus Nights packs (while supplies last) \nRSVP Required: (https://locator.riftbound.uvsgames.com/events) Just search for Tabletop Cincy to see all of our upcoming events!
URL:https://www.tabletopcincy.com/event/sunday-evening-nexus-nights-2/2027-04-25/
LOCATION:Tabletop Cincy\, 4876 Union Center Pavilion\, West Chester\, OH\, 45069\, United States
ATTACH;FMTTYPE=image/webp:https://www.tabletopcincy.com/wp-content/uploads/2026/02/RiftboundOG.webp
END:VEVENT
BEGIN:VEVENT
DTSTART;TZID=America/Detroit:20270427T120000
DTEND;TZID=America/Detroit:20270427T130000
DTSTAMP:20260420T091230
CREATED:20260203T145026Z
LAST-MODIFIED:20260203T145026Z
UID:10001166-1808827200-1808830800@www.tabletopcincy.com
SUMMARY:Tuesday Lunch Time Gaming!
DESCRIPTION:Join us each Tuesday afternoon for lunch time gaming!
URL:https://www.tabletopcincy.com/event/tuesday-lunch-time-gaming/2027-04-27/
LOCATION:Tabletop Cincy\, 4876 Union Center Pavilion\, West Chester\, OH\, 45069\, United States
ATTACH;FMTTYPE=image/jpeg:https://www.tabletopcincy.com/wp-content/uploads/2026/02/February-Events.jpg
END:VEVENT
BEGIN:VEVENT
DTSTART;TZID=America/Detroit:20270427T180000
DTEND;TZID=America/Detroit:20270427T210000
DTSTAMP:20260420T091230
CREATED:20260330T191705Z
LAST-MODIFIED:20260330T191705Z
UID:10002303-1808848800-1808859600@www.tabletopcincy.com
SUMMARY:Game Night w/ Giveaway!
DESCRIPTION:🎲 Big Update for Game Night! 🎲 \nStarting in April\, our weekly Game Night is moving to Tuesday nights from 6PM–9PM! \nTo celebrate\, we’re doing something extra fun all month long…\n🎁 We’re giving away a game EVERY Tuesday in April! 🎁 \nEveryone who joins us will receive a raffle ticket\, and at the end of the night we’ll draw a winner to take home a game! \nCome hang out\, play something new\, and maybe leave with a new favorite for your collection. See you Tuesday nights!
URL:https://www.tabletopcincy.com/event/game-night-w-giveaway/2027-04-27/
LOCATION:Tabletop Cincy\, 4876 Union Center Pavilion\, West Chester\, OH\, 45069\, United States
ATTACH;FMTTYPE=image/jpeg:https://www.tabletopcincy.com/wp-content/uploads/2026/03/Game-Night.jpg
END:VEVENT
BEGIN:VEVENT
DTSTART;TZID=America/Detroit:20270430T180000
DTEND;TZID=America/Detroit:20270430T210000
DTSTAMP:20260420T091230
CREATED:20251031T195536Z
LAST-MODIFIED:20251031T195536Z
UID:10000349-1809108000-1809118800@www.tabletopcincy.com
SUMMARY:Friday Night Magic!
DESCRIPTION:Join us each Friday for a variety of Friday Night Magic shenanigans. We will be having a variety of different events including Commander\, draft\, and prerelease!
URL:https://www.tabletopcincy.com/event/friday-night-magic/2027-04-30/
LOCATION:Tabletop Cincy\, 4876 Union Center Pavilion\, West Chester\, OH\, 45069\, United States
ATTACH;FMTTYPE=image/png:https://www.tabletopcincy.com/wp-content/uploads/2025/10/Board-Game-Night-1.png
END:VEVENT
BEGIN:VEVENT
DTSTART;TZID=America/Detroit:20270501T160000
DTEND;TZID=America/Detroit:20270501T180000
DTSTAMP:20260420T091230
CREATED:20251031T200340Z
LAST-MODIFIED:20260203T160919Z
UID:10001445-1809187200-1809194400@www.tabletopcincy.com
SUMMARY:Pokémon Saturdays!
DESCRIPTION:Join us each Saturday for Pokémon from 4p-6p. There will be someone on hand to help teach. Open to gamers of all ages!
URL:https://www.tabletopcincy.com/event/pokemon-saturdays/2027-05-01/
LOCATION:Tabletop Cincy\, 4876 Union Center Pavilion\, West Chester\, OH\, 45069\, United States
ATTACH;FMTTYPE=image/jpeg:https://www.tabletopcincy.com/wp-content/uploads/2025/10/February-Events-6.jpg
END:VEVENT
BEGIN:VEVENT
DTSTART;TZID=America/Detroit:20270504T120000
DTEND;TZID=America/Detroit:20270504T130000
DTSTAMP:20260420T091230
CREATED:20260203T145026Z
LAST-MODIFIED:20260203T145026Z
UID:10001167-1809432000-1809435600@www.tabletopcincy.com
SUMMARY:Tuesday Lunch Time Gaming!
DESCRIPTION:Join us each Tuesday afternoon for lunch time gaming!
URL:https://www.tabletopcincy.com/event/tuesday-lunch-time-gaming/2027-05-04/
LOCATION:Tabletop Cincy\, 4876 Union Center Pavilion\, West Chester\, OH\, 45069\, United States
ATTACH;FMTTYPE=image/jpeg:https://www.tabletopcincy.com/wp-content/uploads/2026/02/February-Events.jpg
END:VEVENT
BEGIN:VEVENT
DTSTART;TZID=America/Detroit:20270507T180000
DTEND;TZID=America/Detroit:20270507T210000
DTSTAMP:20260420T091230
CREATED:20251031T195536Z
LAST-MODIFIED:20251031T195536Z
UID:10000350-1809712800-1809723600@www.tabletopcincy.com
SUMMARY:Friday Night Magic!
DESCRIPTION:Join us each Friday for a variety of Friday Night Magic shenanigans. We will be having a variety of different events including Commander\, draft\, and prerelease!
URL:https://www.tabletopcincy.com/event/friday-night-magic/2027-05-07/
LOCATION:Tabletop Cincy\, 4876 Union Center Pavilion\, West Chester\, OH\, 45069\, United States
ATTACH;FMTTYPE=image/png:https://www.tabletopcincy.com/wp-content/uploads/2025/10/Board-Game-Night-1.png
END:VEVENT
END:VCALENDAR