BEGIN:VCALENDAR
VERSION:2.0
PRODID:-//Tabletop Cincy - ECPv6.15.18//NONSGML v1.0//EN
CALSCALE:GREGORIAN
METHOD:PUBLISH
X-ORIGINAL-URL:https://www.tabletopcincy.com
X-WR-CALDESC:Events for Tabletop Cincy
REFRESH-INTERVAL;VALUE=DURATION:PT1H
X-Robots-Tag:noindex
X-PUBLISHED-TTL:PT1H
BEGIN:VTIMEZONE
TZID:America/Detroit
BEGIN:DAYLIGHT
TZOFFSETFROM:-0500
TZOFFSETTO:-0400
TZNAME:EDT
DTSTART:20290311T070000
END:DAYLIGHT
BEGIN:STANDARD
TZOFFSETFROM:-0400
TZOFFSETTO:-0500
TZNAME:EST
DTSTART:20291104T060000
END:STANDARD
BEGIN:DAYLIGHT
TZOFFSETFROM:-0500
TZOFFSETTO:-0400
TZNAME:EDT
DTSTART:20300310T070000
END:DAYLIGHT
BEGIN:STANDARD
TZOFFSETFROM:-0400
TZOFFSETTO:-0500
TZNAME:EST
DTSTART:20301103T060000
END:STANDARD
BEGIN:DAYLIGHT
TZOFFSETFROM:-0500
TZOFFSETTO:-0400
TZNAME:EDT
DTSTART:20310309T070000
END:DAYLIGHT
BEGIN:STANDARD
TZOFFSETFROM:-0400
TZOFFSETTO:-0500
TZNAME:EST
DTSTART:20311102T060000
END:STANDARD
END:VTIMEZONE
BEGIN:VEVENT
DTSTART;TZID=America/Detroit:20300730T120000
DTEND;TZID=America/Detroit:20300730T130000
DTSTAMP:20260423T091847
CREATED:20260203T145026Z
LAST-MODIFIED:20260203T145026Z
UID:10001336-1911643200-1911646800@www.tabletopcincy.com
SUMMARY:Tuesday Lunch Time Gaming!
DESCRIPTION:Join us each Tuesday afternoon for lunch time gaming!
URL:https://www.tabletopcincy.com/event/tuesday-lunch-time-gaming/2030-07-30/
LOCATION:Tabletop Cincy\, 4876 Union Center Pavilion\, West Chester\, OH\, 45069\, United States
ATTACH;FMTTYPE=image/jpeg:https://www.tabletopcincy.com/wp-content/uploads/2026/02/February-Events.jpg
END:VEVENT
BEGIN:VEVENT
DTSTART;TZID=America/Detroit:20300802T180000
DTEND;TZID=America/Detroit:20300802T210000
DTSTAMP:20260423T091847
CREATED:20251031T195536Z
LAST-MODIFIED:20251031T195536Z
UID:10000519-1911924000-1911934800@www.tabletopcincy.com
SUMMARY:Friday Night Magic!
DESCRIPTION:Join us each Friday for a variety of Friday Night Magic shenanigans. We will be having a variety of different events including Commander\, draft\, and prerelease!
URL:https://www.tabletopcincy.com/event/friday-night-magic/2030-08-02/
LOCATION:Tabletop Cincy\, 4876 Union Center Pavilion\, West Chester\, OH\, 45069\, United States
ATTACH;FMTTYPE=image/png:https://www.tabletopcincy.com/wp-content/uploads/2025/10/Board-Game-Night-1.png
END:VEVENT
BEGIN:VEVENT
DTSTART;TZID=America/Detroit:20300803T160000
DTEND;TZID=America/Detroit:20300803T180000
DTSTAMP:20260423T091847
CREATED:20251031T200340Z
LAST-MODIFIED:20260203T160919Z
UID:10001615-1912003200-1912010400@www.tabletopcincy.com
SUMMARY:Pokémon Saturdays!
DESCRIPTION:Join us each Saturday for Pokémon from 4p-6p. There will be someone on hand to help teach. Open to gamers of all ages!
URL:https://www.tabletopcincy.com/event/pokemon-saturdays/2030-08-03/
LOCATION:Tabletop Cincy\, 4876 Union Center Pavilion\, West Chester\, OH\, 45069\, United States
ATTACH;FMTTYPE=image/jpeg:https://www.tabletopcincy.com/wp-content/uploads/2025/10/February-Events-6.jpg
END:VEVENT
BEGIN:VEVENT
DTSTART;TZID=America/Detroit:20300806T120000
DTEND;TZID=America/Detroit:20300806T130000
DTSTAMP:20260423T091847
CREATED:20260203T145026Z
LAST-MODIFIED:20260203T145026Z
UID:10001337-1912248000-1912251600@www.tabletopcincy.com
SUMMARY:Tuesday Lunch Time Gaming!
DESCRIPTION:Join us each Tuesday afternoon for lunch time gaming!
URL:https://www.tabletopcincy.com/event/tuesday-lunch-time-gaming/2030-08-06/
LOCATION:Tabletop Cincy\, 4876 Union Center Pavilion\, West Chester\, OH\, 45069\, United States
ATTACH;FMTTYPE=image/jpeg:https://www.tabletopcincy.com/wp-content/uploads/2026/02/February-Events.jpg
END:VEVENT
BEGIN:VEVENT
DTSTART;TZID=America/Detroit:20300809T180000
DTEND;TZID=America/Detroit:20300809T210000
DTSTAMP:20260423T091847
CREATED:20251031T195536Z
LAST-MODIFIED:20251031T195536Z
UID:10000520-1912528800-1912539600@www.tabletopcincy.com
SUMMARY:Friday Night Magic!
DESCRIPTION:Join us each Friday for a variety of Friday Night Magic shenanigans. We will be having a variety of different events including Commander\, draft\, and prerelease!
URL:https://www.tabletopcincy.com/event/friday-night-magic/2030-08-09/
LOCATION:Tabletop Cincy\, 4876 Union Center Pavilion\, West Chester\, OH\, 45069\, United States
ATTACH;FMTTYPE=image/png:https://www.tabletopcincy.com/wp-content/uploads/2025/10/Board-Game-Night-1.png
END:VEVENT
BEGIN:VEVENT
DTSTART;TZID=America/Detroit:20300810T160000
DTEND;TZID=America/Detroit:20300810T180000
DTSTAMP:20260423T091847
CREATED:20251031T200340Z
LAST-MODIFIED:20260203T160919Z
UID:10001616-1912608000-1912615200@www.tabletopcincy.com
SUMMARY:Pokémon Saturdays!
DESCRIPTION:Join us each Saturday for Pokémon from 4p-6p. There will be someone on hand to help teach. Open to gamers of all ages!
URL:https://www.tabletopcincy.com/event/pokemon-saturdays/2030-08-10/
LOCATION:Tabletop Cincy\, 4876 Union Center Pavilion\, West Chester\, OH\, 45069\, United States
ATTACH;FMTTYPE=image/jpeg:https://www.tabletopcincy.com/wp-content/uploads/2025/10/February-Events-6.jpg
END:VEVENT
BEGIN:VEVENT
DTSTART;TZID=America/Detroit:20300813T120000
DTEND;TZID=America/Detroit:20300813T130000
DTSTAMP:20260423T091847
CREATED:20260203T145026Z
LAST-MODIFIED:20260203T145026Z
UID:10001338-1912852800-1912856400@www.tabletopcincy.com
SUMMARY:Tuesday Lunch Time Gaming!
DESCRIPTION:Join us each Tuesday afternoon for lunch time gaming!
URL:https://www.tabletopcincy.com/event/tuesday-lunch-time-gaming/2030-08-13/
LOCATION:Tabletop Cincy\, 4876 Union Center Pavilion\, West Chester\, OH\, 45069\, United States
ATTACH;FMTTYPE=image/jpeg:https://www.tabletopcincy.com/wp-content/uploads/2026/02/February-Events.jpg
END:VEVENT
BEGIN:VEVENT
DTSTART;TZID=America/Detroit:20300815T173000
DTEND;TZID=America/Detroit:20300815T210000
DTSTAMP:20260423T091847
CREATED:20260315T224837Z
LAST-MODIFIED:20260315T224837Z
UID:10002237-1913045400-1913058000@www.tabletopcincy.com
SUMMARY:TCG Trade Day!
DESCRIPTION:Join us for TCG Trade Day! Bring your binder\, make some trades\, and join in on the fun with the community! \nThis is an official Pokémon organized play event\, those that provide their Pokémon ID will earn a prize pack!
URL:https://www.tabletopcincy.com/event/tcg-trade-day-3/2030-08-15/
LOCATION:Tabletop Cincy\, 4876 Union Center Pavilion\, West Chester\, OH\, 45069\, United States
ATTACH;FMTTYPE=image/jpeg:https://www.tabletopcincy.com/wp-content/uploads/2026/03/TRADE-DAY-3.jpg
END:VEVENT
BEGIN:VEVENT
DTSTART;TZID=America/Detroit:20300816T180000
DTEND;TZID=America/Detroit:20300816T210000
DTSTAMP:20260423T091847
CREATED:20251031T195536Z
LAST-MODIFIED:20251031T195536Z
UID:10000521-1913133600-1913144400@www.tabletopcincy.com
SUMMARY:Friday Night Magic!
DESCRIPTION:Join us each Friday for a variety of Friday Night Magic shenanigans. We will be having a variety of different events including Commander\, draft\, and prerelease!
URL:https://www.tabletopcincy.com/event/friday-night-magic/2030-08-16/
LOCATION:Tabletop Cincy\, 4876 Union Center Pavilion\, West Chester\, OH\, 45069\, United States
ATTACH;FMTTYPE=image/png:https://www.tabletopcincy.com/wp-content/uploads/2025/10/Board-Game-Night-1.png
END:VEVENT
BEGIN:VEVENT
DTSTART;TZID=America/Detroit:20300817T160000
DTEND;TZID=America/Detroit:20300817T180000
DTSTAMP:20260423T091847
CREATED:20251031T200340Z
LAST-MODIFIED:20260203T160919Z
UID:10001617-1913212800-1913220000@www.tabletopcincy.com
SUMMARY:Pokémon Saturdays!
DESCRIPTION:Join us each Saturday for Pokémon from 4p-6p. There will be someone on hand to help teach. Open to gamers of all ages!
URL:https://www.tabletopcincy.com/event/pokemon-saturdays/2030-08-17/
LOCATION:Tabletop Cincy\, 4876 Union Center Pavilion\, West Chester\, OH\, 45069\, United States
ATTACH;FMTTYPE=image/jpeg:https://www.tabletopcincy.com/wp-content/uploads/2025/10/February-Events-6.jpg
END:VEVENT
BEGIN:VEVENT
DTSTART;TZID=America/Detroit:20300820T120000
DTEND;TZID=America/Detroit:20300820T130000
DTSTAMP:20260423T091847
CREATED:20260203T145026Z
LAST-MODIFIED:20260203T145026Z
UID:10001339-1913457600-1913461200@www.tabletopcincy.com
SUMMARY:Tuesday Lunch Time Gaming!
DESCRIPTION:Join us each Tuesday afternoon for lunch time gaming!
URL:https://www.tabletopcincy.com/event/tuesday-lunch-time-gaming/2030-08-20/
LOCATION:Tabletop Cincy\, 4876 Union Center Pavilion\, West Chester\, OH\, 45069\, United States
ATTACH;FMTTYPE=image/jpeg:https://www.tabletopcincy.com/wp-content/uploads/2026/02/February-Events.jpg
END:VEVENT
BEGIN:VEVENT
DTSTART;TZID=America/Detroit:20300823T180000
DTEND;TZID=America/Detroit:20300823T210000
DTSTAMP:20260423T091847
CREATED:20251031T195536Z
LAST-MODIFIED:20251031T195536Z
UID:10000522-1913738400-1913749200@www.tabletopcincy.com
SUMMARY:Friday Night Magic!
DESCRIPTION:Join us each Friday for a variety of Friday Night Magic shenanigans. We will be having a variety of different events including Commander\, draft\, and prerelease!
URL:https://www.tabletopcincy.com/event/friday-night-magic/2030-08-23/
LOCATION:Tabletop Cincy\, 4876 Union Center Pavilion\, West Chester\, OH\, 45069\, United States
ATTACH;FMTTYPE=image/png:https://www.tabletopcincy.com/wp-content/uploads/2025/10/Board-Game-Night-1.png
END:VEVENT
BEGIN:VEVENT
DTSTART;TZID=America/Detroit:20300824T160000
DTEND;TZID=America/Detroit:20300824T180000
DTSTAMP:20260423T091847
CREATED:20251031T200340Z
LAST-MODIFIED:20260203T160919Z
UID:10001618-1913817600-1913824800@www.tabletopcincy.com
SUMMARY:Pokémon Saturdays!
DESCRIPTION:Join us each Saturday for Pokémon from 4p-6p. There will be someone on hand to help teach. Open to gamers of all ages!
URL:https://www.tabletopcincy.com/event/pokemon-saturdays/2030-08-24/
LOCATION:Tabletop Cincy\, 4876 Union Center Pavilion\, West Chester\, OH\, 45069\, United States
ATTACH;FMTTYPE=image/jpeg:https://www.tabletopcincy.com/wp-content/uploads/2025/10/February-Events-6.jpg
END:VEVENT
BEGIN:VEVENT
DTSTART;TZID=America/Detroit:20300827T120000
DTEND;TZID=America/Detroit:20300827T130000
DTSTAMP:20260423T091847
CREATED:20260203T145026Z
LAST-MODIFIED:20260203T145026Z
UID:10001340-1914062400-1914066000@www.tabletopcincy.com
SUMMARY:Tuesday Lunch Time Gaming!
DESCRIPTION:Join us each Tuesday afternoon for lunch time gaming!
URL:https://www.tabletopcincy.com/event/tuesday-lunch-time-gaming/2030-08-27/
LOCATION:Tabletop Cincy\, 4876 Union Center Pavilion\, West Chester\, OH\, 45069\, United States
ATTACH;FMTTYPE=image/jpeg:https://www.tabletopcincy.com/wp-content/uploads/2026/02/February-Events.jpg
END:VEVENT
BEGIN:VEVENT
DTSTART;TZID=America/Detroit:20300830T180000
DTEND;TZID=America/Detroit:20300830T210000
DTSTAMP:20260423T091847
CREATED:20251031T195536Z
LAST-MODIFIED:20251031T195536Z
UID:10000523-1914343200-1914354000@www.tabletopcincy.com
SUMMARY:Friday Night Magic!
DESCRIPTION:Join us each Friday for a variety of Friday Night Magic shenanigans. We will be having a variety of different events including Commander\, draft\, and prerelease!
URL:https://www.tabletopcincy.com/event/friday-night-magic/2030-08-30/
LOCATION:Tabletop Cincy\, 4876 Union Center Pavilion\, West Chester\, OH\, 45069\, United States
ATTACH;FMTTYPE=image/png:https://www.tabletopcincy.com/wp-content/uploads/2025/10/Board-Game-Night-1.png
END:VEVENT
BEGIN:VEVENT
DTSTART;TZID=America/Detroit:20300831T160000
DTEND;TZID=America/Detroit:20300831T180000
DTSTAMP:20260423T091847
CREATED:20251031T200340Z
LAST-MODIFIED:20260203T160919Z
UID:10001619-1914422400-1914429600@www.tabletopcincy.com
SUMMARY:Pokémon Saturdays!
DESCRIPTION:Join us each Saturday for Pokémon from 4p-6p. There will be someone on hand to help teach. Open to gamers of all ages!
URL:https://www.tabletopcincy.com/event/pokemon-saturdays/2030-08-31/
LOCATION:Tabletop Cincy\, 4876 Union Center Pavilion\, West Chester\, OH\, 45069\, United States
ATTACH;FMTTYPE=image/jpeg:https://www.tabletopcincy.com/wp-content/uploads/2025/10/February-Events-6.jpg
END:VEVENT
BEGIN:VEVENT
DTSTART;TZID=America/Detroit:20300903T120000
DTEND;TZID=America/Detroit:20300903T130000
DTSTAMP:20260423T091847
CREATED:20260203T145026Z
LAST-MODIFIED:20260203T145026Z
UID:10001341-1914667200-1914670800@www.tabletopcincy.com
SUMMARY:Tuesday Lunch Time Gaming!
DESCRIPTION:Join us each Tuesday afternoon for lunch time gaming!
URL:https://www.tabletopcincy.com/event/tuesday-lunch-time-gaming/2030-09-03/
LOCATION:Tabletop Cincy\, 4876 Union Center Pavilion\, West Chester\, OH\, 45069\, United States
ATTACH;FMTTYPE=image/jpeg:https://www.tabletopcincy.com/wp-content/uploads/2026/02/February-Events.jpg
END:VEVENT
BEGIN:VEVENT
DTSTART;TZID=America/Detroit:20300906T180000
DTEND;TZID=America/Detroit:20300906T210000
DTSTAMP:20260423T091847
CREATED:20251031T195536Z
LAST-MODIFIED:20251031T195536Z
UID:10000524-1914948000-1914958800@www.tabletopcincy.com
SUMMARY:Friday Night Magic!
DESCRIPTION:Join us each Friday for a variety of Friday Night Magic shenanigans. We will be having a variety of different events including Commander\, draft\, and prerelease!
URL:https://www.tabletopcincy.com/event/friday-night-magic/2030-09-06/
LOCATION:Tabletop Cincy\, 4876 Union Center Pavilion\, West Chester\, OH\, 45069\, United States
ATTACH;FMTTYPE=image/png:https://www.tabletopcincy.com/wp-content/uploads/2025/10/Board-Game-Night-1.png
END:VEVENT
BEGIN:VEVENT
DTSTART;TZID=America/Detroit:20300907T160000
DTEND;TZID=America/Detroit:20300907T180000
DTSTAMP:20260423T091847
CREATED:20251031T200340Z
LAST-MODIFIED:20260203T160919Z
UID:10001620-1915027200-1915034400@www.tabletopcincy.com
SUMMARY:Pokémon Saturdays!
DESCRIPTION:Join us each Saturday for Pokémon from 4p-6p. There will be someone on hand to help teach. Open to gamers of all ages!
URL:https://www.tabletopcincy.com/event/pokemon-saturdays/2030-09-07/
LOCATION:Tabletop Cincy\, 4876 Union Center Pavilion\, West Chester\, OH\, 45069\, United States
ATTACH;FMTTYPE=image/jpeg:https://www.tabletopcincy.com/wp-content/uploads/2025/10/February-Events-6.jpg
END:VEVENT
BEGIN:VEVENT
DTSTART;TZID=America/Detroit:20300910T120000
DTEND;TZID=America/Detroit:20300910T130000
DTSTAMP:20260423T091847
CREATED:20260203T145026Z
LAST-MODIFIED:20260203T145026Z
UID:10001342-1915272000-1915275600@www.tabletopcincy.com
SUMMARY:Tuesday Lunch Time Gaming!
DESCRIPTION:Join us each Tuesday afternoon for lunch time gaming!
URL:https://www.tabletopcincy.com/event/tuesday-lunch-time-gaming/2030-09-10/
LOCATION:Tabletop Cincy\, 4876 Union Center Pavilion\, West Chester\, OH\, 45069\, United States
ATTACH;FMTTYPE=image/jpeg:https://www.tabletopcincy.com/wp-content/uploads/2026/02/February-Events.jpg
END:VEVENT
BEGIN:VEVENT
DTSTART;TZID=America/Detroit:20300913T180000
DTEND;TZID=America/Detroit:20300913T210000
DTSTAMP:20260423T091847
CREATED:20251031T195536Z
LAST-MODIFIED:20251031T195536Z
UID:10000525-1915552800-1915563600@www.tabletopcincy.com
SUMMARY:Friday Night Magic!
DESCRIPTION:Join us each Friday for a variety of Friday Night Magic shenanigans. We will be having a variety of different events including Commander\, draft\, and prerelease!
URL:https://www.tabletopcincy.com/event/friday-night-magic/2030-09-13/
LOCATION:Tabletop Cincy\, 4876 Union Center Pavilion\, West Chester\, OH\, 45069\, United States
ATTACH;FMTTYPE=image/png:https://www.tabletopcincy.com/wp-content/uploads/2025/10/Board-Game-Night-1.png
END:VEVENT
BEGIN:VEVENT
DTSTART;TZID=America/Detroit:20300914T160000
DTEND;TZID=America/Detroit:20300914T180000
DTSTAMP:20260423T091847
CREATED:20251031T200340Z
LAST-MODIFIED:20260203T160919Z
UID:10001621-1915632000-1915639200@www.tabletopcincy.com
SUMMARY:Pokémon Saturdays!
DESCRIPTION:Join us each Saturday for Pokémon from 4p-6p. There will be someone on hand to help teach. Open to gamers of all ages!
URL:https://www.tabletopcincy.com/event/pokemon-saturdays/2030-09-14/
LOCATION:Tabletop Cincy\, 4876 Union Center Pavilion\, West Chester\, OH\, 45069\, United States
ATTACH;FMTTYPE=image/jpeg:https://www.tabletopcincy.com/wp-content/uploads/2025/10/February-Events-6.jpg
END:VEVENT
BEGIN:VEVENT
DTSTART;TZID=America/Detroit:20300917T120000
DTEND;TZID=America/Detroit:20300917T130000
DTSTAMP:20260423T091847
CREATED:20260203T145026Z
LAST-MODIFIED:20260203T145026Z
UID:10001343-1915876800-1915880400@www.tabletopcincy.com
SUMMARY:Tuesday Lunch Time Gaming!
DESCRIPTION:Join us each Tuesday afternoon for lunch time gaming!
URL:https://www.tabletopcincy.com/event/tuesday-lunch-time-gaming/2030-09-17/
LOCATION:Tabletop Cincy\, 4876 Union Center Pavilion\, West Chester\, OH\, 45069\, United States
ATTACH;FMTTYPE=image/jpeg:https://www.tabletopcincy.com/wp-content/uploads/2026/02/February-Events.jpg
END:VEVENT
BEGIN:VEVENT
DTSTART;TZID=America/Detroit:20300919T173000
DTEND;TZID=America/Detroit:20300919T210000
DTSTAMP:20260423T091847
CREATED:20260315T224837Z
LAST-MODIFIED:20260315T224837Z
UID:10002238-1916069400-1916082000@www.tabletopcincy.com
SUMMARY:TCG Trade Day!
DESCRIPTION:Join us for TCG Trade Day! Bring your binder\, make some trades\, and join in on the fun with the community! \nThis is an official Pokémon organized play event\, those that provide their Pokémon ID will earn a prize pack!
URL:https://www.tabletopcincy.com/event/tcg-trade-day-3/2030-09-19/
LOCATION:Tabletop Cincy\, 4876 Union Center Pavilion\, West Chester\, OH\, 45069\, United States
ATTACH;FMTTYPE=image/jpeg:https://www.tabletopcincy.com/wp-content/uploads/2026/03/TRADE-DAY-3.jpg
END:VEVENT
BEGIN:VEVENT
DTSTART;TZID=America/Detroit:20300920T180000
DTEND;TZID=America/Detroit:20300920T210000
DTSTAMP:20260423T091847
CREATED:20251031T195536Z
LAST-MODIFIED:20251031T195536Z
UID:10000526-1916157600-1916168400@www.tabletopcincy.com
SUMMARY:Friday Night Magic!
DESCRIPTION:Join us each Friday for a variety of Friday Night Magic shenanigans. We will be having a variety of different events including Commander\, draft\, and prerelease!
URL:https://www.tabletopcincy.com/event/friday-night-magic/2030-09-20/
LOCATION:Tabletop Cincy\, 4876 Union Center Pavilion\, West Chester\, OH\, 45069\, United States
ATTACH;FMTTYPE=image/png:https://www.tabletopcincy.com/wp-content/uploads/2025/10/Board-Game-Night-1.png
END:VEVENT
BEGIN:VEVENT
DTSTART;TZID=America/Detroit:20300921T160000
DTEND;TZID=America/Detroit:20300921T180000
DTSTAMP:20260423T091847
CREATED:20251031T200340Z
LAST-MODIFIED:20260203T160919Z
UID:10001622-1916236800-1916244000@www.tabletopcincy.com
SUMMARY:Pokémon Saturdays!
DESCRIPTION:Join us each Saturday for Pokémon from 4p-6p. There will be someone on hand to help teach. Open to gamers of all ages!
URL:https://www.tabletopcincy.com/event/pokemon-saturdays/2030-09-21/
LOCATION:Tabletop Cincy\, 4876 Union Center Pavilion\, West Chester\, OH\, 45069\, United States
ATTACH;FMTTYPE=image/jpeg:https://www.tabletopcincy.com/wp-content/uploads/2025/10/February-Events-6.jpg
END:VEVENT
BEGIN:VEVENT
DTSTART;TZID=America/Detroit:20300924T120000
DTEND;TZID=America/Detroit:20300924T130000
DTSTAMP:20260423T091847
CREATED:20260203T145026Z
LAST-MODIFIED:20260203T145026Z
UID:10001344-1916481600-1916485200@www.tabletopcincy.com
SUMMARY:Tuesday Lunch Time Gaming!
DESCRIPTION:Join us each Tuesday afternoon for lunch time gaming!
URL:https://www.tabletopcincy.com/event/tuesday-lunch-time-gaming/2030-09-24/
LOCATION:Tabletop Cincy\, 4876 Union Center Pavilion\, West Chester\, OH\, 45069\, United States
ATTACH;FMTTYPE=image/jpeg:https://www.tabletopcincy.com/wp-content/uploads/2026/02/February-Events.jpg
END:VEVENT
BEGIN:VEVENT
DTSTART;TZID=America/Detroit:20300927T180000
DTEND;TZID=America/Detroit:20300927T210000
DTSTAMP:20260423T091847
CREATED:20251031T195536Z
LAST-MODIFIED:20251031T195536Z
UID:10000527-1916762400-1916773200@www.tabletopcincy.com
SUMMARY:Friday Night Magic!
DESCRIPTION:Join us each Friday for a variety of Friday Night Magic shenanigans. We will be having a variety of different events including Commander\, draft\, and prerelease!
URL:https://www.tabletopcincy.com/event/friday-night-magic/2030-09-27/
LOCATION:Tabletop Cincy\, 4876 Union Center Pavilion\, West Chester\, OH\, 45069\, United States
ATTACH;FMTTYPE=image/png:https://www.tabletopcincy.com/wp-content/uploads/2025/10/Board-Game-Night-1.png
END:VEVENT
BEGIN:VEVENT
DTSTART;TZID=America/Detroit:20300928T160000
DTEND;TZID=America/Detroit:20300928T180000
DTSTAMP:20260423T091847
CREATED:20251031T200340Z
LAST-MODIFIED:20260203T160919Z
UID:10001623-1916841600-1916848800@www.tabletopcincy.com
SUMMARY:Pokémon Saturdays!
DESCRIPTION:Join us each Saturday for Pokémon from 4p-6p. There will be someone on hand to help teach. Open to gamers of all ages!
URL:https://www.tabletopcincy.com/event/pokemon-saturdays/2030-09-28/
LOCATION:Tabletop Cincy\, 4876 Union Center Pavilion\, West Chester\, OH\, 45069\, United States
ATTACH;FMTTYPE=image/jpeg:https://www.tabletopcincy.com/wp-content/uploads/2025/10/February-Events-6.jpg
END:VEVENT
BEGIN:VEVENT
DTSTART;TZID=America/Detroit:20301001T120000
DTEND;TZID=America/Detroit:20301001T130000
DTSTAMP:20260423T091847
CREATED:20260203T145026Z
LAST-MODIFIED:20260203T145026Z
UID:10001345-1917086400-1917090000@www.tabletopcincy.com
SUMMARY:Tuesday Lunch Time Gaming!
DESCRIPTION:Join us each Tuesday afternoon for lunch time gaming!
URL:https://www.tabletopcincy.com/event/tuesday-lunch-time-gaming/2030-10-01/
LOCATION:Tabletop Cincy\, 4876 Union Center Pavilion\, West Chester\, OH\, 45069\, United States
ATTACH;FMTTYPE=image/jpeg:https://www.tabletopcincy.com/wp-content/uploads/2026/02/February-Events.jpg
END:VEVENT
END:VCALENDAR