BEGIN:VCALENDAR
VERSION:2.0
PRODID:-//Tabletop Cincy - ECPv6.15.18//NONSGML v1.0//EN
CALSCALE:GREGORIAN
METHOD:PUBLISH
X-WR-CALNAME:Tabletop Cincy
X-ORIGINAL-URL:https://www.tabletopcincy.com
X-WR-CALDESC:Events for Tabletop Cincy
REFRESH-INTERVAL;VALUE=DURATION:PT1H
X-Robots-Tag:noindex
X-PUBLISHED-TTL:PT1H
BEGIN:VTIMEZONE
TZID:America/Detroit
BEGIN:DAYLIGHT
TZOFFSETFROM:-0500
TZOFFSETTO:-0400
TZNAME:EDT
DTSTART:20290311T070000
END:DAYLIGHT
BEGIN:STANDARD
TZOFFSETFROM:-0400
TZOFFSETTO:-0500
TZNAME:EST
DTSTART:20291104T060000
END:STANDARD
BEGIN:DAYLIGHT
TZOFFSETFROM:-0500
TZOFFSETTO:-0400
TZNAME:EDT
DTSTART:20300310T070000
END:DAYLIGHT
BEGIN:STANDARD
TZOFFSETFROM:-0400
TZOFFSETTO:-0500
TZNAME:EST
DTSTART:20301103T060000
END:STANDARD
BEGIN:DAYLIGHT
TZOFFSETFROM:-0500
TZOFFSETTO:-0400
TZNAME:EDT
DTSTART:20310309T070000
END:DAYLIGHT
BEGIN:STANDARD
TZOFFSETFROM:-0400
TZOFFSETTO:-0500
TZNAME:EST
DTSTART:20311102T060000
END:STANDARD
END:VTIMEZONE
BEGIN:VEVENT
DTSTART;TZID=America/Detroit:20300920T180000
DTEND;TZID=America/Detroit:20300920T210000
DTSTAMP:20260423T121110
CREATED:20251031T195536Z
LAST-MODIFIED:20251031T195536Z
UID:10000526-1916157600-1916168400@www.tabletopcincy.com
SUMMARY:Friday Night Magic!
DESCRIPTION:Join us each Friday for a variety of Friday Night Magic shenanigans. We will be having a variety of different events including Commander\, draft\, and prerelease!
URL:https://www.tabletopcincy.com/event/friday-night-magic/2030-09-20/
LOCATION:Tabletop Cincy\, 4876 Union Center Pavilion\, West Chester\, OH\, 45069\, United States
ATTACH;FMTTYPE=image/png:https://www.tabletopcincy.com/wp-content/uploads/2025/10/Board-Game-Night-1.png
END:VEVENT
BEGIN:VEVENT
DTSTART;TZID=America/Detroit:20300921T160000
DTEND;TZID=America/Detroit:20300921T180000
DTSTAMP:20260423T121110
CREATED:20251031T200340Z
LAST-MODIFIED:20260203T160919Z
UID:10001622-1916236800-1916244000@www.tabletopcincy.com
SUMMARY:Pokémon Saturdays!
DESCRIPTION:Join us each Saturday for Pokémon from 4p-6p. There will be someone on hand to help teach. Open to gamers of all ages!
URL:https://www.tabletopcincy.com/event/pokemon-saturdays/2030-09-21/
LOCATION:Tabletop Cincy\, 4876 Union Center Pavilion\, West Chester\, OH\, 45069\, United States
ATTACH;FMTTYPE=image/jpeg:https://www.tabletopcincy.com/wp-content/uploads/2025/10/February-Events-6.jpg
END:VEVENT
BEGIN:VEVENT
DTSTART;TZID=America/Detroit:20300924T120000
DTEND;TZID=America/Detroit:20300924T130000
DTSTAMP:20260423T121110
CREATED:20260203T145026Z
LAST-MODIFIED:20260203T145026Z
UID:10001344-1916481600-1916485200@www.tabletopcincy.com
SUMMARY:Tuesday Lunch Time Gaming!
DESCRIPTION:Join us each Tuesday afternoon for lunch time gaming!
URL:https://www.tabletopcincy.com/event/tuesday-lunch-time-gaming/2030-09-24/
LOCATION:Tabletop Cincy\, 4876 Union Center Pavilion\, West Chester\, OH\, 45069\, United States
ATTACH;FMTTYPE=image/jpeg:https://www.tabletopcincy.com/wp-content/uploads/2026/02/February-Events.jpg
END:VEVENT
BEGIN:VEVENT
DTSTART;TZID=America/Detroit:20300927T180000
DTEND;TZID=America/Detroit:20300927T210000
DTSTAMP:20260423T121110
CREATED:20251031T195536Z
LAST-MODIFIED:20251031T195536Z
UID:10000527-1916762400-1916773200@www.tabletopcincy.com
SUMMARY:Friday Night Magic!
DESCRIPTION:Join us each Friday for a variety of Friday Night Magic shenanigans. We will be having a variety of different events including Commander\, draft\, and prerelease!
URL:https://www.tabletopcincy.com/event/friday-night-magic/2030-09-27/
LOCATION:Tabletop Cincy\, 4876 Union Center Pavilion\, West Chester\, OH\, 45069\, United States
ATTACH;FMTTYPE=image/png:https://www.tabletopcincy.com/wp-content/uploads/2025/10/Board-Game-Night-1.png
END:VEVENT
BEGIN:VEVENT
DTSTART;TZID=America/Detroit:20300928T160000
DTEND;TZID=America/Detroit:20300928T180000
DTSTAMP:20260423T121110
CREATED:20251031T200340Z
LAST-MODIFIED:20260203T160919Z
UID:10001623-1916841600-1916848800@www.tabletopcincy.com
SUMMARY:Pokémon Saturdays!
DESCRIPTION:Join us each Saturday for Pokémon from 4p-6p. There will be someone on hand to help teach. Open to gamers of all ages!
URL:https://www.tabletopcincy.com/event/pokemon-saturdays/2030-09-28/
LOCATION:Tabletop Cincy\, 4876 Union Center Pavilion\, West Chester\, OH\, 45069\, United States
ATTACH;FMTTYPE=image/jpeg:https://www.tabletopcincy.com/wp-content/uploads/2025/10/February-Events-6.jpg
END:VEVENT
BEGIN:VEVENT
DTSTART;TZID=America/Detroit:20301001T120000
DTEND;TZID=America/Detroit:20301001T130000
DTSTAMP:20260423T121110
CREATED:20260203T145026Z
LAST-MODIFIED:20260203T145026Z
UID:10001345-1917086400-1917090000@www.tabletopcincy.com
SUMMARY:Tuesday Lunch Time Gaming!
DESCRIPTION:Join us each Tuesday afternoon for lunch time gaming!
URL:https://www.tabletopcincy.com/event/tuesday-lunch-time-gaming/2030-10-01/
LOCATION:Tabletop Cincy\, 4876 Union Center Pavilion\, West Chester\, OH\, 45069\, United States
ATTACH;FMTTYPE=image/jpeg:https://www.tabletopcincy.com/wp-content/uploads/2026/02/February-Events.jpg
END:VEVENT
BEGIN:VEVENT
DTSTART;TZID=America/Detroit:20301004T180000
DTEND;TZID=America/Detroit:20301004T210000
DTSTAMP:20260423T121110
CREATED:20251031T195536Z
LAST-MODIFIED:20251031T195536Z
UID:10000528-1917367200-1917378000@www.tabletopcincy.com
SUMMARY:Friday Night Magic!
DESCRIPTION:Join us each Friday for a variety of Friday Night Magic shenanigans. We will be having a variety of different events including Commander\, draft\, and prerelease!
URL:https://www.tabletopcincy.com/event/friday-night-magic/2030-10-04/
LOCATION:Tabletop Cincy\, 4876 Union Center Pavilion\, West Chester\, OH\, 45069\, United States
ATTACH;FMTTYPE=image/png:https://www.tabletopcincy.com/wp-content/uploads/2025/10/Board-Game-Night-1.png
END:VEVENT
BEGIN:VEVENT
DTSTART;TZID=America/Detroit:20301005T160000
DTEND;TZID=America/Detroit:20301005T180000
DTSTAMP:20260423T121110
CREATED:20251031T200340Z
LAST-MODIFIED:20260203T160919Z
UID:10001624-1917446400-1917453600@www.tabletopcincy.com
SUMMARY:Pokémon Saturdays!
DESCRIPTION:Join us each Saturday for Pokémon from 4p-6p. There will be someone on hand to help teach. Open to gamers of all ages!
URL:https://www.tabletopcincy.com/event/pokemon-saturdays/2030-10-05/
LOCATION:Tabletop Cincy\, 4876 Union Center Pavilion\, West Chester\, OH\, 45069\, United States
ATTACH;FMTTYPE=image/jpeg:https://www.tabletopcincy.com/wp-content/uploads/2025/10/February-Events-6.jpg
END:VEVENT
BEGIN:VEVENT
DTSTART;TZID=America/Detroit:20301008T120000
DTEND;TZID=America/Detroit:20301008T130000
DTSTAMP:20260423T121110
CREATED:20260203T145026Z
LAST-MODIFIED:20260203T145026Z
UID:10001346-1917691200-1917694800@www.tabletopcincy.com
SUMMARY:Tuesday Lunch Time Gaming!
DESCRIPTION:Join us each Tuesday afternoon for lunch time gaming!
URL:https://www.tabletopcincy.com/event/tuesday-lunch-time-gaming/2030-10-08/
LOCATION:Tabletop Cincy\, 4876 Union Center Pavilion\, West Chester\, OH\, 45069\, United States
ATTACH;FMTTYPE=image/jpeg:https://www.tabletopcincy.com/wp-content/uploads/2026/02/February-Events.jpg
END:VEVENT
BEGIN:VEVENT
DTSTART;TZID=America/Detroit:20301011T180000
DTEND;TZID=America/Detroit:20301011T210000
DTSTAMP:20260423T121110
CREATED:20251031T195536Z
LAST-MODIFIED:20251031T195536Z
UID:10000529-1917972000-1917982800@www.tabletopcincy.com
SUMMARY:Friday Night Magic!
DESCRIPTION:Join us each Friday for a variety of Friday Night Magic shenanigans. We will be having a variety of different events including Commander\, draft\, and prerelease!
URL:https://www.tabletopcincy.com/event/friday-night-magic/2030-10-11/
LOCATION:Tabletop Cincy\, 4876 Union Center Pavilion\, West Chester\, OH\, 45069\, United States
ATTACH;FMTTYPE=image/png:https://www.tabletopcincy.com/wp-content/uploads/2025/10/Board-Game-Night-1.png
END:VEVENT
BEGIN:VEVENT
DTSTART;TZID=America/Detroit:20301012T160000
DTEND;TZID=America/Detroit:20301012T180000
DTSTAMP:20260423T121110
CREATED:20251031T200340Z
LAST-MODIFIED:20260203T160919Z
UID:10001625-1918051200-1918058400@www.tabletopcincy.com
SUMMARY:Pokémon Saturdays!
DESCRIPTION:Join us each Saturday for Pokémon from 4p-6p. There will be someone on hand to help teach. Open to gamers of all ages!
URL:https://www.tabletopcincy.com/event/pokemon-saturdays/2030-10-12/
LOCATION:Tabletop Cincy\, 4876 Union Center Pavilion\, West Chester\, OH\, 45069\, United States
ATTACH;FMTTYPE=image/jpeg:https://www.tabletopcincy.com/wp-content/uploads/2025/10/February-Events-6.jpg
END:VEVENT
BEGIN:VEVENT
DTSTART;TZID=America/Detroit:20301015T120000
DTEND;TZID=America/Detroit:20301015T130000
DTSTAMP:20260423T121110
CREATED:20260203T145026Z
LAST-MODIFIED:20260203T145026Z
UID:10001347-1918296000-1918299600@www.tabletopcincy.com
SUMMARY:Tuesday Lunch Time Gaming!
DESCRIPTION:Join us each Tuesday afternoon for lunch time gaming!
URL:https://www.tabletopcincy.com/event/tuesday-lunch-time-gaming/2030-10-15/
LOCATION:Tabletop Cincy\, 4876 Union Center Pavilion\, West Chester\, OH\, 45069\, United States
ATTACH;FMTTYPE=image/jpeg:https://www.tabletopcincy.com/wp-content/uploads/2026/02/February-Events.jpg
END:VEVENT
BEGIN:VEVENT
DTSTART;TZID=America/Detroit:20301017T173000
DTEND;TZID=America/Detroit:20301017T210000
DTSTAMP:20260423T121110
CREATED:20260315T224837Z
LAST-MODIFIED:20260315T224837Z
UID:10002239-1918488600-1918501200@www.tabletopcincy.com
SUMMARY:TCG Trade Day!
DESCRIPTION:Join us for TCG Trade Day! Bring your binder\, make some trades\, and join in on the fun with the community! \nThis is an official Pokémon organized play event\, those that provide their Pokémon ID will earn a prize pack!
URL:https://www.tabletopcincy.com/event/tcg-trade-day-3/2030-10-17/
LOCATION:Tabletop Cincy\, 4876 Union Center Pavilion\, West Chester\, OH\, 45069\, United States
ATTACH;FMTTYPE=image/jpeg:https://www.tabletopcincy.com/wp-content/uploads/2026/03/TRADE-DAY-3.jpg
END:VEVENT
BEGIN:VEVENT
DTSTART;TZID=America/Detroit:20301018T180000
DTEND;TZID=America/Detroit:20301018T210000
DTSTAMP:20260423T121110
CREATED:20251031T195536Z
LAST-MODIFIED:20251031T195536Z
UID:10000530-1918576800-1918587600@www.tabletopcincy.com
SUMMARY:Friday Night Magic!
DESCRIPTION:Join us each Friday for a variety of Friday Night Magic shenanigans. We will be having a variety of different events including Commander\, draft\, and prerelease!
URL:https://www.tabletopcincy.com/event/friday-night-magic/2030-10-18/
LOCATION:Tabletop Cincy\, 4876 Union Center Pavilion\, West Chester\, OH\, 45069\, United States
ATTACH;FMTTYPE=image/png:https://www.tabletopcincy.com/wp-content/uploads/2025/10/Board-Game-Night-1.png
END:VEVENT
BEGIN:VEVENT
DTSTART;TZID=America/Detroit:20301019T160000
DTEND;TZID=America/Detroit:20301019T180000
DTSTAMP:20260423T121110
CREATED:20251031T200340Z
LAST-MODIFIED:20260203T160919Z
UID:10001626-1918656000-1918663200@www.tabletopcincy.com
SUMMARY:Pokémon Saturdays!
DESCRIPTION:Join us each Saturday for Pokémon from 4p-6p. There will be someone on hand to help teach. Open to gamers of all ages!
URL:https://www.tabletopcincy.com/event/pokemon-saturdays/2030-10-19/
LOCATION:Tabletop Cincy\, 4876 Union Center Pavilion\, West Chester\, OH\, 45069\, United States
ATTACH;FMTTYPE=image/jpeg:https://www.tabletopcincy.com/wp-content/uploads/2025/10/February-Events-6.jpg
END:VEVENT
BEGIN:VEVENT
DTSTART;TZID=America/Detroit:20301022T120000
DTEND;TZID=America/Detroit:20301022T130000
DTSTAMP:20260423T121110
CREATED:20260203T145026Z
LAST-MODIFIED:20260203T145026Z
UID:10001348-1918900800-1918904400@www.tabletopcincy.com
SUMMARY:Tuesday Lunch Time Gaming!
DESCRIPTION:Join us each Tuesday afternoon for lunch time gaming!
URL:https://www.tabletopcincy.com/event/tuesday-lunch-time-gaming/2030-10-22/
LOCATION:Tabletop Cincy\, 4876 Union Center Pavilion\, West Chester\, OH\, 45069\, United States
ATTACH;FMTTYPE=image/jpeg:https://www.tabletopcincy.com/wp-content/uploads/2026/02/February-Events.jpg
END:VEVENT
BEGIN:VEVENT
DTSTART;TZID=America/Detroit:20301025T180000
DTEND;TZID=America/Detroit:20301025T210000
DTSTAMP:20260423T121110
CREATED:20251031T195536Z
LAST-MODIFIED:20251031T195536Z
UID:10000531-1919181600-1919192400@www.tabletopcincy.com
SUMMARY:Friday Night Magic!
DESCRIPTION:Join us each Friday for a variety of Friday Night Magic shenanigans. We will be having a variety of different events including Commander\, draft\, and prerelease!
URL:https://www.tabletopcincy.com/event/friday-night-magic/2030-10-25/
LOCATION:Tabletop Cincy\, 4876 Union Center Pavilion\, West Chester\, OH\, 45069\, United States
ATTACH;FMTTYPE=image/png:https://www.tabletopcincy.com/wp-content/uploads/2025/10/Board-Game-Night-1.png
END:VEVENT
BEGIN:VEVENT
DTSTART;TZID=America/Detroit:20301026T160000
DTEND;TZID=America/Detroit:20301026T180000
DTSTAMP:20260423T121110
CREATED:20251031T200340Z
LAST-MODIFIED:20260203T160919Z
UID:10001627-1919260800-1919268000@www.tabletopcincy.com
SUMMARY:Pokémon Saturdays!
DESCRIPTION:Join us each Saturday for Pokémon from 4p-6p. There will be someone on hand to help teach. Open to gamers of all ages!
URL:https://www.tabletopcincy.com/event/pokemon-saturdays/2030-10-26/
LOCATION:Tabletop Cincy\, 4876 Union Center Pavilion\, West Chester\, OH\, 45069\, United States
ATTACH;FMTTYPE=image/jpeg:https://www.tabletopcincy.com/wp-content/uploads/2025/10/February-Events-6.jpg
END:VEVENT
BEGIN:VEVENT
DTSTART;TZID=America/Detroit:20301029T120000
DTEND;TZID=America/Detroit:20301029T130000
DTSTAMP:20260423T121110
CREATED:20260203T145026Z
LAST-MODIFIED:20260203T145026Z
UID:10001349-1919505600-1919509200@www.tabletopcincy.com
SUMMARY:Tuesday Lunch Time Gaming!
DESCRIPTION:Join us each Tuesday afternoon for lunch time gaming!
URL:https://www.tabletopcincy.com/event/tuesday-lunch-time-gaming/2030-10-29/
LOCATION:Tabletop Cincy\, 4876 Union Center Pavilion\, West Chester\, OH\, 45069\, United States
ATTACH;FMTTYPE=image/jpeg:https://www.tabletopcincy.com/wp-content/uploads/2026/02/February-Events.jpg
END:VEVENT
BEGIN:VEVENT
DTSTART;TZID=America/Detroit:20301102T160000
DTEND;TZID=America/Detroit:20301102T180000
DTSTAMP:20260423T121110
CREATED:20251031T200340Z
LAST-MODIFIED:20260203T160919Z
UID:10001628-1919865600-1919872800@www.tabletopcincy.com
SUMMARY:Pokémon Saturdays!
DESCRIPTION:Join us each Saturday for Pokémon from 4p-6p. There will be someone on hand to help teach. Open to gamers of all ages!
URL:https://www.tabletopcincy.com/event/pokemon-saturdays/2030-11-02/
LOCATION:Tabletop Cincy\, 4876 Union Center Pavilion\, West Chester\, OH\, 45069\, United States
ATTACH;FMTTYPE=image/jpeg:https://www.tabletopcincy.com/wp-content/uploads/2025/10/February-Events-6.jpg
END:VEVENT
BEGIN:VEVENT
DTSTART;TZID=America/Detroit:20301105T120000
DTEND;TZID=America/Detroit:20301105T130000
DTSTAMP:20260423T121110
CREATED:20260203T145026Z
LAST-MODIFIED:20260203T145026Z
UID:10001350-1920110400-1920114000@www.tabletopcincy.com
SUMMARY:Tuesday Lunch Time Gaming!
DESCRIPTION:Join us each Tuesday afternoon for lunch time gaming!
URL:https://www.tabletopcincy.com/event/tuesday-lunch-time-gaming/2030-11-05/
LOCATION:Tabletop Cincy\, 4876 Union Center Pavilion\, West Chester\, OH\, 45069\, United States
ATTACH;FMTTYPE=image/jpeg:https://www.tabletopcincy.com/wp-content/uploads/2026/02/February-Events.jpg
END:VEVENT
BEGIN:VEVENT
DTSTART;TZID=America/Detroit:20301109T160000
DTEND;TZID=America/Detroit:20301109T180000
DTSTAMP:20260423T121110
CREATED:20251031T200340Z
LAST-MODIFIED:20260203T160919Z
UID:10001629-1920470400-1920477600@www.tabletopcincy.com
SUMMARY:Pokémon Saturdays!
DESCRIPTION:Join us each Saturday for Pokémon from 4p-6p. There will be someone on hand to help teach. Open to gamers of all ages!
URL:https://www.tabletopcincy.com/event/pokemon-saturdays/2030-11-09/
LOCATION:Tabletop Cincy\, 4876 Union Center Pavilion\, West Chester\, OH\, 45069\, United States
ATTACH;FMTTYPE=image/jpeg:https://www.tabletopcincy.com/wp-content/uploads/2025/10/February-Events-6.jpg
END:VEVENT
BEGIN:VEVENT
DTSTART;TZID=America/Detroit:20301112T120000
DTEND;TZID=America/Detroit:20301112T130000
DTSTAMP:20260423T121110
CREATED:20260203T145026Z
LAST-MODIFIED:20260203T145026Z
UID:10001351-1920715200-1920718800@www.tabletopcincy.com
SUMMARY:Tuesday Lunch Time Gaming!
DESCRIPTION:Join us each Tuesday afternoon for lunch time gaming!
URL:https://www.tabletopcincy.com/event/tuesday-lunch-time-gaming/2030-11-12/
LOCATION:Tabletop Cincy\, 4876 Union Center Pavilion\, West Chester\, OH\, 45069\, United States
ATTACH;FMTTYPE=image/jpeg:https://www.tabletopcincy.com/wp-content/uploads/2026/02/February-Events.jpg
END:VEVENT
BEGIN:VEVENT
DTSTART;TZID=America/Detroit:20301116T160000
DTEND;TZID=America/Detroit:20301116T180000
DTSTAMP:20260423T121110
CREATED:20251031T200340Z
LAST-MODIFIED:20260203T160919Z
UID:10001630-1921075200-1921082400@www.tabletopcincy.com
SUMMARY:Pokémon Saturdays!
DESCRIPTION:Join us each Saturday for Pokémon from 4p-6p. There will be someone on hand to help teach. Open to gamers of all ages!
URL:https://www.tabletopcincy.com/event/pokemon-saturdays/2030-11-16/
LOCATION:Tabletop Cincy\, 4876 Union Center Pavilion\, West Chester\, OH\, 45069\, United States
ATTACH;FMTTYPE=image/jpeg:https://www.tabletopcincy.com/wp-content/uploads/2025/10/February-Events-6.jpg
END:VEVENT
BEGIN:VEVENT
DTSTART;TZID=America/Detroit:20301119T120000
DTEND;TZID=America/Detroit:20301119T130000
DTSTAMP:20260423T121110
CREATED:20260203T145026Z
LAST-MODIFIED:20260203T145026Z
UID:10001352-1921320000-1921323600@www.tabletopcincy.com
SUMMARY:Tuesday Lunch Time Gaming!
DESCRIPTION:Join us each Tuesday afternoon for lunch time gaming!
URL:https://www.tabletopcincy.com/event/tuesday-lunch-time-gaming/2030-11-19/
LOCATION:Tabletop Cincy\, 4876 Union Center Pavilion\, West Chester\, OH\, 45069\, United States
ATTACH;FMTTYPE=image/jpeg:https://www.tabletopcincy.com/wp-content/uploads/2026/02/February-Events.jpg
END:VEVENT
BEGIN:VEVENT
DTSTART;TZID=America/Detroit:20301121T173000
DTEND;TZID=America/Detroit:20301121T210000
DTSTAMP:20260423T121110
CREATED:20260315T224837Z
LAST-MODIFIED:20260315T224837Z
UID:10002240-1921512600-1921525200@www.tabletopcincy.com
SUMMARY:TCG Trade Day!
DESCRIPTION:Join us for TCG Trade Day! Bring your binder\, make some trades\, and join in on the fun with the community! \nThis is an official Pokémon organized play event\, those that provide their Pokémon ID will earn a prize pack!
URL:https://www.tabletopcincy.com/event/tcg-trade-day-3/2030-11-21/
LOCATION:Tabletop Cincy\, 4876 Union Center Pavilion\, West Chester\, OH\, 45069\, United States
ATTACH;FMTTYPE=image/jpeg:https://www.tabletopcincy.com/wp-content/uploads/2026/03/TRADE-DAY-3.jpg
END:VEVENT
BEGIN:VEVENT
DTSTART;TZID=America/Detroit:20301123T160000
DTEND;TZID=America/Detroit:20301123T180000
DTSTAMP:20260423T121110
CREATED:20251031T200340Z
LAST-MODIFIED:20260203T160919Z
UID:10001631-1921680000-1921687200@www.tabletopcincy.com
SUMMARY:Pokémon Saturdays!
DESCRIPTION:Join us each Saturday for Pokémon from 4p-6p. There will be someone on hand to help teach. Open to gamers of all ages!
URL:https://www.tabletopcincy.com/event/pokemon-saturdays/2030-11-23/
LOCATION:Tabletop Cincy\, 4876 Union Center Pavilion\, West Chester\, OH\, 45069\, United States
ATTACH;FMTTYPE=image/jpeg:https://www.tabletopcincy.com/wp-content/uploads/2025/10/February-Events-6.jpg
END:VEVENT
BEGIN:VEVENT
DTSTART;TZID=America/Detroit:20301126T120000
DTEND;TZID=America/Detroit:20301126T130000
DTSTAMP:20260423T121110
CREATED:20260203T145026Z
LAST-MODIFIED:20260203T145026Z
UID:10001353-1921924800-1921928400@www.tabletopcincy.com
SUMMARY:Tuesday Lunch Time Gaming!
DESCRIPTION:Join us each Tuesday afternoon for lunch time gaming!
URL:https://www.tabletopcincy.com/event/tuesday-lunch-time-gaming/2030-11-26/
LOCATION:Tabletop Cincy\, 4876 Union Center Pavilion\, West Chester\, OH\, 45069\, United States
ATTACH;FMTTYPE=image/jpeg:https://www.tabletopcincy.com/wp-content/uploads/2026/02/February-Events.jpg
END:VEVENT
BEGIN:VEVENT
DTSTART;TZID=America/Detroit:20301130T160000
DTEND;TZID=America/Detroit:20301130T180000
DTSTAMP:20260423T121110
CREATED:20251031T200340Z
LAST-MODIFIED:20260203T160919Z
UID:10001632-1922284800-1922292000@www.tabletopcincy.com
SUMMARY:Pokémon Saturdays!
DESCRIPTION:Join us each Saturday for Pokémon from 4p-6p. There will be someone on hand to help teach. Open to gamers of all ages!
URL:https://www.tabletopcincy.com/event/pokemon-saturdays/2030-11-30/
LOCATION:Tabletop Cincy\, 4876 Union Center Pavilion\, West Chester\, OH\, 45069\, United States
ATTACH;FMTTYPE=image/jpeg:https://www.tabletopcincy.com/wp-content/uploads/2025/10/February-Events-6.jpg
END:VEVENT
BEGIN:VEVENT
DTSTART;TZID=America/Detroit:20301203T120000
DTEND;TZID=America/Detroit:20301203T130000
DTSTAMP:20260423T121110
CREATED:20260203T145026Z
LAST-MODIFIED:20260203T145026Z
UID:10001354-1922529600-1922533200@www.tabletopcincy.com
SUMMARY:Tuesday Lunch Time Gaming!
DESCRIPTION:Join us each Tuesday afternoon for lunch time gaming!
URL:https://www.tabletopcincy.com/event/tuesday-lunch-time-gaming/2030-12-03/
LOCATION:Tabletop Cincy\, 4876 Union Center Pavilion\, West Chester\, OH\, 45069\, United States
ATTACH;FMTTYPE=image/jpeg:https://www.tabletopcincy.com/wp-content/uploads/2026/02/February-Events.jpg
END:VEVENT
END:VCALENDAR