BEGIN:VCALENDAR
VERSION:2.0
PRODID:-//Tabletop Cincy - ECPv6.15.18//NONSGML v1.0//EN
CALSCALE:GREGORIAN
METHOD:PUBLISH
X-ORIGINAL-URL:https://www.tabletopcincy.com
X-WR-CALDESC:Events for Tabletop Cincy
REFRESH-INTERVAL;VALUE=DURATION:PT1H
X-Robots-Tag:noindex
X-PUBLISHED-TTL:PT1H
BEGIN:VTIMEZONE
TZID:America/Detroit
BEGIN:DAYLIGHT
TZOFFSETFROM:-0500
TZOFFSETTO:-0400
TZNAME:EDT
DTSTART:20260308T070000
END:DAYLIGHT
BEGIN:STANDARD
TZOFFSETFROM:-0400
TZOFFSETTO:-0500
TZNAME:EST
DTSTART:20261101T060000
END:STANDARD
BEGIN:DAYLIGHT
TZOFFSETFROM:-0500
TZOFFSETTO:-0400
TZNAME:EDT
DTSTART:20270314T070000
END:DAYLIGHT
BEGIN:STANDARD
TZOFFSETFROM:-0400
TZOFFSETTO:-0500
TZNAME:EST
DTSTART:20271107T060000
END:STANDARD
BEGIN:DAYLIGHT
TZOFFSETFROM:-0500
TZOFFSETTO:-0400
TZNAME:EDT
DTSTART:20280312T070000
END:DAYLIGHT
BEGIN:STANDARD
TZOFFSETFROM:-0400
TZOFFSETTO:-0500
TZNAME:EST
DTSTART:20281105T060000
END:STANDARD
END:VTIMEZONE
BEGIN:VEVENT
DTSTART;TZID=America/Detroit:20270202T180000
DTEND;TZID=America/Detroit:20270202T210000
DTSTAMP:20260420T032430
CREATED:20260330T191705Z
LAST-MODIFIED:20260330T191705Z
UID:10002291-1801591200-1801602000@www.tabletopcincy.com
SUMMARY:Game Night w/ Giveaway!
DESCRIPTION:🎲 Big Update for Game Night! 🎲 \nStarting in April\, our weekly Game Night is moving to Tuesday nights from 6PM–9PM! \nTo celebrate\, we’re doing something extra fun all month long…\n🎁 We’re giving away a game EVERY Tuesday in April! 🎁 \nEveryone who joins us will receive a raffle ticket\, and at the end of the night we’ll draw a winner to take home a game! \nCome hang out\, play something new\, and maybe leave with a new favorite for your collection. See you Tuesday nights!
URL:https://www.tabletopcincy.com/event/game-night-w-giveaway/2027-02-02/
LOCATION:Tabletop Cincy\, 4876 Union Center Pavilion\, West Chester\, OH\, 45069\, United States
ATTACH;FMTTYPE=image/jpeg:https://www.tabletopcincy.com/wp-content/uploads/2026/03/Game-Night.jpg
END:VEVENT
BEGIN:VEVENT
DTSTART;TZID=America/Detroit:20270205T180000
DTEND;TZID=America/Detroit:20270205T210000
DTSTAMP:20260420T032430
CREATED:20251031T195536Z
LAST-MODIFIED:20251031T195536Z
UID:10000337-1801850400-1801861200@www.tabletopcincy.com
SUMMARY:Friday Night Magic!
DESCRIPTION:Join us each Friday for a variety of Friday Night Magic shenanigans. We will be having a variety of different events including Commander\, draft\, and prerelease!
URL:https://www.tabletopcincy.com/event/friday-night-magic/2027-02-05/
LOCATION:Tabletop Cincy\, 4876 Union Center Pavilion\, West Chester\, OH\, 45069\, United States
ATTACH;FMTTYPE=image/png:https://www.tabletopcincy.com/wp-content/uploads/2025/10/Board-Game-Night-1.png
END:VEVENT
BEGIN:VEVENT
DTSTART;TZID=America/Detroit:20270206T160000
DTEND;TZID=America/Detroit:20270206T180000
DTSTAMP:20260420T032430
CREATED:20251031T200340Z
LAST-MODIFIED:20260203T160919Z
UID:10001433-1801929600-1801936800@www.tabletopcincy.com
SUMMARY:Pokémon Saturdays!
DESCRIPTION:Join us each Saturday for Pokémon from 4p-6p. There will be someone on hand to help teach. Open to gamers of all ages!
URL:https://www.tabletopcincy.com/event/pokemon-saturdays/2027-02-06/
LOCATION:Tabletop Cincy\, 4876 Union Center Pavilion\, West Chester\, OH\, 45069\, United States
ATTACH;FMTTYPE=image/jpeg:https://www.tabletopcincy.com/wp-content/uploads/2025/10/February-Events-6.jpg
END:VEVENT
BEGIN:VEVENT
DTSTART;TZID=America/Detroit:20270207T170000
DTEND;TZID=America/Detroit:20270207T200000
DTSTAMP:20260420T032430
CREATED:20260331T185138Z
LAST-MODIFIED:20260331T185138Z
UID:10002349-1802019600-1802030400@www.tabletopcincy.com
SUMMARY:Sunday Evening Nexus Nights
DESCRIPTION:Join us each Sunday at 5p for a Nexus Night event. \nEntry: $10 \nTime: 5p \nEvents will vary by the week\, all participants will receive a pack of Riftbound and Nexus Nights packs (while supplies last) \nRSVP Required: (https://locator.riftbound.uvsgames.com/events) Just search for Tabletop Cincy to see all of our upcoming events!
URL:https://www.tabletopcincy.com/event/sunday-evening-nexus-nights-2/2027-02-07/
LOCATION:Tabletop Cincy\, 4876 Union Center Pavilion\, West Chester\, OH\, 45069\, United States
ATTACH;FMTTYPE=image/webp:https://www.tabletopcincy.com/wp-content/uploads/2026/02/RiftboundOG.webp
END:VEVENT
BEGIN:VEVENT
DTSTART;TZID=America/Detroit:20270209T120000
DTEND;TZID=America/Detroit:20270209T130000
DTSTAMP:20260420T032430
CREATED:20260203T145026Z
LAST-MODIFIED:20260203T145026Z
UID:10001155-1802174400-1802178000@www.tabletopcincy.com
SUMMARY:Tuesday Lunch Time Gaming!
DESCRIPTION:Join us each Tuesday afternoon for lunch time gaming!
URL:https://www.tabletopcincy.com/event/tuesday-lunch-time-gaming/2027-02-09/
LOCATION:Tabletop Cincy\, 4876 Union Center Pavilion\, West Chester\, OH\, 45069\, United States
ATTACH;FMTTYPE=image/jpeg:https://www.tabletopcincy.com/wp-content/uploads/2026/02/February-Events.jpg
END:VEVENT
BEGIN:VEVENT
DTSTART;TZID=America/Detroit:20270209T180000
DTEND;TZID=America/Detroit:20270209T210000
DTSTAMP:20260420T032430
CREATED:20260330T191705Z
LAST-MODIFIED:20260330T191705Z
UID:10002292-1802196000-1802206800@www.tabletopcincy.com
SUMMARY:Game Night w/ Giveaway!
DESCRIPTION:🎲 Big Update for Game Night! 🎲 \nStarting in April\, our weekly Game Night is moving to Tuesday nights from 6PM–9PM! \nTo celebrate\, we’re doing something extra fun all month long…\n🎁 We’re giving away a game EVERY Tuesday in April! 🎁 \nEveryone who joins us will receive a raffle ticket\, and at the end of the night we’ll draw a winner to take home a game! \nCome hang out\, play something new\, and maybe leave with a new favorite for your collection. See you Tuesday nights!
URL:https://www.tabletopcincy.com/event/game-night-w-giveaway/2027-02-09/
LOCATION:Tabletop Cincy\, 4876 Union Center Pavilion\, West Chester\, OH\, 45069\, United States
ATTACH;FMTTYPE=image/jpeg:https://www.tabletopcincy.com/wp-content/uploads/2026/03/Game-Night.jpg
END:VEVENT
BEGIN:VEVENT
DTSTART;TZID=America/Detroit:20270212T180000
DTEND;TZID=America/Detroit:20270212T210000
DTSTAMP:20260420T032430
CREATED:20251031T195536Z
LAST-MODIFIED:20251031T195536Z
UID:10000338-1802455200-1802466000@www.tabletopcincy.com
SUMMARY:Friday Night Magic!
DESCRIPTION:Join us each Friday for a variety of Friday Night Magic shenanigans. We will be having a variety of different events including Commander\, draft\, and prerelease!
URL:https://www.tabletopcincy.com/event/friday-night-magic/2027-02-12/
LOCATION:Tabletop Cincy\, 4876 Union Center Pavilion\, West Chester\, OH\, 45069\, United States
ATTACH;FMTTYPE=image/png:https://www.tabletopcincy.com/wp-content/uploads/2025/10/Board-Game-Night-1.png
END:VEVENT
BEGIN:VEVENT
DTSTART;TZID=America/Detroit:20270213T160000
DTEND;TZID=America/Detroit:20270213T180000
DTSTAMP:20260420T032430
CREATED:20251031T200340Z
LAST-MODIFIED:20260203T160919Z
UID:10001434-1802534400-1802541600@www.tabletopcincy.com
SUMMARY:Pokémon Saturdays!
DESCRIPTION:Join us each Saturday for Pokémon from 4p-6p. There will be someone on hand to help teach. Open to gamers of all ages!
URL:https://www.tabletopcincy.com/event/pokemon-saturdays/2027-02-13/
LOCATION:Tabletop Cincy\, 4876 Union Center Pavilion\, West Chester\, OH\, 45069\, United States
ATTACH;FMTTYPE=image/jpeg:https://www.tabletopcincy.com/wp-content/uploads/2025/10/February-Events-6.jpg
END:VEVENT
BEGIN:VEVENT
DTSTART;TZID=America/Detroit:20270214T170000
DTEND;TZID=America/Detroit:20270214T200000
DTSTAMP:20260420T032430
CREATED:20260331T185138Z
LAST-MODIFIED:20260331T185138Z
UID:10002350-1802624400-1802635200@www.tabletopcincy.com
SUMMARY:Sunday Evening Nexus Nights
DESCRIPTION:Join us each Sunday at 5p for a Nexus Night event. \nEntry: $10 \nTime: 5p \nEvents will vary by the week\, all participants will receive a pack of Riftbound and Nexus Nights packs (while supplies last) \nRSVP Required: (https://locator.riftbound.uvsgames.com/events) Just search for Tabletop Cincy to see all of our upcoming events!
URL:https://www.tabletopcincy.com/event/sunday-evening-nexus-nights-2/2027-02-14/
LOCATION:Tabletop Cincy\, 4876 Union Center Pavilion\, West Chester\, OH\, 45069\, United States
ATTACH;FMTTYPE=image/webp:https://www.tabletopcincy.com/wp-content/uploads/2026/02/RiftboundOG.webp
END:VEVENT
BEGIN:VEVENT
DTSTART;TZID=America/Detroit:20270216T120000
DTEND;TZID=America/Detroit:20270216T130000
DTSTAMP:20260420T032430
CREATED:20260203T145026Z
LAST-MODIFIED:20260203T145026Z
UID:10001156-1802779200-1802782800@www.tabletopcincy.com
SUMMARY:Tuesday Lunch Time Gaming!
DESCRIPTION:Join us each Tuesday afternoon for lunch time gaming!
URL:https://www.tabletopcincy.com/event/tuesday-lunch-time-gaming/2027-02-16/
LOCATION:Tabletop Cincy\, 4876 Union Center Pavilion\, West Chester\, OH\, 45069\, United States
ATTACH;FMTTYPE=image/jpeg:https://www.tabletopcincy.com/wp-content/uploads/2026/02/February-Events.jpg
END:VEVENT
BEGIN:VEVENT
DTSTART;TZID=America/Detroit:20270216T180000
DTEND;TZID=America/Detroit:20270216T210000
DTSTAMP:20260420T032430
CREATED:20260330T191705Z
LAST-MODIFIED:20260330T191705Z
UID:10002293-1802800800-1802811600@www.tabletopcincy.com
SUMMARY:Game Night w/ Giveaway!
DESCRIPTION:🎲 Big Update for Game Night! 🎲 \nStarting in April\, our weekly Game Night is moving to Tuesday nights from 6PM–9PM! \nTo celebrate\, we’re doing something extra fun all month long…\n🎁 We’re giving away a game EVERY Tuesday in April! 🎁 \nEveryone who joins us will receive a raffle ticket\, and at the end of the night we’ll draw a winner to take home a game! \nCome hang out\, play something new\, and maybe leave with a new favorite for your collection. See you Tuesday nights!
URL:https://www.tabletopcincy.com/event/game-night-w-giveaway/2027-02-16/
LOCATION:Tabletop Cincy\, 4876 Union Center Pavilion\, West Chester\, OH\, 45069\, United States
ATTACH;FMTTYPE=image/jpeg:https://www.tabletopcincy.com/wp-content/uploads/2026/03/Game-Night.jpg
END:VEVENT
BEGIN:VEVENT
DTSTART;TZID=America/Detroit:20270218T173000
DTEND;TZID=America/Detroit:20270218T210000
DTSTAMP:20260420T032430
CREATED:20260315T224837Z
LAST-MODIFIED:20260315T224837Z
UID:10002195-1802971800-1802984400@www.tabletopcincy.com
SUMMARY:TCG Trade Day!
DESCRIPTION:Join us for TCG Trade Day! Bring your binder\, make some trades\, and join in on the fun with the community! \nThis is an official Pokémon organized play event\, those that provide their Pokémon ID will earn a prize pack!
URL:https://www.tabletopcincy.com/event/tcg-trade-day-3/2027-02-18/
LOCATION:Tabletop Cincy\, 4876 Union Center Pavilion\, West Chester\, OH\, 45069\, United States
ATTACH;FMTTYPE=image/jpeg:https://www.tabletopcincy.com/wp-content/uploads/2026/03/TRADE-DAY-3.jpg
END:VEVENT
BEGIN:VEVENT
DTSTART;TZID=America/Detroit:20270219T180000
DTEND;TZID=America/Detroit:20270219T210000
DTSTAMP:20260420T032430
CREATED:20251031T195536Z
LAST-MODIFIED:20251031T195536Z
UID:10000339-1803060000-1803070800@www.tabletopcincy.com
SUMMARY:Friday Night Magic!
DESCRIPTION:Join us each Friday for a variety of Friday Night Magic shenanigans. We will be having a variety of different events including Commander\, draft\, and prerelease!
URL:https://www.tabletopcincy.com/event/friday-night-magic/2027-02-19/
LOCATION:Tabletop Cincy\, 4876 Union Center Pavilion\, West Chester\, OH\, 45069\, United States
ATTACH;FMTTYPE=image/png:https://www.tabletopcincy.com/wp-content/uploads/2025/10/Board-Game-Night-1.png
END:VEVENT
BEGIN:VEVENT
DTSTART;TZID=America/Detroit:20270220T160000
DTEND;TZID=America/Detroit:20270220T180000
DTSTAMP:20260420T032430
CREATED:20251031T200340Z
LAST-MODIFIED:20260203T160919Z
UID:10001435-1803139200-1803146400@www.tabletopcincy.com
SUMMARY:Pokémon Saturdays!
DESCRIPTION:Join us each Saturday for Pokémon from 4p-6p. There will be someone on hand to help teach. Open to gamers of all ages!
URL:https://www.tabletopcincy.com/event/pokemon-saturdays/2027-02-20/
LOCATION:Tabletop Cincy\, 4876 Union Center Pavilion\, West Chester\, OH\, 45069\, United States
ATTACH;FMTTYPE=image/jpeg:https://www.tabletopcincy.com/wp-content/uploads/2025/10/February-Events-6.jpg
END:VEVENT
BEGIN:VEVENT
DTSTART;TZID=America/Detroit:20270221T170000
DTEND;TZID=America/Detroit:20270221T200000
DTSTAMP:20260420T032430
CREATED:20260331T185138Z
LAST-MODIFIED:20260331T185138Z
UID:10002351-1803229200-1803240000@www.tabletopcincy.com
SUMMARY:Sunday Evening Nexus Nights
DESCRIPTION:Join us each Sunday at 5p for a Nexus Night event. \nEntry: $10 \nTime: 5p \nEvents will vary by the week\, all participants will receive a pack of Riftbound and Nexus Nights packs (while supplies last) \nRSVP Required: (https://locator.riftbound.uvsgames.com/events) Just search for Tabletop Cincy to see all of our upcoming events!
URL:https://www.tabletopcincy.com/event/sunday-evening-nexus-nights-2/2027-02-21/
LOCATION:Tabletop Cincy\, 4876 Union Center Pavilion\, West Chester\, OH\, 45069\, United States
ATTACH;FMTTYPE=image/webp:https://www.tabletopcincy.com/wp-content/uploads/2026/02/RiftboundOG.webp
END:VEVENT
BEGIN:VEVENT
DTSTART;TZID=America/Detroit:20270223T120000
DTEND;TZID=America/Detroit:20270223T130000
DTSTAMP:20260420T032430
CREATED:20260203T145026Z
LAST-MODIFIED:20260203T145026Z
UID:10001157-1803384000-1803387600@www.tabletopcincy.com
SUMMARY:Tuesday Lunch Time Gaming!
DESCRIPTION:Join us each Tuesday afternoon for lunch time gaming!
URL:https://www.tabletopcincy.com/event/tuesday-lunch-time-gaming/2027-02-23/
LOCATION:Tabletop Cincy\, 4876 Union Center Pavilion\, West Chester\, OH\, 45069\, United States
ATTACH;FMTTYPE=image/jpeg:https://www.tabletopcincy.com/wp-content/uploads/2026/02/February-Events.jpg
END:VEVENT
BEGIN:VEVENT
DTSTART;TZID=America/Detroit:20270223T180000
DTEND;TZID=America/Detroit:20270223T210000
DTSTAMP:20260420T032430
CREATED:20260330T191705Z
LAST-MODIFIED:20260330T191705Z
UID:10002294-1803405600-1803416400@www.tabletopcincy.com
SUMMARY:Game Night w/ Giveaway!
DESCRIPTION:🎲 Big Update for Game Night! 🎲 \nStarting in April\, our weekly Game Night is moving to Tuesday nights from 6PM–9PM! \nTo celebrate\, we’re doing something extra fun all month long…\n🎁 We’re giving away a game EVERY Tuesday in April! 🎁 \nEveryone who joins us will receive a raffle ticket\, and at the end of the night we’ll draw a winner to take home a game! \nCome hang out\, play something new\, and maybe leave with a new favorite for your collection. See you Tuesday nights!
URL:https://www.tabletopcincy.com/event/game-night-w-giveaway/2027-02-23/
LOCATION:Tabletop Cincy\, 4876 Union Center Pavilion\, West Chester\, OH\, 45069\, United States
ATTACH;FMTTYPE=image/jpeg:https://www.tabletopcincy.com/wp-content/uploads/2026/03/Game-Night.jpg
END:VEVENT
BEGIN:VEVENT
DTSTART;TZID=America/Detroit:20270226T180000
DTEND;TZID=America/Detroit:20270226T210000
DTSTAMP:20260420T032430
CREATED:20251031T195536Z
LAST-MODIFIED:20251031T195536Z
UID:10000340-1803664800-1803675600@www.tabletopcincy.com
SUMMARY:Friday Night Magic!
DESCRIPTION:Join us each Friday for a variety of Friday Night Magic shenanigans. We will be having a variety of different events including Commander\, draft\, and prerelease!
URL:https://www.tabletopcincy.com/event/friday-night-magic/2027-02-26/
LOCATION:Tabletop Cincy\, 4876 Union Center Pavilion\, West Chester\, OH\, 45069\, United States
ATTACH;FMTTYPE=image/png:https://www.tabletopcincy.com/wp-content/uploads/2025/10/Board-Game-Night-1.png
END:VEVENT
BEGIN:VEVENT
DTSTART;TZID=America/Detroit:20270227T160000
DTEND;TZID=America/Detroit:20270227T180000
DTSTAMP:20260420T032430
CREATED:20251031T200340Z
LAST-MODIFIED:20260203T160919Z
UID:10001436-1803744000-1803751200@www.tabletopcincy.com
SUMMARY:Pokémon Saturdays!
DESCRIPTION:Join us each Saturday for Pokémon from 4p-6p. There will be someone on hand to help teach. Open to gamers of all ages!
URL:https://www.tabletopcincy.com/event/pokemon-saturdays/2027-02-27/
LOCATION:Tabletop Cincy\, 4876 Union Center Pavilion\, West Chester\, OH\, 45069\, United States
ATTACH;FMTTYPE=image/jpeg:https://www.tabletopcincy.com/wp-content/uploads/2025/10/February-Events-6.jpg
END:VEVENT
BEGIN:VEVENT
DTSTART;TZID=America/Detroit:20270228T170000
DTEND;TZID=America/Detroit:20270228T200000
DTSTAMP:20260420T032430
CREATED:20260331T185138Z
LAST-MODIFIED:20260331T185138Z
UID:10002352-1803834000-1803844800@www.tabletopcincy.com
SUMMARY:Sunday Evening Nexus Nights
DESCRIPTION:Join us each Sunday at 5p for a Nexus Night event. \nEntry: $10 \nTime: 5p \nEvents will vary by the week\, all participants will receive a pack of Riftbound and Nexus Nights packs (while supplies last) \nRSVP Required: (https://locator.riftbound.uvsgames.com/events) Just search for Tabletop Cincy to see all of our upcoming events!
URL:https://www.tabletopcincy.com/event/sunday-evening-nexus-nights-2/2027-02-28/
LOCATION:Tabletop Cincy\, 4876 Union Center Pavilion\, West Chester\, OH\, 45069\, United States
ATTACH;FMTTYPE=image/webp:https://www.tabletopcincy.com/wp-content/uploads/2026/02/RiftboundOG.webp
END:VEVENT
BEGIN:VEVENT
DTSTART;TZID=America/Detroit:20270302T120000
DTEND;TZID=America/Detroit:20270302T130000
DTSTAMP:20260420T032430
CREATED:20260203T145026Z
LAST-MODIFIED:20260203T145026Z
UID:10001158-1803988800-1803992400@www.tabletopcincy.com
SUMMARY:Tuesday Lunch Time Gaming!
DESCRIPTION:Join us each Tuesday afternoon for lunch time gaming!
URL:https://www.tabletopcincy.com/event/tuesday-lunch-time-gaming/2027-03-02/
LOCATION:Tabletop Cincy\, 4876 Union Center Pavilion\, West Chester\, OH\, 45069\, United States
ATTACH;FMTTYPE=image/jpeg:https://www.tabletopcincy.com/wp-content/uploads/2026/02/February-Events.jpg
END:VEVENT
BEGIN:VEVENT
DTSTART;TZID=America/Detroit:20270302T180000
DTEND;TZID=America/Detroit:20270302T210000
DTSTAMP:20260420T032430
CREATED:20260330T191705Z
LAST-MODIFIED:20260330T191705Z
UID:10002295-1804010400-1804021200@www.tabletopcincy.com
SUMMARY:Game Night w/ Giveaway!
DESCRIPTION:🎲 Big Update for Game Night! 🎲 \nStarting in April\, our weekly Game Night is moving to Tuesday nights from 6PM–9PM! \nTo celebrate\, we’re doing something extra fun all month long…\n🎁 We’re giving away a game EVERY Tuesday in April! 🎁 \nEveryone who joins us will receive a raffle ticket\, and at the end of the night we’ll draw a winner to take home a game! \nCome hang out\, play something new\, and maybe leave with a new favorite for your collection. See you Tuesday nights!
URL:https://www.tabletopcincy.com/event/game-night-w-giveaway/2027-03-02/
LOCATION:Tabletop Cincy\, 4876 Union Center Pavilion\, West Chester\, OH\, 45069\, United States
ATTACH;FMTTYPE=image/jpeg:https://www.tabletopcincy.com/wp-content/uploads/2026/03/Game-Night.jpg
END:VEVENT
BEGIN:VEVENT
DTSTART;TZID=America/Detroit:20270305T180000
DTEND;TZID=America/Detroit:20270305T210000
DTSTAMP:20260420T032430
CREATED:20251031T195536Z
LAST-MODIFIED:20251031T195536Z
UID:10000341-1804269600-1804280400@www.tabletopcincy.com
SUMMARY:Friday Night Magic!
DESCRIPTION:Join us each Friday for a variety of Friday Night Magic shenanigans. We will be having a variety of different events including Commander\, draft\, and prerelease!
URL:https://www.tabletopcincy.com/event/friday-night-magic/2027-03-05/
LOCATION:Tabletop Cincy\, 4876 Union Center Pavilion\, West Chester\, OH\, 45069\, United States
ATTACH;FMTTYPE=image/png:https://www.tabletopcincy.com/wp-content/uploads/2025/10/Board-Game-Night-1.png
END:VEVENT
BEGIN:VEVENT
DTSTART;TZID=America/Detroit:20270306T160000
DTEND;TZID=America/Detroit:20270306T180000
DTSTAMP:20260420T032430
CREATED:20251031T200340Z
LAST-MODIFIED:20260203T160919Z
UID:10001437-1804348800-1804356000@www.tabletopcincy.com
SUMMARY:Pokémon Saturdays!
DESCRIPTION:Join us each Saturday for Pokémon from 4p-6p. There will be someone on hand to help teach. Open to gamers of all ages!
URL:https://www.tabletopcincy.com/event/pokemon-saturdays/2027-03-06/
LOCATION:Tabletop Cincy\, 4876 Union Center Pavilion\, West Chester\, OH\, 45069\, United States
ATTACH;FMTTYPE=image/jpeg:https://www.tabletopcincy.com/wp-content/uploads/2025/10/February-Events-6.jpg
END:VEVENT
BEGIN:VEVENT
DTSTART;TZID=America/Detroit:20270307T170000
DTEND;TZID=America/Detroit:20270307T200000
DTSTAMP:20260420T032430
CREATED:20260331T185138Z
LAST-MODIFIED:20260331T185138Z
UID:10002353-1804438800-1804449600@www.tabletopcincy.com
SUMMARY:Sunday Evening Nexus Nights
DESCRIPTION:Join us each Sunday at 5p for a Nexus Night event. \nEntry: $10 \nTime: 5p \nEvents will vary by the week\, all participants will receive a pack of Riftbound and Nexus Nights packs (while supplies last) \nRSVP Required: (https://locator.riftbound.uvsgames.com/events) Just search for Tabletop Cincy to see all of our upcoming events!
URL:https://www.tabletopcincy.com/event/sunday-evening-nexus-nights-2/2027-03-07/
LOCATION:Tabletop Cincy\, 4876 Union Center Pavilion\, West Chester\, OH\, 45069\, United States
ATTACH;FMTTYPE=image/webp:https://www.tabletopcincy.com/wp-content/uploads/2026/02/RiftboundOG.webp
END:VEVENT
BEGIN:VEVENT
DTSTART;TZID=America/Detroit:20270309T120000
DTEND;TZID=America/Detroit:20270309T130000
DTSTAMP:20260420T032430
CREATED:20260203T145026Z
LAST-MODIFIED:20260203T145026Z
UID:10001159-1804593600-1804597200@www.tabletopcincy.com
SUMMARY:Tuesday Lunch Time Gaming!
DESCRIPTION:Join us each Tuesday afternoon for lunch time gaming!
URL:https://www.tabletopcincy.com/event/tuesday-lunch-time-gaming/2027-03-09/
LOCATION:Tabletop Cincy\, 4876 Union Center Pavilion\, West Chester\, OH\, 45069\, United States
ATTACH;FMTTYPE=image/jpeg:https://www.tabletopcincy.com/wp-content/uploads/2026/02/February-Events.jpg
END:VEVENT
BEGIN:VEVENT
DTSTART;TZID=America/Detroit:20270309T180000
DTEND;TZID=America/Detroit:20270309T210000
DTSTAMP:20260420T032430
CREATED:20260330T191705Z
LAST-MODIFIED:20260330T191705Z
UID:10002296-1804615200-1804626000@www.tabletopcincy.com
SUMMARY:Game Night w/ Giveaway!
DESCRIPTION:🎲 Big Update for Game Night! 🎲 \nStarting in April\, our weekly Game Night is moving to Tuesday nights from 6PM–9PM! \nTo celebrate\, we’re doing something extra fun all month long…\n🎁 We’re giving away a game EVERY Tuesday in April! 🎁 \nEveryone who joins us will receive a raffle ticket\, and at the end of the night we’ll draw a winner to take home a game! \nCome hang out\, play something new\, and maybe leave with a new favorite for your collection. See you Tuesday nights!
URL:https://www.tabletopcincy.com/event/game-night-w-giveaway/2027-03-09/
LOCATION:Tabletop Cincy\, 4876 Union Center Pavilion\, West Chester\, OH\, 45069\, United States
ATTACH;FMTTYPE=image/jpeg:https://www.tabletopcincy.com/wp-content/uploads/2026/03/Game-Night.jpg
END:VEVENT
BEGIN:VEVENT
DTSTART;TZID=America/Detroit:20270312T180000
DTEND;TZID=America/Detroit:20270312T210000
DTSTAMP:20260420T032430
CREATED:20251031T195536Z
LAST-MODIFIED:20251031T195536Z
UID:10000342-1804874400-1804885200@www.tabletopcincy.com
SUMMARY:Friday Night Magic!
DESCRIPTION:Join us each Friday for a variety of Friday Night Magic shenanigans. We will be having a variety of different events including Commander\, draft\, and prerelease!
URL:https://www.tabletopcincy.com/event/friday-night-magic/2027-03-12/
LOCATION:Tabletop Cincy\, 4876 Union Center Pavilion\, West Chester\, OH\, 45069\, United States
ATTACH;FMTTYPE=image/png:https://www.tabletopcincy.com/wp-content/uploads/2025/10/Board-Game-Night-1.png
END:VEVENT
BEGIN:VEVENT
DTSTART;TZID=America/Detroit:20270313T160000
DTEND;TZID=America/Detroit:20270313T180000
DTSTAMP:20260420T032430
CREATED:20251031T200340Z
LAST-MODIFIED:20260203T160919Z
UID:10001438-1804953600-1804960800@www.tabletopcincy.com
SUMMARY:Pokémon Saturdays!
DESCRIPTION:Join us each Saturday for Pokémon from 4p-6p. There will be someone on hand to help teach. Open to gamers of all ages!
URL:https://www.tabletopcincy.com/event/pokemon-saturdays/2027-03-13/
LOCATION:Tabletop Cincy\, 4876 Union Center Pavilion\, West Chester\, OH\, 45069\, United States
ATTACH;FMTTYPE=image/jpeg:https://www.tabletopcincy.com/wp-content/uploads/2025/10/February-Events-6.jpg
END:VEVENT
BEGIN:VEVENT
DTSTART;TZID=America/Detroit:20270314T170000
DTEND;TZID=America/Detroit:20270314T200000
DTSTAMP:20260420T032430
CREATED:20260331T185138Z
LAST-MODIFIED:20260331T185138Z
UID:10002354-1805043600-1805054400@www.tabletopcincy.com
SUMMARY:Sunday Evening Nexus Nights
DESCRIPTION:Join us each Sunday at 5p for a Nexus Night event. \nEntry: $10 \nTime: 5p \nEvents will vary by the week\, all participants will receive a pack of Riftbound and Nexus Nights packs (while supplies last) \nRSVP Required: (https://locator.riftbound.uvsgames.com/events) Just search for Tabletop Cincy to see all of our upcoming events!
URL:https://www.tabletopcincy.com/event/sunday-evening-nexus-nights-2/2027-03-14/
LOCATION:Tabletop Cincy\, 4876 Union Center Pavilion\, West Chester\, OH\, 45069\, United States
ATTACH;FMTTYPE=image/webp:https://www.tabletopcincy.com/wp-content/uploads/2026/02/RiftboundOG.webp
END:VEVENT
END:VCALENDAR