BEGIN:VCALENDAR
VERSION:2.0
PRODID:-//Tabletop Cincy - ECPv6.15.18//NONSGML v1.0//EN
CALSCALE:GREGORIAN
METHOD:PUBLISH
X-WR-CALNAME:Tabletop Cincy
X-ORIGINAL-URL:https://www.tabletopcincy.com
X-WR-CALDESC:Events for Tabletop Cincy
REFRESH-INTERVAL;VALUE=DURATION:PT1H
X-Robots-Tag:noindex
X-PUBLISHED-TTL:PT1H
BEGIN:VTIMEZONE
TZID:America/Detroit
BEGIN:DAYLIGHT
TZOFFSETFROM:-0500
TZOFFSETTO:-0400
TZNAME:EDT
DTSTART:20270314T070000
END:DAYLIGHT
BEGIN:STANDARD
TZOFFSETFROM:-0400
TZOFFSETTO:-0500
TZNAME:EST
DTSTART:20271107T060000
END:STANDARD
BEGIN:DAYLIGHT
TZOFFSETFROM:-0500
TZOFFSETTO:-0400
TZNAME:EDT
DTSTART:20280312T070000
END:DAYLIGHT
BEGIN:STANDARD
TZOFFSETFROM:-0400
TZOFFSETTO:-0500
TZNAME:EST
DTSTART:20281105T060000
END:STANDARD
BEGIN:DAYLIGHT
TZOFFSETFROM:-0500
TZOFFSETTO:-0400
TZNAME:EDT
DTSTART:20290311T070000
END:DAYLIGHT
BEGIN:STANDARD
TZOFFSETFROM:-0400
TZOFFSETTO:-0500
TZNAME:EST
DTSTART:20291104T060000
END:STANDARD
END:VTIMEZONE
BEGIN:VEVENT
DTSTART;TZID=America/Detroit:20280610T160000
DTEND;TZID=America/Detroit:20280610T180000
DTSTAMP:20260421T131713
CREATED:20251031T200340Z
LAST-MODIFIED:20260203T160919Z
UID:10001503-1844265600-1844272800@www.tabletopcincy.com
SUMMARY:Pokémon Saturdays!
DESCRIPTION:Join us each Saturday for Pokémon from 4p-6p. There will be someone on hand to help teach. Open to gamers of all ages!
URL:https://www.tabletopcincy.com/event/pokemon-saturdays/2028-06-10/
LOCATION:Tabletop Cincy\, 4876 Union Center Pavilion\, West Chester\, OH\, 45069\, United States
ATTACH;FMTTYPE=image/jpeg:https://www.tabletopcincy.com/wp-content/uploads/2025/10/February-Events-6.jpg
END:VEVENT
BEGIN:VEVENT
DTSTART;TZID=America/Detroit:20280613T120000
DTEND;TZID=America/Detroit:20280613T130000
DTSTAMP:20260421T131713
CREATED:20260203T145026Z
LAST-MODIFIED:20260203T145026Z
UID:10001225-1844510400-1844514000@www.tabletopcincy.com
SUMMARY:Tuesday Lunch Time Gaming!
DESCRIPTION:Join us each Tuesday afternoon for lunch time gaming!
URL:https://www.tabletopcincy.com/event/tuesday-lunch-time-gaming/2028-06-13/
LOCATION:Tabletop Cincy\, 4876 Union Center Pavilion\, West Chester\, OH\, 45069\, United States
ATTACH;FMTTYPE=image/jpeg:https://www.tabletopcincy.com/wp-content/uploads/2026/02/February-Events.jpg
END:VEVENT
BEGIN:VEVENT
DTSTART;TZID=America/Detroit:20280615T173000
DTEND;TZID=America/Detroit:20280615T210000
DTSTAMP:20260421T131713
CREATED:20260315T224837Z
LAST-MODIFIED:20260315T224837Z
UID:10002211-1844703000-1844715600@www.tabletopcincy.com
SUMMARY:TCG Trade Day!
DESCRIPTION:Join us for TCG Trade Day! Bring your binder\, make some trades\, and join in on the fun with the community! \nThis is an official Pokémon organized play event\, those that provide their Pokémon ID will earn a prize pack!
URL:https://www.tabletopcincy.com/event/tcg-trade-day-3/2028-06-15/
LOCATION:Tabletop Cincy\, 4876 Union Center Pavilion\, West Chester\, OH\, 45069\, United States
ATTACH;FMTTYPE=image/jpeg:https://www.tabletopcincy.com/wp-content/uploads/2026/03/TRADE-DAY-3.jpg
END:VEVENT
BEGIN:VEVENT
DTSTART;TZID=America/Detroit:20280616T180000
DTEND;TZID=America/Detroit:20280616T210000
DTSTAMP:20260421T131713
CREATED:20251031T195536Z
LAST-MODIFIED:20251031T195536Z
UID:10000408-1844791200-1844802000@www.tabletopcincy.com
SUMMARY:Friday Night Magic!
DESCRIPTION:Join us each Friday for a variety of Friday Night Magic shenanigans. We will be having a variety of different events including Commander\, draft\, and prerelease!
URL:https://www.tabletopcincy.com/event/friday-night-magic/2028-06-16/
LOCATION:Tabletop Cincy\, 4876 Union Center Pavilion\, West Chester\, OH\, 45069\, United States
ATTACH;FMTTYPE=image/png:https://www.tabletopcincy.com/wp-content/uploads/2025/10/Board-Game-Night-1.png
END:VEVENT
BEGIN:VEVENT
DTSTART;TZID=America/Detroit:20280617T160000
DTEND;TZID=America/Detroit:20280617T180000
DTSTAMP:20260421T131713
CREATED:20251031T200340Z
LAST-MODIFIED:20260203T160919Z
UID:10001504-1844870400-1844877600@www.tabletopcincy.com
SUMMARY:Pokémon Saturdays!
DESCRIPTION:Join us each Saturday for Pokémon from 4p-6p. There will be someone on hand to help teach. Open to gamers of all ages!
URL:https://www.tabletopcincy.com/event/pokemon-saturdays/2028-06-17/
LOCATION:Tabletop Cincy\, 4876 Union Center Pavilion\, West Chester\, OH\, 45069\, United States
ATTACH;FMTTYPE=image/jpeg:https://www.tabletopcincy.com/wp-content/uploads/2025/10/February-Events-6.jpg
END:VEVENT
BEGIN:VEVENT
DTSTART;TZID=America/Detroit:20280620T120000
DTEND;TZID=America/Detroit:20280620T130000
DTSTAMP:20260421T131713
CREATED:20260203T145026Z
LAST-MODIFIED:20260203T145026Z
UID:10001226-1845115200-1845118800@www.tabletopcincy.com
SUMMARY:Tuesday Lunch Time Gaming!
DESCRIPTION:Join us each Tuesday afternoon for lunch time gaming!
URL:https://www.tabletopcincy.com/event/tuesday-lunch-time-gaming/2028-06-20/
LOCATION:Tabletop Cincy\, 4876 Union Center Pavilion\, West Chester\, OH\, 45069\, United States
ATTACH;FMTTYPE=image/jpeg:https://www.tabletopcincy.com/wp-content/uploads/2026/02/February-Events.jpg
END:VEVENT
BEGIN:VEVENT
DTSTART;TZID=America/Detroit:20280623T180000
DTEND;TZID=America/Detroit:20280623T210000
DTSTAMP:20260421T131713
CREATED:20251031T195536Z
LAST-MODIFIED:20251031T195536Z
UID:10000409-1845396000-1845406800@www.tabletopcincy.com
SUMMARY:Friday Night Magic!
DESCRIPTION:Join us each Friday for a variety of Friday Night Magic shenanigans. We will be having a variety of different events including Commander\, draft\, and prerelease!
URL:https://www.tabletopcincy.com/event/friday-night-magic/2028-06-23/
LOCATION:Tabletop Cincy\, 4876 Union Center Pavilion\, West Chester\, OH\, 45069\, United States
ATTACH;FMTTYPE=image/png:https://www.tabletopcincy.com/wp-content/uploads/2025/10/Board-Game-Night-1.png
END:VEVENT
BEGIN:VEVENT
DTSTART;TZID=America/Detroit:20280624T160000
DTEND;TZID=America/Detroit:20280624T180000
DTSTAMP:20260421T131713
CREATED:20251031T200340Z
LAST-MODIFIED:20260203T160919Z
UID:10001505-1845475200-1845482400@www.tabletopcincy.com
SUMMARY:Pokémon Saturdays!
DESCRIPTION:Join us each Saturday for Pokémon from 4p-6p. There will be someone on hand to help teach. Open to gamers of all ages!
URL:https://www.tabletopcincy.com/event/pokemon-saturdays/2028-06-24/
LOCATION:Tabletop Cincy\, 4876 Union Center Pavilion\, West Chester\, OH\, 45069\, United States
ATTACH;FMTTYPE=image/jpeg:https://www.tabletopcincy.com/wp-content/uploads/2025/10/February-Events-6.jpg
END:VEVENT
BEGIN:VEVENT
DTSTART;TZID=America/Detroit:20280627T120000
DTEND;TZID=America/Detroit:20280627T130000
DTSTAMP:20260421T131713
CREATED:20260203T145026Z
LAST-MODIFIED:20260203T145026Z
UID:10001227-1845720000-1845723600@www.tabletopcincy.com
SUMMARY:Tuesday Lunch Time Gaming!
DESCRIPTION:Join us each Tuesday afternoon for lunch time gaming!
URL:https://www.tabletopcincy.com/event/tuesday-lunch-time-gaming/2028-06-27/
LOCATION:Tabletop Cincy\, 4876 Union Center Pavilion\, West Chester\, OH\, 45069\, United States
ATTACH;FMTTYPE=image/jpeg:https://www.tabletopcincy.com/wp-content/uploads/2026/02/February-Events.jpg
END:VEVENT
BEGIN:VEVENT
DTSTART;TZID=America/Detroit:20280630T180000
DTEND;TZID=America/Detroit:20280630T210000
DTSTAMP:20260421T131713
CREATED:20251031T195536Z
LAST-MODIFIED:20251031T195536Z
UID:10000410-1846000800-1846011600@www.tabletopcincy.com
SUMMARY:Friday Night Magic!
DESCRIPTION:Join us each Friday for a variety of Friday Night Magic shenanigans. We will be having a variety of different events including Commander\, draft\, and prerelease!
URL:https://www.tabletopcincy.com/event/friday-night-magic/2028-06-30/
LOCATION:Tabletop Cincy\, 4876 Union Center Pavilion\, West Chester\, OH\, 45069\, United States
ATTACH;FMTTYPE=image/png:https://www.tabletopcincy.com/wp-content/uploads/2025/10/Board-Game-Night-1.png
END:VEVENT
BEGIN:VEVENT
DTSTART;TZID=America/Detroit:20280701T160000
DTEND;TZID=America/Detroit:20280701T180000
DTSTAMP:20260421T131713
CREATED:20251031T200340Z
LAST-MODIFIED:20260203T160919Z
UID:10001506-1846080000-1846087200@www.tabletopcincy.com
SUMMARY:Pokémon Saturdays!
DESCRIPTION:Join us each Saturday for Pokémon from 4p-6p. There will be someone on hand to help teach. Open to gamers of all ages!
URL:https://www.tabletopcincy.com/event/pokemon-saturdays/2028-07-01/
LOCATION:Tabletop Cincy\, 4876 Union Center Pavilion\, West Chester\, OH\, 45069\, United States
ATTACH;FMTTYPE=image/jpeg:https://www.tabletopcincy.com/wp-content/uploads/2025/10/February-Events-6.jpg
END:VEVENT
BEGIN:VEVENT
DTSTART;TZID=America/Detroit:20280704T120000
DTEND;TZID=America/Detroit:20280704T130000
DTSTAMP:20260421T131713
CREATED:20260203T145026Z
LAST-MODIFIED:20260203T145026Z
UID:10001228-1846324800-1846328400@www.tabletopcincy.com
SUMMARY:Tuesday Lunch Time Gaming!
DESCRIPTION:Join us each Tuesday afternoon for lunch time gaming!
URL:https://www.tabletopcincy.com/event/tuesday-lunch-time-gaming/2028-07-04/
LOCATION:Tabletop Cincy\, 4876 Union Center Pavilion\, West Chester\, OH\, 45069\, United States
ATTACH;FMTTYPE=image/jpeg:https://www.tabletopcincy.com/wp-content/uploads/2026/02/February-Events.jpg
END:VEVENT
BEGIN:VEVENT
DTSTART;TZID=America/Detroit:20280707T180000
DTEND;TZID=America/Detroit:20280707T210000
DTSTAMP:20260421T131713
CREATED:20251031T195536Z
LAST-MODIFIED:20251031T195536Z
UID:10000411-1846605600-1846616400@www.tabletopcincy.com
SUMMARY:Friday Night Magic!
DESCRIPTION:Join us each Friday for a variety of Friday Night Magic shenanigans. We will be having a variety of different events including Commander\, draft\, and prerelease!
URL:https://www.tabletopcincy.com/event/friday-night-magic/2028-07-07/
LOCATION:Tabletop Cincy\, 4876 Union Center Pavilion\, West Chester\, OH\, 45069\, United States
ATTACH;FMTTYPE=image/png:https://www.tabletopcincy.com/wp-content/uploads/2025/10/Board-Game-Night-1.png
END:VEVENT
BEGIN:VEVENT
DTSTART;TZID=America/Detroit:20280708T160000
DTEND;TZID=America/Detroit:20280708T180000
DTSTAMP:20260421T131714
CREATED:20251031T200340Z
LAST-MODIFIED:20260203T160919Z
UID:10001507-1846684800-1846692000@www.tabletopcincy.com
SUMMARY:Pokémon Saturdays!
DESCRIPTION:Join us each Saturday for Pokémon from 4p-6p. There will be someone on hand to help teach. Open to gamers of all ages!
URL:https://www.tabletopcincy.com/event/pokemon-saturdays/2028-07-08/
LOCATION:Tabletop Cincy\, 4876 Union Center Pavilion\, West Chester\, OH\, 45069\, United States
ATTACH;FMTTYPE=image/jpeg:https://www.tabletopcincy.com/wp-content/uploads/2025/10/February-Events-6.jpg
END:VEVENT
BEGIN:VEVENT
DTSTART;TZID=America/Detroit:20280711T120000
DTEND;TZID=America/Detroit:20280711T130000
DTSTAMP:20260421T131714
CREATED:20260203T145026Z
LAST-MODIFIED:20260203T145026Z
UID:10001229-1846929600-1846933200@www.tabletopcincy.com
SUMMARY:Tuesday Lunch Time Gaming!
DESCRIPTION:Join us each Tuesday afternoon for lunch time gaming!
URL:https://www.tabletopcincy.com/event/tuesday-lunch-time-gaming/2028-07-11/
LOCATION:Tabletop Cincy\, 4876 Union Center Pavilion\, West Chester\, OH\, 45069\, United States
ATTACH;FMTTYPE=image/jpeg:https://www.tabletopcincy.com/wp-content/uploads/2026/02/February-Events.jpg
END:VEVENT
BEGIN:VEVENT
DTSTART;TZID=America/Detroit:20280714T180000
DTEND;TZID=America/Detroit:20280714T210000
DTSTAMP:20260421T131714
CREATED:20251031T195536Z
LAST-MODIFIED:20251031T195536Z
UID:10000412-1847210400-1847221200@www.tabletopcincy.com
SUMMARY:Friday Night Magic!
DESCRIPTION:Join us each Friday for a variety of Friday Night Magic shenanigans. We will be having a variety of different events including Commander\, draft\, and prerelease!
URL:https://www.tabletopcincy.com/event/friday-night-magic/2028-07-14/
LOCATION:Tabletop Cincy\, 4876 Union Center Pavilion\, West Chester\, OH\, 45069\, United States
ATTACH;FMTTYPE=image/png:https://www.tabletopcincy.com/wp-content/uploads/2025/10/Board-Game-Night-1.png
END:VEVENT
BEGIN:VEVENT
DTSTART;TZID=America/Detroit:20280715T160000
DTEND;TZID=America/Detroit:20280715T180000
DTSTAMP:20260421T131714
CREATED:20251031T200340Z
LAST-MODIFIED:20260203T160919Z
UID:10001508-1847289600-1847296800@www.tabletopcincy.com
SUMMARY:Pokémon Saturdays!
DESCRIPTION:Join us each Saturday for Pokémon from 4p-6p. There will be someone on hand to help teach. Open to gamers of all ages!
URL:https://www.tabletopcincy.com/event/pokemon-saturdays/2028-07-15/
LOCATION:Tabletop Cincy\, 4876 Union Center Pavilion\, West Chester\, OH\, 45069\, United States
ATTACH;FMTTYPE=image/jpeg:https://www.tabletopcincy.com/wp-content/uploads/2025/10/February-Events-6.jpg
END:VEVENT
BEGIN:VEVENT
DTSTART;TZID=America/Detroit:20280718T120000
DTEND;TZID=America/Detroit:20280718T130000
DTSTAMP:20260421T131714
CREATED:20260203T145026Z
LAST-MODIFIED:20260203T145026Z
UID:10001230-1847534400-1847538000@www.tabletopcincy.com
SUMMARY:Tuesday Lunch Time Gaming!
DESCRIPTION:Join us each Tuesday afternoon for lunch time gaming!
URL:https://www.tabletopcincy.com/event/tuesday-lunch-time-gaming/2028-07-18/
LOCATION:Tabletop Cincy\, 4876 Union Center Pavilion\, West Chester\, OH\, 45069\, United States
ATTACH;FMTTYPE=image/jpeg:https://www.tabletopcincy.com/wp-content/uploads/2026/02/February-Events.jpg
END:VEVENT
BEGIN:VEVENT
DTSTART;TZID=America/Detroit:20280720T173000
DTEND;TZID=America/Detroit:20280720T210000
DTSTAMP:20260421T131714
CREATED:20260315T224837Z
LAST-MODIFIED:20260315T224837Z
UID:10002212-1847727000-1847739600@www.tabletopcincy.com
SUMMARY:TCG Trade Day!
DESCRIPTION:Join us for TCG Trade Day! Bring your binder\, make some trades\, and join in on the fun with the community! \nThis is an official Pokémon organized play event\, those that provide their Pokémon ID will earn a prize pack!
URL:https://www.tabletopcincy.com/event/tcg-trade-day-3/2028-07-20/
LOCATION:Tabletop Cincy\, 4876 Union Center Pavilion\, West Chester\, OH\, 45069\, United States
ATTACH;FMTTYPE=image/jpeg:https://www.tabletopcincy.com/wp-content/uploads/2026/03/TRADE-DAY-3.jpg
END:VEVENT
BEGIN:VEVENT
DTSTART;TZID=America/Detroit:20280721T180000
DTEND;TZID=America/Detroit:20280721T210000
DTSTAMP:20260421T131714
CREATED:20251031T195536Z
LAST-MODIFIED:20251031T195536Z
UID:10000413-1847815200-1847826000@www.tabletopcincy.com
SUMMARY:Friday Night Magic!
DESCRIPTION:Join us each Friday for a variety of Friday Night Magic shenanigans. We will be having a variety of different events including Commander\, draft\, and prerelease!
URL:https://www.tabletopcincy.com/event/friday-night-magic/2028-07-21/
LOCATION:Tabletop Cincy\, 4876 Union Center Pavilion\, West Chester\, OH\, 45069\, United States
ATTACH;FMTTYPE=image/png:https://www.tabletopcincy.com/wp-content/uploads/2025/10/Board-Game-Night-1.png
END:VEVENT
BEGIN:VEVENT
DTSTART;TZID=America/Detroit:20280722T160000
DTEND;TZID=America/Detroit:20280722T180000
DTSTAMP:20260421T131714
CREATED:20251031T200340Z
LAST-MODIFIED:20260203T160919Z
UID:10001509-1847894400-1847901600@www.tabletopcincy.com
SUMMARY:Pokémon Saturdays!
DESCRIPTION:Join us each Saturday for Pokémon from 4p-6p. There will be someone on hand to help teach. Open to gamers of all ages!
URL:https://www.tabletopcincy.com/event/pokemon-saturdays/2028-07-22/
LOCATION:Tabletop Cincy\, 4876 Union Center Pavilion\, West Chester\, OH\, 45069\, United States
ATTACH;FMTTYPE=image/jpeg:https://www.tabletopcincy.com/wp-content/uploads/2025/10/February-Events-6.jpg
END:VEVENT
BEGIN:VEVENT
DTSTART;TZID=America/Detroit:20280725T120000
DTEND;TZID=America/Detroit:20280725T130000
DTSTAMP:20260421T131714
CREATED:20260203T145026Z
LAST-MODIFIED:20260203T145026Z
UID:10001231-1848139200-1848142800@www.tabletopcincy.com
SUMMARY:Tuesday Lunch Time Gaming!
DESCRIPTION:Join us each Tuesday afternoon for lunch time gaming!
URL:https://www.tabletopcincy.com/event/tuesday-lunch-time-gaming/2028-07-25/
LOCATION:Tabletop Cincy\, 4876 Union Center Pavilion\, West Chester\, OH\, 45069\, United States
ATTACH;FMTTYPE=image/jpeg:https://www.tabletopcincy.com/wp-content/uploads/2026/02/February-Events.jpg
END:VEVENT
BEGIN:VEVENT
DTSTART;TZID=America/Detroit:20280728T180000
DTEND;TZID=America/Detroit:20280728T210000
DTSTAMP:20260421T131714
CREATED:20251031T195536Z
LAST-MODIFIED:20251031T195536Z
UID:10000414-1848420000-1848430800@www.tabletopcincy.com
SUMMARY:Friday Night Magic!
DESCRIPTION:Join us each Friday for a variety of Friday Night Magic shenanigans. We will be having a variety of different events including Commander\, draft\, and prerelease!
URL:https://www.tabletopcincy.com/event/friday-night-magic/2028-07-28/
LOCATION:Tabletop Cincy\, 4876 Union Center Pavilion\, West Chester\, OH\, 45069\, United States
ATTACH;FMTTYPE=image/png:https://www.tabletopcincy.com/wp-content/uploads/2025/10/Board-Game-Night-1.png
END:VEVENT
BEGIN:VEVENT
DTSTART;TZID=America/Detroit:20280729T160000
DTEND;TZID=America/Detroit:20280729T180000
DTSTAMP:20260421T131714
CREATED:20251031T200340Z
LAST-MODIFIED:20260203T160919Z
UID:10001510-1848499200-1848506400@www.tabletopcincy.com
SUMMARY:Pokémon Saturdays!
DESCRIPTION:Join us each Saturday for Pokémon from 4p-6p. There will be someone on hand to help teach. Open to gamers of all ages!
URL:https://www.tabletopcincy.com/event/pokemon-saturdays/2028-07-29/
LOCATION:Tabletop Cincy\, 4876 Union Center Pavilion\, West Chester\, OH\, 45069\, United States
ATTACH;FMTTYPE=image/jpeg:https://www.tabletopcincy.com/wp-content/uploads/2025/10/February-Events-6.jpg
END:VEVENT
BEGIN:VEVENT
DTSTART;TZID=America/Detroit:20280801T120000
DTEND;TZID=America/Detroit:20280801T130000
DTSTAMP:20260421T131714
CREATED:20260203T145026Z
LAST-MODIFIED:20260203T145026Z
UID:10001232-1848744000-1848747600@www.tabletopcincy.com
SUMMARY:Tuesday Lunch Time Gaming!
DESCRIPTION:Join us each Tuesday afternoon for lunch time gaming!
URL:https://www.tabletopcincy.com/event/tuesday-lunch-time-gaming/2028-08-01/
LOCATION:Tabletop Cincy\, 4876 Union Center Pavilion\, West Chester\, OH\, 45069\, United States
ATTACH;FMTTYPE=image/jpeg:https://www.tabletopcincy.com/wp-content/uploads/2026/02/February-Events.jpg
END:VEVENT
BEGIN:VEVENT
DTSTART;TZID=America/Detroit:20280804T180000
DTEND;TZID=America/Detroit:20280804T210000
DTSTAMP:20260421T131714
CREATED:20251031T195536Z
LAST-MODIFIED:20251031T195536Z
UID:10000415-1849024800-1849035600@www.tabletopcincy.com
SUMMARY:Friday Night Magic!
DESCRIPTION:Join us each Friday for a variety of Friday Night Magic shenanigans. We will be having a variety of different events including Commander\, draft\, and prerelease!
URL:https://www.tabletopcincy.com/event/friday-night-magic/2028-08-04/
LOCATION:Tabletop Cincy\, 4876 Union Center Pavilion\, West Chester\, OH\, 45069\, United States
ATTACH;FMTTYPE=image/png:https://www.tabletopcincy.com/wp-content/uploads/2025/10/Board-Game-Night-1.png
END:VEVENT
BEGIN:VEVENT
DTSTART;TZID=America/Detroit:20280805T160000
DTEND;TZID=America/Detroit:20280805T180000
DTSTAMP:20260421T131714
CREATED:20251031T200340Z
LAST-MODIFIED:20260203T160919Z
UID:10001511-1849104000-1849111200@www.tabletopcincy.com
SUMMARY:Pokémon Saturdays!
DESCRIPTION:Join us each Saturday for Pokémon from 4p-6p. There will be someone on hand to help teach. Open to gamers of all ages!
URL:https://www.tabletopcincy.com/event/pokemon-saturdays/2028-08-05/
LOCATION:Tabletop Cincy\, 4876 Union Center Pavilion\, West Chester\, OH\, 45069\, United States
ATTACH;FMTTYPE=image/jpeg:https://www.tabletopcincy.com/wp-content/uploads/2025/10/February-Events-6.jpg
END:VEVENT
BEGIN:VEVENT
DTSTART;TZID=America/Detroit:20280808T120000
DTEND;TZID=America/Detroit:20280808T130000
DTSTAMP:20260421T131714
CREATED:20260203T145026Z
LAST-MODIFIED:20260203T145026Z
UID:10001233-1849348800-1849352400@www.tabletopcincy.com
SUMMARY:Tuesday Lunch Time Gaming!
DESCRIPTION:Join us each Tuesday afternoon for lunch time gaming!
URL:https://www.tabletopcincy.com/event/tuesday-lunch-time-gaming/2028-08-08/
LOCATION:Tabletop Cincy\, 4876 Union Center Pavilion\, West Chester\, OH\, 45069\, United States
ATTACH;FMTTYPE=image/jpeg:https://www.tabletopcincy.com/wp-content/uploads/2026/02/February-Events.jpg
END:VEVENT
BEGIN:VEVENT
DTSTART;TZID=America/Detroit:20280811T180000
DTEND;TZID=America/Detroit:20280811T210000
DTSTAMP:20260421T131714
CREATED:20251031T195536Z
LAST-MODIFIED:20251031T195536Z
UID:10000416-1849629600-1849640400@www.tabletopcincy.com
SUMMARY:Friday Night Magic!
DESCRIPTION:Join us each Friday for a variety of Friday Night Magic shenanigans. We will be having a variety of different events including Commander\, draft\, and prerelease!
URL:https://www.tabletopcincy.com/event/friday-night-magic/2028-08-11/
LOCATION:Tabletop Cincy\, 4876 Union Center Pavilion\, West Chester\, OH\, 45069\, United States
ATTACH;FMTTYPE=image/png:https://www.tabletopcincy.com/wp-content/uploads/2025/10/Board-Game-Night-1.png
END:VEVENT
BEGIN:VEVENT
DTSTART;TZID=America/Detroit:20280812T160000
DTEND;TZID=America/Detroit:20280812T180000
DTSTAMP:20260421T131714
CREATED:20251031T200340Z
LAST-MODIFIED:20260203T160919Z
UID:10001512-1849708800-1849716000@www.tabletopcincy.com
SUMMARY:Pokémon Saturdays!
DESCRIPTION:Join us each Saturday for Pokémon from 4p-6p. There will be someone on hand to help teach. Open to gamers of all ages!
URL:https://www.tabletopcincy.com/event/pokemon-saturdays/2028-08-12/
LOCATION:Tabletop Cincy\, 4876 Union Center Pavilion\, West Chester\, OH\, 45069\, United States
ATTACH;FMTTYPE=image/jpeg:https://www.tabletopcincy.com/wp-content/uploads/2025/10/February-Events-6.jpg
END:VEVENT
END:VCALENDAR