BEGIN:VCALENDAR
VERSION:2.0
PRODID:-//Tabletop Cincy - ECPv6.15.18//NONSGML v1.0//EN
CALSCALE:GREGORIAN
METHOD:PUBLISH
X-ORIGINAL-URL:https://www.tabletopcincy.com
X-WR-CALDESC:Events for Tabletop Cincy
REFRESH-INTERVAL;VALUE=DURATION:PT1H
X-Robots-Tag:noindex
X-PUBLISHED-TTL:PT1H
BEGIN:VTIMEZONE
TZID:America/Detroit
BEGIN:DAYLIGHT
TZOFFSETFROM:-0500
TZOFFSETTO:-0400
TZNAME:EDT
DTSTART:20290311T070000
END:DAYLIGHT
BEGIN:STANDARD
TZOFFSETFROM:-0400
TZOFFSETTO:-0500
TZNAME:EST
DTSTART:20291104T060000
END:STANDARD
BEGIN:DAYLIGHT
TZOFFSETFROM:-0500
TZOFFSETTO:-0400
TZNAME:EDT
DTSTART:20300310T070000
END:DAYLIGHT
BEGIN:STANDARD
TZOFFSETFROM:-0400
TZOFFSETTO:-0500
TZNAME:EST
DTSTART:20301103T060000
END:STANDARD
BEGIN:DAYLIGHT
TZOFFSETFROM:-0500
TZOFFSETTO:-0400
TZNAME:EDT
DTSTART:20310309T070000
END:DAYLIGHT
BEGIN:STANDARD
TZOFFSETFROM:-0400
TZOFFSETTO:-0500
TZNAME:EST
DTSTART:20311102T060000
END:STANDARD
END:VTIMEZONE
BEGIN:VEVENT
DTSTART;TZID=America/Detroit:20300514T120000
DTEND;TZID=America/Detroit:20300514T130000
DTSTAMP:20260423T030601
CREATED:20260203T145026Z
LAST-MODIFIED:20260203T145026Z
UID:10001325-1904990400-1904994000@www.tabletopcincy.com
SUMMARY:Tuesday Lunch Time Gaming!
DESCRIPTION:Join us each Tuesday afternoon for lunch time gaming!
URL:https://www.tabletopcincy.com/event/tuesday-lunch-time-gaming/2030-05-14/
LOCATION:Tabletop Cincy\, 4876 Union Center Pavilion\, West Chester\, OH\, 45069\, United States
ATTACH;FMTTYPE=image/jpeg:https://www.tabletopcincy.com/wp-content/uploads/2026/02/February-Events.jpg
END:VEVENT
BEGIN:VEVENT
DTSTART;TZID=America/Detroit:20300516T173000
DTEND;TZID=America/Detroit:20300516T210000
DTSTAMP:20260423T030601
CREATED:20260315T224837Z
LAST-MODIFIED:20260315T224837Z
UID:10002234-1905183000-1905195600@www.tabletopcincy.com
SUMMARY:TCG Trade Day!
DESCRIPTION:Join us for TCG Trade Day! Bring your binder\, make some trades\, and join in on the fun with the community! \nThis is an official Pokémon organized play event\, those that provide their Pokémon ID will earn a prize pack!
URL:https://www.tabletopcincy.com/event/tcg-trade-day-3/2030-05-16/
LOCATION:Tabletop Cincy\, 4876 Union Center Pavilion\, West Chester\, OH\, 45069\, United States
ATTACH;FMTTYPE=image/jpeg:https://www.tabletopcincy.com/wp-content/uploads/2026/03/TRADE-DAY-3.jpg
END:VEVENT
BEGIN:VEVENT
DTSTART;TZID=America/Detroit:20300517T180000
DTEND;TZID=America/Detroit:20300517T210000
DTSTAMP:20260423T030601
CREATED:20251031T195536Z
LAST-MODIFIED:20251031T195536Z
UID:10000508-1905271200-1905282000@www.tabletopcincy.com
SUMMARY:Friday Night Magic!
DESCRIPTION:Join us each Friday for a variety of Friday Night Magic shenanigans. We will be having a variety of different events including Commander\, draft\, and prerelease!
URL:https://www.tabletopcincy.com/event/friday-night-magic/2030-05-17/
LOCATION:Tabletop Cincy\, 4876 Union Center Pavilion\, West Chester\, OH\, 45069\, United States
ATTACH;FMTTYPE=image/png:https://www.tabletopcincy.com/wp-content/uploads/2025/10/Board-Game-Night-1.png
END:VEVENT
BEGIN:VEVENT
DTSTART;TZID=America/Detroit:20300518T160000
DTEND;TZID=America/Detroit:20300518T180000
DTSTAMP:20260423T030601
CREATED:20251031T200340Z
LAST-MODIFIED:20260203T160919Z
UID:10001604-1905350400-1905357600@www.tabletopcincy.com
SUMMARY:Pokémon Saturdays!
DESCRIPTION:Join us each Saturday for Pokémon from 4p-6p. There will be someone on hand to help teach. Open to gamers of all ages!
URL:https://www.tabletopcincy.com/event/pokemon-saturdays/2030-05-18/
LOCATION:Tabletop Cincy\, 4876 Union Center Pavilion\, West Chester\, OH\, 45069\, United States
ATTACH;FMTTYPE=image/jpeg:https://www.tabletopcincy.com/wp-content/uploads/2025/10/February-Events-6.jpg
END:VEVENT
BEGIN:VEVENT
DTSTART;TZID=America/Detroit:20300521T120000
DTEND;TZID=America/Detroit:20300521T130000
DTSTAMP:20260423T030601
CREATED:20260203T145026Z
LAST-MODIFIED:20260203T145026Z
UID:10001326-1905595200-1905598800@www.tabletopcincy.com
SUMMARY:Tuesday Lunch Time Gaming!
DESCRIPTION:Join us each Tuesday afternoon for lunch time gaming!
URL:https://www.tabletopcincy.com/event/tuesday-lunch-time-gaming/2030-05-21/
LOCATION:Tabletop Cincy\, 4876 Union Center Pavilion\, West Chester\, OH\, 45069\, United States
ATTACH;FMTTYPE=image/jpeg:https://www.tabletopcincy.com/wp-content/uploads/2026/02/February-Events.jpg
END:VEVENT
BEGIN:VEVENT
DTSTART;TZID=America/Detroit:20300524T180000
DTEND;TZID=America/Detroit:20300524T210000
DTSTAMP:20260423T030601
CREATED:20251031T195536Z
LAST-MODIFIED:20251031T195536Z
UID:10000509-1905876000-1905886800@www.tabletopcincy.com
SUMMARY:Friday Night Magic!
DESCRIPTION:Join us each Friday for a variety of Friday Night Magic shenanigans. We will be having a variety of different events including Commander\, draft\, and prerelease!
URL:https://www.tabletopcincy.com/event/friday-night-magic/2030-05-24/
LOCATION:Tabletop Cincy\, 4876 Union Center Pavilion\, West Chester\, OH\, 45069\, United States
ATTACH;FMTTYPE=image/png:https://www.tabletopcincy.com/wp-content/uploads/2025/10/Board-Game-Night-1.png
END:VEVENT
BEGIN:VEVENT
DTSTART;TZID=America/Detroit:20300525T160000
DTEND;TZID=America/Detroit:20300525T180000
DTSTAMP:20260423T030601
CREATED:20251031T200340Z
LAST-MODIFIED:20260203T160919Z
UID:10001605-1905955200-1905962400@www.tabletopcincy.com
SUMMARY:Pokémon Saturdays!
DESCRIPTION:Join us each Saturday for Pokémon from 4p-6p. There will be someone on hand to help teach. Open to gamers of all ages!
URL:https://www.tabletopcincy.com/event/pokemon-saturdays/2030-05-25/
LOCATION:Tabletop Cincy\, 4876 Union Center Pavilion\, West Chester\, OH\, 45069\, United States
ATTACH;FMTTYPE=image/jpeg:https://www.tabletopcincy.com/wp-content/uploads/2025/10/February-Events-6.jpg
END:VEVENT
BEGIN:VEVENT
DTSTART;TZID=America/Detroit:20300528T120000
DTEND;TZID=America/Detroit:20300528T130000
DTSTAMP:20260423T030601
CREATED:20260203T145026Z
LAST-MODIFIED:20260203T145026Z
UID:10001327-1906200000-1906203600@www.tabletopcincy.com
SUMMARY:Tuesday Lunch Time Gaming!
DESCRIPTION:Join us each Tuesday afternoon for lunch time gaming!
URL:https://www.tabletopcincy.com/event/tuesday-lunch-time-gaming/2030-05-28/
LOCATION:Tabletop Cincy\, 4876 Union Center Pavilion\, West Chester\, OH\, 45069\, United States
ATTACH;FMTTYPE=image/jpeg:https://www.tabletopcincy.com/wp-content/uploads/2026/02/February-Events.jpg
END:VEVENT
BEGIN:VEVENT
DTSTART;TZID=America/Detroit:20300531T180000
DTEND;TZID=America/Detroit:20300531T210000
DTSTAMP:20260423T030601
CREATED:20251031T195536Z
LAST-MODIFIED:20251031T195536Z
UID:10000510-1906480800-1906491600@www.tabletopcincy.com
SUMMARY:Friday Night Magic!
DESCRIPTION:Join us each Friday for a variety of Friday Night Magic shenanigans. We will be having a variety of different events including Commander\, draft\, and prerelease!
URL:https://www.tabletopcincy.com/event/friday-night-magic/2030-05-31/
LOCATION:Tabletop Cincy\, 4876 Union Center Pavilion\, West Chester\, OH\, 45069\, United States
ATTACH;FMTTYPE=image/png:https://www.tabletopcincy.com/wp-content/uploads/2025/10/Board-Game-Night-1.png
END:VEVENT
BEGIN:VEVENT
DTSTART;TZID=America/Detroit:20300601T160000
DTEND;TZID=America/Detroit:20300601T180000
DTSTAMP:20260423T030601
CREATED:20251031T200340Z
LAST-MODIFIED:20260203T160919Z
UID:10001606-1906560000-1906567200@www.tabletopcincy.com
SUMMARY:Pokémon Saturdays!
DESCRIPTION:Join us each Saturday for Pokémon from 4p-6p. There will be someone on hand to help teach. Open to gamers of all ages!
URL:https://www.tabletopcincy.com/event/pokemon-saturdays/2030-06-01/
LOCATION:Tabletop Cincy\, 4876 Union Center Pavilion\, West Chester\, OH\, 45069\, United States
ATTACH;FMTTYPE=image/jpeg:https://www.tabletopcincy.com/wp-content/uploads/2025/10/February-Events-6.jpg
END:VEVENT
BEGIN:VEVENT
DTSTART;TZID=America/Detroit:20300604T120000
DTEND;TZID=America/Detroit:20300604T130000
DTSTAMP:20260423T030601
CREATED:20260203T145026Z
LAST-MODIFIED:20260203T145026Z
UID:10001328-1906804800-1906808400@www.tabletopcincy.com
SUMMARY:Tuesday Lunch Time Gaming!
DESCRIPTION:Join us each Tuesday afternoon for lunch time gaming!
URL:https://www.tabletopcincy.com/event/tuesday-lunch-time-gaming/2030-06-04/
LOCATION:Tabletop Cincy\, 4876 Union Center Pavilion\, West Chester\, OH\, 45069\, United States
ATTACH;FMTTYPE=image/jpeg:https://www.tabletopcincy.com/wp-content/uploads/2026/02/February-Events.jpg
END:VEVENT
BEGIN:VEVENT
DTSTART;TZID=America/Detroit:20300607T180000
DTEND;TZID=America/Detroit:20300607T210000
DTSTAMP:20260423T030601
CREATED:20251031T195536Z
LAST-MODIFIED:20251031T195536Z
UID:10000511-1907085600-1907096400@www.tabletopcincy.com
SUMMARY:Friday Night Magic!
DESCRIPTION:Join us each Friday for a variety of Friday Night Magic shenanigans. We will be having a variety of different events including Commander\, draft\, and prerelease!
URL:https://www.tabletopcincy.com/event/friday-night-magic/2030-06-07/
LOCATION:Tabletop Cincy\, 4876 Union Center Pavilion\, West Chester\, OH\, 45069\, United States
ATTACH;FMTTYPE=image/png:https://www.tabletopcincy.com/wp-content/uploads/2025/10/Board-Game-Night-1.png
END:VEVENT
BEGIN:VEVENT
DTSTART;TZID=America/Detroit:20300608T160000
DTEND;TZID=America/Detroit:20300608T180000
DTSTAMP:20260423T030601
CREATED:20251031T200340Z
LAST-MODIFIED:20260203T160919Z
UID:10001607-1907164800-1907172000@www.tabletopcincy.com
SUMMARY:Pokémon Saturdays!
DESCRIPTION:Join us each Saturday for Pokémon from 4p-6p. There will be someone on hand to help teach. Open to gamers of all ages!
URL:https://www.tabletopcincy.com/event/pokemon-saturdays/2030-06-08/
LOCATION:Tabletop Cincy\, 4876 Union Center Pavilion\, West Chester\, OH\, 45069\, United States
ATTACH;FMTTYPE=image/jpeg:https://www.tabletopcincy.com/wp-content/uploads/2025/10/February-Events-6.jpg
END:VEVENT
BEGIN:VEVENT
DTSTART;TZID=America/Detroit:20300611T120000
DTEND;TZID=America/Detroit:20300611T130000
DTSTAMP:20260423T030601
CREATED:20260203T145026Z
LAST-MODIFIED:20260203T145026Z
UID:10001329-1907409600-1907413200@www.tabletopcincy.com
SUMMARY:Tuesday Lunch Time Gaming!
DESCRIPTION:Join us each Tuesday afternoon for lunch time gaming!
URL:https://www.tabletopcincy.com/event/tuesday-lunch-time-gaming/2030-06-11/
LOCATION:Tabletop Cincy\, 4876 Union Center Pavilion\, West Chester\, OH\, 45069\, United States
ATTACH;FMTTYPE=image/jpeg:https://www.tabletopcincy.com/wp-content/uploads/2026/02/February-Events.jpg
END:VEVENT
BEGIN:VEVENT
DTSTART;TZID=America/Detroit:20300614T180000
DTEND;TZID=America/Detroit:20300614T210000
DTSTAMP:20260423T030601
CREATED:20251031T195536Z
LAST-MODIFIED:20251031T195536Z
UID:10000512-1907690400-1907701200@www.tabletopcincy.com
SUMMARY:Friday Night Magic!
DESCRIPTION:Join us each Friday for a variety of Friday Night Magic shenanigans. We will be having a variety of different events including Commander\, draft\, and prerelease!
URL:https://www.tabletopcincy.com/event/friday-night-magic/2030-06-14/
LOCATION:Tabletop Cincy\, 4876 Union Center Pavilion\, West Chester\, OH\, 45069\, United States
ATTACH;FMTTYPE=image/png:https://www.tabletopcincy.com/wp-content/uploads/2025/10/Board-Game-Night-1.png
END:VEVENT
BEGIN:VEVENT
DTSTART;TZID=America/Detroit:20300615T160000
DTEND;TZID=America/Detroit:20300615T180000
DTSTAMP:20260423T030601
CREATED:20251031T200340Z
LAST-MODIFIED:20260203T160919Z
UID:10001608-1907769600-1907776800@www.tabletopcincy.com
SUMMARY:Pokémon Saturdays!
DESCRIPTION:Join us each Saturday for Pokémon from 4p-6p. There will be someone on hand to help teach. Open to gamers of all ages!
URL:https://www.tabletopcincy.com/event/pokemon-saturdays/2030-06-15/
LOCATION:Tabletop Cincy\, 4876 Union Center Pavilion\, West Chester\, OH\, 45069\, United States
ATTACH;FMTTYPE=image/jpeg:https://www.tabletopcincy.com/wp-content/uploads/2025/10/February-Events-6.jpg
END:VEVENT
BEGIN:VEVENT
DTSTART;TZID=America/Detroit:20300618T120000
DTEND;TZID=America/Detroit:20300618T130000
DTSTAMP:20260423T030601
CREATED:20260203T145026Z
LAST-MODIFIED:20260203T145026Z
UID:10001330-1908014400-1908018000@www.tabletopcincy.com
SUMMARY:Tuesday Lunch Time Gaming!
DESCRIPTION:Join us each Tuesday afternoon for lunch time gaming!
URL:https://www.tabletopcincy.com/event/tuesday-lunch-time-gaming/2030-06-18/
LOCATION:Tabletop Cincy\, 4876 Union Center Pavilion\, West Chester\, OH\, 45069\, United States
ATTACH;FMTTYPE=image/jpeg:https://www.tabletopcincy.com/wp-content/uploads/2026/02/February-Events.jpg
END:VEVENT
BEGIN:VEVENT
DTSTART;TZID=America/Detroit:20300620T173000
DTEND;TZID=America/Detroit:20300620T210000
DTSTAMP:20260423T030601
CREATED:20260315T224837Z
LAST-MODIFIED:20260315T224837Z
UID:10002235-1908207000-1908219600@www.tabletopcincy.com
SUMMARY:TCG Trade Day!
DESCRIPTION:Join us for TCG Trade Day! Bring your binder\, make some trades\, and join in on the fun with the community! \nThis is an official Pokémon organized play event\, those that provide their Pokémon ID will earn a prize pack!
URL:https://www.tabletopcincy.com/event/tcg-trade-day-3/2030-06-20/
LOCATION:Tabletop Cincy\, 4876 Union Center Pavilion\, West Chester\, OH\, 45069\, United States
ATTACH;FMTTYPE=image/jpeg:https://www.tabletopcincy.com/wp-content/uploads/2026/03/TRADE-DAY-3.jpg
END:VEVENT
BEGIN:VEVENT
DTSTART;TZID=America/Detroit:20300621T180000
DTEND;TZID=America/Detroit:20300621T210000
DTSTAMP:20260423T030601
CREATED:20251031T195536Z
LAST-MODIFIED:20251031T195536Z
UID:10000513-1908295200-1908306000@www.tabletopcincy.com
SUMMARY:Friday Night Magic!
DESCRIPTION:Join us each Friday for a variety of Friday Night Magic shenanigans. We will be having a variety of different events including Commander\, draft\, and prerelease!
URL:https://www.tabletopcincy.com/event/friday-night-magic/2030-06-21/
LOCATION:Tabletop Cincy\, 4876 Union Center Pavilion\, West Chester\, OH\, 45069\, United States
ATTACH;FMTTYPE=image/png:https://www.tabletopcincy.com/wp-content/uploads/2025/10/Board-Game-Night-1.png
END:VEVENT
BEGIN:VEVENT
DTSTART;TZID=America/Detroit:20300622T160000
DTEND;TZID=America/Detroit:20300622T180000
DTSTAMP:20260423T030601
CREATED:20251031T200340Z
LAST-MODIFIED:20260203T160919Z
UID:10001609-1908374400-1908381600@www.tabletopcincy.com
SUMMARY:Pokémon Saturdays!
DESCRIPTION:Join us each Saturday for Pokémon from 4p-6p. There will be someone on hand to help teach. Open to gamers of all ages!
URL:https://www.tabletopcincy.com/event/pokemon-saturdays/2030-06-22/
LOCATION:Tabletop Cincy\, 4876 Union Center Pavilion\, West Chester\, OH\, 45069\, United States
ATTACH;FMTTYPE=image/jpeg:https://www.tabletopcincy.com/wp-content/uploads/2025/10/February-Events-6.jpg
END:VEVENT
BEGIN:VEVENT
DTSTART;TZID=America/Detroit:20300625T120000
DTEND;TZID=America/Detroit:20300625T130000
DTSTAMP:20260423T030601
CREATED:20260203T145026Z
LAST-MODIFIED:20260203T145026Z
UID:10001331-1908619200-1908622800@www.tabletopcincy.com
SUMMARY:Tuesday Lunch Time Gaming!
DESCRIPTION:Join us each Tuesday afternoon for lunch time gaming!
URL:https://www.tabletopcincy.com/event/tuesday-lunch-time-gaming/2030-06-25/
LOCATION:Tabletop Cincy\, 4876 Union Center Pavilion\, West Chester\, OH\, 45069\, United States
ATTACH;FMTTYPE=image/jpeg:https://www.tabletopcincy.com/wp-content/uploads/2026/02/February-Events.jpg
END:VEVENT
BEGIN:VEVENT
DTSTART;TZID=America/Detroit:20300628T180000
DTEND;TZID=America/Detroit:20300628T210000
DTSTAMP:20260423T030601
CREATED:20251031T195536Z
LAST-MODIFIED:20251031T195536Z
UID:10000514-1908900000-1908910800@www.tabletopcincy.com
SUMMARY:Friday Night Magic!
DESCRIPTION:Join us each Friday for a variety of Friday Night Magic shenanigans. We will be having a variety of different events including Commander\, draft\, and prerelease!
URL:https://www.tabletopcincy.com/event/friday-night-magic/2030-06-28/
LOCATION:Tabletop Cincy\, 4876 Union Center Pavilion\, West Chester\, OH\, 45069\, United States
ATTACH;FMTTYPE=image/png:https://www.tabletopcincy.com/wp-content/uploads/2025/10/Board-Game-Night-1.png
END:VEVENT
BEGIN:VEVENT
DTSTART;TZID=America/Detroit:20300629T160000
DTEND;TZID=America/Detroit:20300629T180000
DTSTAMP:20260423T030601
CREATED:20251031T200340Z
LAST-MODIFIED:20260203T160919Z
UID:10001610-1908979200-1908986400@www.tabletopcincy.com
SUMMARY:Pokémon Saturdays!
DESCRIPTION:Join us each Saturday for Pokémon from 4p-6p. There will be someone on hand to help teach. Open to gamers of all ages!
URL:https://www.tabletopcincy.com/event/pokemon-saturdays/2030-06-29/
LOCATION:Tabletop Cincy\, 4876 Union Center Pavilion\, West Chester\, OH\, 45069\, United States
ATTACH;FMTTYPE=image/jpeg:https://www.tabletopcincy.com/wp-content/uploads/2025/10/February-Events-6.jpg
END:VEVENT
BEGIN:VEVENT
DTSTART;TZID=America/Detroit:20300702T120000
DTEND;TZID=America/Detroit:20300702T130000
DTSTAMP:20260423T030601
CREATED:20260203T145026Z
LAST-MODIFIED:20260203T145026Z
UID:10001332-1909224000-1909227600@www.tabletopcincy.com
SUMMARY:Tuesday Lunch Time Gaming!
DESCRIPTION:Join us each Tuesday afternoon for lunch time gaming!
URL:https://www.tabletopcincy.com/event/tuesday-lunch-time-gaming/2030-07-02/
LOCATION:Tabletop Cincy\, 4876 Union Center Pavilion\, West Chester\, OH\, 45069\, United States
ATTACH;FMTTYPE=image/jpeg:https://www.tabletopcincy.com/wp-content/uploads/2026/02/February-Events.jpg
END:VEVENT
BEGIN:VEVENT
DTSTART;TZID=America/Detroit:20300705T180000
DTEND;TZID=America/Detroit:20300705T210000
DTSTAMP:20260423T030601
CREATED:20251031T195536Z
LAST-MODIFIED:20251031T195536Z
UID:10000515-1909504800-1909515600@www.tabletopcincy.com
SUMMARY:Friday Night Magic!
DESCRIPTION:Join us each Friday for a variety of Friday Night Magic shenanigans. We will be having a variety of different events including Commander\, draft\, and prerelease!
URL:https://www.tabletopcincy.com/event/friday-night-magic/2030-07-05/
LOCATION:Tabletop Cincy\, 4876 Union Center Pavilion\, West Chester\, OH\, 45069\, United States
ATTACH;FMTTYPE=image/png:https://www.tabletopcincy.com/wp-content/uploads/2025/10/Board-Game-Night-1.png
END:VEVENT
BEGIN:VEVENT
DTSTART;TZID=America/Detroit:20300706T160000
DTEND;TZID=America/Detroit:20300706T180000
DTSTAMP:20260423T030601
CREATED:20251031T200340Z
LAST-MODIFIED:20260203T160919Z
UID:10001611-1909584000-1909591200@www.tabletopcincy.com
SUMMARY:Pokémon Saturdays!
DESCRIPTION:Join us each Saturday for Pokémon from 4p-6p. There will be someone on hand to help teach. Open to gamers of all ages!
URL:https://www.tabletopcincy.com/event/pokemon-saturdays/2030-07-06/
LOCATION:Tabletop Cincy\, 4876 Union Center Pavilion\, West Chester\, OH\, 45069\, United States
ATTACH;FMTTYPE=image/jpeg:https://www.tabletopcincy.com/wp-content/uploads/2025/10/February-Events-6.jpg
END:VEVENT
BEGIN:VEVENT
DTSTART;TZID=America/Detroit:20300709T120000
DTEND;TZID=America/Detroit:20300709T130000
DTSTAMP:20260423T030601
CREATED:20260203T145026Z
LAST-MODIFIED:20260203T145026Z
UID:10001333-1909828800-1909832400@www.tabletopcincy.com
SUMMARY:Tuesday Lunch Time Gaming!
DESCRIPTION:Join us each Tuesday afternoon for lunch time gaming!
URL:https://www.tabletopcincy.com/event/tuesday-lunch-time-gaming/2030-07-09/
LOCATION:Tabletop Cincy\, 4876 Union Center Pavilion\, West Chester\, OH\, 45069\, United States
ATTACH;FMTTYPE=image/jpeg:https://www.tabletopcincy.com/wp-content/uploads/2026/02/February-Events.jpg
END:VEVENT
BEGIN:VEVENT
DTSTART;TZID=America/Detroit:20300712T180000
DTEND;TZID=America/Detroit:20300712T210000
DTSTAMP:20260423T030601
CREATED:20251031T195536Z
LAST-MODIFIED:20251031T195536Z
UID:10000516-1910109600-1910120400@www.tabletopcincy.com
SUMMARY:Friday Night Magic!
DESCRIPTION:Join us each Friday for a variety of Friday Night Magic shenanigans. We will be having a variety of different events including Commander\, draft\, and prerelease!
URL:https://www.tabletopcincy.com/event/friday-night-magic/2030-07-12/
LOCATION:Tabletop Cincy\, 4876 Union Center Pavilion\, West Chester\, OH\, 45069\, United States
ATTACH;FMTTYPE=image/png:https://www.tabletopcincy.com/wp-content/uploads/2025/10/Board-Game-Night-1.png
END:VEVENT
BEGIN:VEVENT
DTSTART;TZID=America/Detroit:20300713T160000
DTEND;TZID=America/Detroit:20300713T180000
DTSTAMP:20260423T030601
CREATED:20251031T200340Z
LAST-MODIFIED:20260203T160919Z
UID:10001612-1910188800-1910196000@www.tabletopcincy.com
SUMMARY:Pokémon Saturdays!
DESCRIPTION:Join us each Saturday for Pokémon from 4p-6p. There will be someone on hand to help teach. Open to gamers of all ages!
URL:https://www.tabletopcincy.com/event/pokemon-saturdays/2030-07-13/
LOCATION:Tabletop Cincy\, 4876 Union Center Pavilion\, West Chester\, OH\, 45069\, United States
ATTACH;FMTTYPE=image/jpeg:https://www.tabletopcincy.com/wp-content/uploads/2025/10/February-Events-6.jpg
END:VEVENT
BEGIN:VEVENT
DTSTART;TZID=America/Detroit:20300716T120000
DTEND;TZID=America/Detroit:20300716T130000
DTSTAMP:20260423T030601
CREATED:20260203T145026Z
LAST-MODIFIED:20260203T145026Z
UID:10001334-1910433600-1910437200@www.tabletopcincy.com
SUMMARY:Tuesday Lunch Time Gaming!
DESCRIPTION:Join us each Tuesday afternoon for lunch time gaming!
URL:https://www.tabletopcincy.com/event/tuesday-lunch-time-gaming/2030-07-16/
LOCATION:Tabletop Cincy\, 4876 Union Center Pavilion\, West Chester\, OH\, 45069\, United States
ATTACH;FMTTYPE=image/jpeg:https://www.tabletopcincy.com/wp-content/uploads/2026/02/February-Events.jpg
END:VEVENT
END:VCALENDAR