BEGIN:VCALENDAR
VERSION:2.0
PRODID:-//Tabletop Cincy - ECPv6.15.18//NONSGML v1.0//EN
CALSCALE:GREGORIAN
METHOD:PUBLISH
X-WR-CALNAME:Tabletop Cincy
X-ORIGINAL-URL:https://www.tabletopcincy.com
X-WR-CALDESC:Events for Tabletop Cincy
REFRESH-INTERVAL;VALUE=DURATION:PT1H
X-Robots-Tag:noindex
X-PUBLISHED-TTL:PT1H
BEGIN:VTIMEZONE
TZID:America/Detroit
BEGIN:DAYLIGHT
TZOFFSETFROM:-0500
TZOFFSETTO:-0400
TZNAME:EDT
DTSTART:20250309T070000
END:DAYLIGHT
BEGIN:STANDARD
TZOFFSETFROM:-0400
TZOFFSETTO:-0500
TZNAME:EST
DTSTART:20251102T060000
END:STANDARD
BEGIN:DAYLIGHT
TZOFFSETFROM:-0500
TZOFFSETTO:-0400
TZNAME:EDT
DTSTART:20260308T070000
END:DAYLIGHT
BEGIN:STANDARD
TZOFFSETFROM:-0400
TZOFFSETTO:-0500
TZNAME:EST
DTSTART:20261101T060000
END:STANDARD
BEGIN:DAYLIGHT
TZOFFSETFROM:-0500
TZOFFSETTO:-0400
TZNAME:EDT
DTSTART:20270314T070000
END:DAYLIGHT
BEGIN:STANDARD
TZOFFSETFROM:-0400
TZOFFSETTO:-0500
TZNAME:EST
DTSTART:20271107T060000
END:STANDARD
END:VTIMEZONE
BEGIN:VEVENT
DTSTART;TZID=America/Detroit:20260815T160000
DTEND;TZID=America/Detroit:20260815T180000
DTSTAMP:20260419T155134
CREATED:20251031T200340Z
LAST-MODIFIED:20260203T160919Z
UID:10001408-1786809600-1786816800@www.tabletopcincy.com
SUMMARY:Pokémon Saturdays!
DESCRIPTION:Join us each Saturday for Pokémon from 4p-6p. There will be someone on hand to help teach. Open to gamers of all ages!
URL:https://www.tabletopcincy.com/event/pokemon-saturdays/2026-08-15/
LOCATION:Tabletop Cincy\, 4876 Union Center Pavilion\, West Chester\, OH\, 45069\, United States
ATTACH;FMTTYPE=image/jpeg:https://www.tabletopcincy.com/wp-content/uploads/2025/10/February-Events-6.jpg
END:VEVENT
BEGIN:VEVENT
DTSTART;TZID=America/Detroit:20260816T170000
DTEND;TZID=America/Detroit:20260816T200000
DTSTAMP:20260419T155134
CREATED:20260331T185138Z
LAST-MODIFIED:20260331T185138Z
UID:10002324-1786899600-1786910400@www.tabletopcincy.com
SUMMARY:Sunday Evening Nexus Nights
DESCRIPTION:Join us each Sunday at 5p for a Nexus Night event. \nEntry: $10 \nTime: 5p \nEvents will vary by the week\, all participants will receive a pack of Riftbound and Nexus Nights packs (while supplies last) \nRSVP Required: (https://locator.riftbound.uvsgames.com/events) Just search for Tabletop Cincy to see all of our upcoming events!
URL:https://www.tabletopcincy.com/event/sunday-evening-nexus-nights-2/2026-08-16/
LOCATION:Tabletop Cincy\, 4876 Union Center Pavilion\, West Chester\, OH\, 45069\, United States
ATTACH;FMTTYPE=image/webp:https://www.tabletopcincy.com/wp-content/uploads/2026/02/RiftboundOG.webp
END:VEVENT
BEGIN:VEVENT
DTSTART;TZID=America/Detroit:20260818T120000
DTEND;TZID=America/Detroit:20260818T130000
DTSTAMP:20260419T155134
CREATED:20260203T145026Z
LAST-MODIFIED:20260203T145026Z
UID:10001130-1787054400-1787058000@www.tabletopcincy.com
SUMMARY:Tuesday Lunch Time Gaming!
DESCRIPTION:Join us each Tuesday afternoon for lunch time gaming!
URL:https://www.tabletopcincy.com/event/tuesday-lunch-time-gaming/2026-08-18/
LOCATION:Tabletop Cincy\, 4876 Union Center Pavilion\, West Chester\, OH\, 45069\, United States
ATTACH;FMTTYPE=image/jpeg:https://www.tabletopcincy.com/wp-content/uploads/2026/02/February-Events.jpg
END:VEVENT
BEGIN:VEVENT
DTSTART;TZID=America/Detroit:20260818T180000
DTEND;TZID=America/Detroit:20260818T210000
DTSTAMP:20260419T155134
CREATED:20260330T191705Z
LAST-MODIFIED:20260330T191705Z
UID:10002267-1787076000-1787086800@www.tabletopcincy.com
SUMMARY:Game Night w/ Giveaway!
DESCRIPTION:🎲 Big Update for Game Night! 🎲 \nStarting in April\, our weekly Game Night is moving to Tuesday nights from 6PM–9PM! \nTo celebrate\, we’re doing something extra fun all month long…\n🎁 We’re giving away a game EVERY Tuesday in April! 🎁 \nEveryone who joins us will receive a raffle ticket\, and at the end of the night we’ll draw a winner to take home a game! \nCome hang out\, play something new\, and maybe leave with a new favorite for your collection. See you Tuesday nights!
URL:https://www.tabletopcincy.com/event/game-night-w-giveaway/2026-08-18/
LOCATION:Tabletop Cincy\, 4876 Union Center Pavilion\, West Chester\, OH\, 45069\, United States
ATTACH;FMTTYPE=image/jpeg:https://www.tabletopcincy.com/wp-content/uploads/2026/03/Game-Night.jpg
END:VEVENT
BEGIN:VEVENT
DTSTART;TZID=America/Detroit:20260820T173000
DTEND;TZID=America/Detroit:20260820T210000
DTSTAMP:20260419T155134
CREATED:20260315T224837Z
LAST-MODIFIED:20260315T224837Z
UID:10002189-1787247000-1787259600@www.tabletopcincy.com
SUMMARY:TCG Trade Day!
DESCRIPTION:Join us for TCG Trade Day! Bring your binder\, make some trades\, and join in on the fun with the community! \nThis is an official Pokémon organized play event\, those that provide their Pokémon ID will earn a prize pack!
URL:https://www.tabletopcincy.com/event/tcg-trade-day-3/2026-08-20/
LOCATION:Tabletop Cincy\, 4876 Union Center Pavilion\, West Chester\, OH\, 45069\, United States
ATTACH;FMTTYPE=image/jpeg:https://www.tabletopcincy.com/wp-content/uploads/2026/03/TRADE-DAY-3.jpg
END:VEVENT
BEGIN:VEVENT
DTSTART;TZID=America/Detroit:20260821T180000
DTEND;TZID=America/Detroit:20260821T210000
DTSTAMP:20260419T155134
CREATED:20251031T195536Z
LAST-MODIFIED:20251031T195536Z
UID:10000313-1787335200-1787346000@www.tabletopcincy.com
SUMMARY:Friday Night Magic!
DESCRIPTION:Join us each Friday for a variety of Friday Night Magic shenanigans. We will be having a variety of different events including Commander\, draft\, and prerelease!
URL:https://www.tabletopcincy.com/event/friday-night-magic/2026-08-21/
LOCATION:Tabletop Cincy\, 4876 Union Center Pavilion\, West Chester\, OH\, 45069\, United States
ATTACH;FMTTYPE=image/png:https://www.tabletopcincy.com/wp-content/uploads/2025/10/Board-Game-Night-1.png
END:VEVENT
BEGIN:VEVENT
DTSTART;TZID=America/Detroit:20260822T160000
DTEND;TZID=America/Detroit:20260822T180000
DTSTAMP:20260419T155134
CREATED:20251031T200340Z
LAST-MODIFIED:20260203T160919Z
UID:10001409-1787414400-1787421600@www.tabletopcincy.com
SUMMARY:Pokémon Saturdays!
DESCRIPTION:Join us each Saturday for Pokémon from 4p-6p. There will be someone on hand to help teach. Open to gamers of all ages!
URL:https://www.tabletopcincy.com/event/pokemon-saturdays/2026-08-22/
LOCATION:Tabletop Cincy\, 4876 Union Center Pavilion\, West Chester\, OH\, 45069\, United States
ATTACH;FMTTYPE=image/jpeg:https://www.tabletopcincy.com/wp-content/uploads/2025/10/February-Events-6.jpg
END:VEVENT
BEGIN:VEVENT
DTSTART;TZID=America/Detroit:20260823T170000
DTEND;TZID=America/Detroit:20260823T200000
DTSTAMP:20260419T155134
CREATED:20260331T185138Z
LAST-MODIFIED:20260331T185138Z
UID:10002325-1787504400-1787515200@www.tabletopcincy.com
SUMMARY:Sunday Evening Nexus Nights
DESCRIPTION:Join us each Sunday at 5p for a Nexus Night event. \nEntry: $10 \nTime: 5p \nEvents will vary by the week\, all participants will receive a pack of Riftbound and Nexus Nights packs (while supplies last) \nRSVP Required: (https://locator.riftbound.uvsgames.com/events) Just search for Tabletop Cincy to see all of our upcoming events!
URL:https://www.tabletopcincy.com/event/sunday-evening-nexus-nights-2/2026-08-23/
LOCATION:Tabletop Cincy\, 4876 Union Center Pavilion\, West Chester\, OH\, 45069\, United States
ATTACH;FMTTYPE=image/webp:https://www.tabletopcincy.com/wp-content/uploads/2026/02/RiftboundOG.webp
END:VEVENT
BEGIN:VEVENT
DTSTART;TZID=America/Detroit:20260825T120000
DTEND;TZID=America/Detroit:20260825T130000
DTSTAMP:20260419T155134
CREATED:20260203T145026Z
LAST-MODIFIED:20260203T145026Z
UID:10001131-1787659200-1787662800@www.tabletopcincy.com
SUMMARY:Tuesday Lunch Time Gaming!
DESCRIPTION:Join us each Tuesday afternoon for lunch time gaming!
URL:https://www.tabletopcincy.com/event/tuesday-lunch-time-gaming/2026-08-25/
LOCATION:Tabletop Cincy\, 4876 Union Center Pavilion\, West Chester\, OH\, 45069\, United States
ATTACH;FMTTYPE=image/jpeg:https://www.tabletopcincy.com/wp-content/uploads/2026/02/February-Events.jpg
END:VEVENT
BEGIN:VEVENT
DTSTART;TZID=America/Detroit:20260825T180000
DTEND;TZID=America/Detroit:20260825T210000
DTSTAMP:20260419T155134
CREATED:20260330T191705Z
LAST-MODIFIED:20260330T191705Z
UID:10002268-1787680800-1787691600@www.tabletopcincy.com
SUMMARY:Game Night w/ Giveaway!
DESCRIPTION:🎲 Big Update for Game Night! 🎲 \nStarting in April\, our weekly Game Night is moving to Tuesday nights from 6PM–9PM! \nTo celebrate\, we’re doing something extra fun all month long…\n🎁 We’re giving away a game EVERY Tuesday in April! 🎁 \nEveryone who joins us will receive a raffle ticket\, and at the end of the night we’ll draw a winner to take home a game! \nCome hang out\, play something new\, and maybe leave with a new favorite for your collection. See you Tuesday nights!
URL:https://www.tabletopcincy.com/event/game-night-w-giveaway/2026-08-25/
LOCATION:Tabletop Cincy\, 4876 Union Center Pavilion\, West Chester\, OH\, 45069\, United States
ATTACH;FMTTYPE=image/jpeg:https://www.tabletopcincy.com/wp-content/uploads/2026/03/Game-Night.jpg
END:VEVENT
BEGIN:VEVENT
DTSTART;TZID=America/Detroit:20260828T180000
DTEND;TZID=America/Detroit:20260828T210000
DTSTAMP:20260419T155134
CREATED:20251031T195536Z
LAST-MODIFIED:20251031T195536Z
UID:10000314-1787940000-1787950800@www.tabletopcincy.com
SUMMARY:Friday Night Magic!
DESCRIPTION:Join us each Friday for a variety of Friday Night Magic shenanigans. We will be having a variety of different events including Commander\, draft\, and prerelease!
URL:https://www.tabletopcincy.com/event/friday-night-magic/2026-08-28/
LOCATION:Tabletop Cincy\, 4876 Union Center Pavilion\, West Chester\, OH\, 45069\, United States
ATTACH;FMTTYPE=image/png:https://www.tabletopcincy.com/wp-content/uploads/2025/10/Board-Game-Night-1.png
END:VEVENT
BEGIN:VEVENT
DTSTART;TZID=America/Detroit:20260829T160000
DTEND;TZID=America/Detroit:20260829T180000
DTSTAMP:20260419T155134
CREATED:20251031T200340Z
LAST-MODIFIED:20260203T160919Z
UID:10001410-1788019200-1788026400@www.tabletopcincy.com
SUMMARY:Pokémon Saturdays!
DESCRIPTION:Join us each Saturday for Pokémon from 4p-6p. There will be someone on hand to help teach. Open to gamers of all ages!
URL:https://www.tabletopcincy.com/event/pokemon-saturdays/2026-08-29/
LOCATION:Tabletop Cincy\, 4876 Union Center Pavilion\, West Chester\, OH\, 45069\, United States
ATTACH;FMTTYPE=image/jpeg:https://www.tabletopcincy.com/wp-content/uploads/2025/10/February-Events-6.jpg
END:VEVENT
BEGIN:VEVENT
DTSTART;TZID=America/Detroit:20260830T170000
DTEND;TZID=America/Detroit:20260830T200000
DTSTAMP:20260419T155134
CREATED:20260331T185138Z
LAST-MODIFIED:20260331T185138Z
UID:10002326-1788109200-1788120000@www.tabletopcincy.com
SUMMARY:Sunday Evening Nexus Nights
DESCRIPTION:Join us each Sunday at 5p for a Nexus Night event. \nEntry: $10 \nTime: 5p \nEvents will vary by the week\, all participants will receive a pack of Riftbound and Nexus Nights packs (while supplies last) \nRSVP Required: (https://locator.riftbound.uvsgames.com/events) Just search for Tabletop Cincy to see all of our upcoming events!
URL:https://www.tabletopcincy.com/event/sunday-evening-nexus-nights-2/2026-08-30/
LOCATION:Tabletop Cincy\, 4876 Union Center Pavilion\, West Chester\, OH\, 45069\, United States
ATTACH;FMTTYPE=image/webp:https://www.tabletopcincy.com/wp-content/uploads/2026/02/RiftboundOG.webp
END:VEVENT
BEGIN:VEVENT
DTSTART;TZID=America/Detroit:20260901T120000
DTEND;TZID=America/Detroit:20260901T130000
DTSTAMP:20260419T155134
CREATED:20260203T145026Z
LAST-MODIFIED:20260203T145026Z
UID:10001132-1788264000-1788267600@www.tabletopcincy.com
SUMMARY:Tuesday Lunch Time Gaming!
DESCRIPTION:Join us each Tuesday afternoon for lunch time gaming!
URL:https://www.tabletopcincy.com/event/tuesday-lunch-time-gaming/2026-09-01/
LOCATION:Tabletop Cincy\, 4876 Union Center Pavilion\, West Chester\, OH\, 45069\, United States
ATTACH;FMTTYPE=image/jpeg:https://www.tabletopcincy.com/wp-content/uploads/2026/02/February-Events.jpg
END:VEVENT
BEGIN:VEVENT
DTSTART;TZID=America/Detroit:20260901T180000
DTEND;TZID=America/Detroit:20260901T210000
DTSTAMP:20260419T155134
CREATED:20260330T191705Z
LAST-MODIFIED:20260330T191705Z
UID:10002269-1788285600-1788296400@www.tabletopcincy.com
SUMMARY:Game Night w/ Giveaway!
DESCRIPTION:🎲 Big Update for Game Night! 🎲 \nStarting in April\, our weekly Game Night is moving to Tuesday nights from 6PM–9PM! \nTo celebrate\, we’re doing something extra fun all month long…\n🎁 We’re giving away a game EVERY Tuesday in April! 🎁 \nEveryone who joins us will receive a raffle ticket\, and at the end of the night we’ll draw a winner to take home a game! \nCome hang out\, play something new\, and maybe leave with a new favorite for your collection. See you Tuesday nights!
URL:https://www.tabletopcincy.com/event/game-night-w-giveaway/2026-09-01/
LOCATION:Tabletop Cincy\, 4876 Union Center Pavilion\, West Chester\, OH\, 45069\, United States
ATTACH;FMTTYPE=image/jpeg:https://www.tabletopcincy.com/wp-content/uploads/2026/03/Game-Night.jpg
END:VEVENT
BEGIN:VEVENT
DTSTART;TZID=America/Detroit:20260904T180000
DTEND;TZID=America/Detroit:20260904T210000
DTSTAMP:20260419T155134
CREATED:20251031T195536Z
LAST-MODIFIED:20251031T195536Z
UID:10000315-1788544800-1788555600@www.tabletopcincy.com
SUMMARY:Friday Night Magic!
DESCRIPTION:Join us each Friday for a variety of Friday Night Magic shenanigans. We will be having a variety of different events including Commander\, draft\, and prerelease!
URL:https://www.tabletopcincy.com/event/friday-night-magic/2026-09-04/
LOCATION:Tabletop Cincy\, 4876 Union Center Pavilion\, West Chester\, OH\, 45069\, United States
ATTACH;FMTTYPE=image/png:https://www.tabletopcincy.com/wp-content/uploads/2025/10/Board-Game-Night-1.png
END:VEVENT
BEGIN:VEVENT
DTSTART;TZID=America/Detroit:20260905T160000
DTEND;TZID=America/Detroit:20260905T180000
DTSTAMP:20260419T155134
CREATED:20251031T200340Z
LAST-MODIFIED:20260203T160919Z
UID:10001411-1788624000-1788631200@www.tabletopcincy.com
SUMMARY:Pokémon Saturdays!
DESCRIPTION:Join us each Saturday for Pokémon from 4p-6p. There will be someone on hand to help teach. Open to gamers of all ages!
URL:https://www.tabletopcincy.com/event/pokemon-saturdays/2026-09-05/
LOCATION:Tabletop Cincy\, 4876 Union Center Pavilion\, West Chester\, OH\, 45069\, United States
ATTACH;FMTTYPE=image/jpeg:https://www.tabletopcincy.com/wp-content/uploads/2025/10/February-Events-6.jpg
END:VEVENT
BEGIN:VEVENT
DTSTART;TZID=America/Detroit:20260906T170000
DTEND;TZID=America/Detroit:20260906T200000
DTSTAMP:20260419T155134
CREATED:20260331T185138Z
LAST-MODIFIED:20260331T185138Z
UID:10002327-1788714000-1788724800@www.tabletopcincy.com
SUMMARY:Sunday Evening Nexus Nights
DESCRIPTION:Join us each Sunday at 5p for a Nexus Night event. \nEntry: $10 \nTime: 5p \nEvents will vary by the week\, all participants will receive a pack of Riftbound and Nexus Nights packs (while supplies last) \nRSVP Required: (https://locator.riftbound.uvsgames.com/events) Just search for Tabletop Cincy to see all of our upcoming events!
URL:https://www.tabletopcincy.com/event/sunday-evening-nexus-nights-2/2026-09-06/
LOCATION:Tabletop Cincy\, 4876 Union Center Pavilion\, West Chester\, OH\, 45069\, United States
ATTACH;FMTTYPE=image/webp:https://www.tabletopcincy.com/wp-content/uploads/2026/02/RiftboundOG.webp
END:VEVENT
BEGIN:VEVENT
DTSTART;TZID=America/Detroit:20260908T120000
DTEND;TZID=America/Detroit:20260908T130000
DTSTAMP:20260419T155134
CREATED:20260203T145026Z
LAST-MODIFIED:20260203T145026Z
UID:10001133-1788868800-1788872400@www.tabletopcincy.com
SUMMARY:Tuesday Lunch Time Gaming!
DESCRIPTION:Join us each Tuesday afternoon for lunch time gaming!
URL:https://www.tabletopcincy.com/event/tuesday-lunch-time-gaming/2026-09-08/
LOCATION:Tabletop Cincy\, 4876 Union Center Pavilion\, West Chester\, OH\, 45069\, United States
ATTACH;FMTTYPE=image/jpeg:https://www.tabletopcincy.com/wp-content/uploads/2026/02/February-Events.jpg
END:VEVENT
BEGIN:VEVENT
DTSTART;TZID=America/Detroit:20260908T180000
DTEND;TZID=America/Detroit:20260908T210000
DTSTAMP:20260419T155134
CREATED:20260330T191705Z
LAST-MODIFIED:20260330T191705Z
UID:10002270-1788890400-1788901200@www.tabletopcincy.com
SUMMARY:Game Night w/ Giveaway!
DESCRIPTION:🎲 Big Update for Game Night! 🎲 \nStarting in April\, our weekly Game Night is moving to Tuesday nights from 6PM–9PM! \nTo celebrate\, we’re doing something extra fun all month long…\n🎁 We’re giving away a game EVERY Tuesday in April! 🎁 \nEveryone who joins us will receive a raffle ticket\, and at the end of the night we’ll draw a winner to take home a game! \nCome hang out\, play something new\, and maybe leave with a new favorite for your collection. See you Tuesday nights!
URL:https://www.tabletopcincy.com/event/game-night-w-giveaway/2026-09-08/
LOCATION:Tabletop Cincy\, 4876 Union Center Pavilion\, West Chester\, OH\, 45069\, United States
ATTACH;FMTTYPE=image/jpeg:https://www.tabletopcincy.com/wp-content/uploads/2026/03/Game-Night.jpg
END:VEVENT
BEGIN:VEVENT
DTSTART;TZID=America/Detroit:20260911T180000
DTEND;TZID=America/Detroit:20260911T210000
DTSTAMP:20260419T155134
CREATED:20251031T195536Z
LAST-MODIFIED:20251031T195536Z
UID:10000316-1789149600-1789160400@www.tabletopcincy.com
SUMMARY:Friday Night Magic!
DESCRIPTION:Join us each Friday for a variety of Friday Night Magic shenanigans. We will be having a variety of different events including Commander\, draft\, and prerelease!
URL:https://www.tabletopcincy.com/event/friday-night-magic/2026-09-11/
LOCATION:Tabletop Cincy\, 4876 Union Center Pavilion\, West Chester\, OH\, 45069\, United States
ATTACH;FMTTYPE=image/png:https://www.tabletopcincy.com/wp-content/uploads/2025/10/Board-Game-Night-1.png
END:VEVENT
BEGIN:VEVENT
DTSTART;TZID=America/Detroit:20260912T160000
DTEND;TZID=America/Detroit:20260912T180000
DTSTAMP:20260419T155134
CREATED:20251031T200340Z
LAST-MODIFIED:20260203T160919Z
UID:10001412-1789228800-1789236000@www.tabletopcincy.com
SUMMARY:Pokémon Saturdays!
DESCRIPTION:Join us each Saturday for Pokémon from 4p-6p. There will be someone on hand to help teach. Open to gamers of all ages!
URL:https://www.tabletopcincy.com/event/pokemon-saturdays/2026-09-12/
LOCATION:Tabletop Cincy\, 4876 Union Center Pavilion\, West Chester\, OH\, 45069\, United States
ATTACH;FMTTYPE=image/jpeg:https://www.tabletopcincy.com/wp-content/uploads/2025/10/February-Events-6.jpg
END:VEVENT
BEGIN:VEVENT
DTSTART;TZID=America/Detroit:20260913T170000
DTEND;TZID=America/Detroit:20260913T200000
DTSTAMP:20260419T155134
CREATED:20260331T185138Z
LAST-MODIFIED:20260331T185138Z
UID:10002328-1789318800-1789329600@www.tabletopcincy.com
SUMMARY:Sunday Evening Nexus Nights
DESCRIPTION:Join us each Sunday at 5p for a Nexus Night event. \nEntry: $10 \nTime: 5p \nEvents will vary by the week\, all participants will receive a pack of Riftbound and Nexus Nights packs (while supplies last) \nRSVP Required: (https://locator.riftbound.uvsgames.com/events) Just search for Tabletop Cincy to see all of our upcoming events!
URL:https://www.tabletopcincy.com/event/sunday-evening-nexus-nights-2/2026-09-13/
LOCATION:Tabletop Cincy\, 4876 Union Center Pavilion\, West Chester\, OH\, 45069\, United States
ATTACH;FMTTYPE=image/webp:https://www.tabletopcincy.com/wp-content/uploads/2026/02/RiftboundOG.webp
END:VEVENT
BEGIN:VEVENT
DTSTART;TZID=America/Detroit:20260915T120000
DTEND;TZID=America/Detroit:20260915T130000
DTSTAMP:20260419T155134
CREATED:20260203T145026Z
LAST-MODIFIED:20260203T145026Z
UID:10001134-1789473600-1789477200@www.tabletopcincy.com
SUMMARY:Tuesday Lunch Time Gaming!
DESCRIPTION:Join us each Tuesday afternoon for lunch time gaming!
URL:https://www.tabletopcincy.com/event/tuesday-lunch-time-gaming/2026-09-15/
LOCATION:Tabletop Cincy\, 4876 Union Center Pavilion\, West Chester\, OH\, 45069\, United States
ATTACH;FMTTYPE=image/jpeg:https://www.tabletopcincy.com/wp-content/uploads/2026/02/February-Events.jpg
END:VEVENT
BEGIN:VEVENT
DTSTART;TZID=America/Detroit:20260915T180000
DTEND;TZID=America/Detroit:20260915T210000
DTSTAMP:20260419T155134
CREATED:20260330T191705Z
LAST-MODIFIED:20260330T191705Z
UID:10002271-1789495200-1789506000@www.tabletopcincy.com
SUMMARY:Game Night w/ Giveaway!
DESCRIPTION:🎲 Big Update for Game Night! 🎲 \nStarting in April\, our weekly Game Night is moving to Tuesday nights from 6PM–9PM! \nTo celebrate\, we’re doing something extra fun all month long…\n🎁 We’re giving away a game EVERY Tuesday in April! 🎁 \nEveryone who joins us will receive a raffle ticket\, and at the end of the night we’ll draw a winner to take home a game! \nCome hang out\, play something new\, and maybe leave with a new favorite for your collection. See you Tuesday nights!
URL:https://www.tabletopcincy.com/event/game-night-w-giveaway/2026-09-15/
LOCATION:Tabletop Cincy\, 4876 Union Center Pavilion\, West Chester\, OH\, 45069\, United States
ATTACH;FMTTYPE=image/jpeg:https://www.tabletopcincy.com/wp-content/uploads/2026/03/Game-Night.jpg
END:VEVENT
BEGIN:VEVENT
DTSTART;TZID=America/Detroit:20260917T173000
DTEND;TZID=America/Detroit:20260917T210000
DTSTAMP:20260419T155134
CREATED:20260315T224837Z
LAST-MODIFIED:20260315T224837Z
UID:10002190-1789666200-1789678800@www.tabletopcincy.com
SUMMARY:TCG Trade Day!
DESCRIPTION:Join us for TCG Trade Day! Bring your binder\, make some trades\, and join in on the fun with the community! \nThis is an official Pokémon organized play event\, those that provide their Pokémon ID will earn a prize pack!
URL:https://www.tabletopcincy.com/event/tcg-trade-day-3/2026-09-17/
LOCATION:Tabletop Cincy\, 4876 Union Center Pavilion\, West Chester\, OH\, 45069\, United States
ATTACH;FMTTYPE=image/jpeg:https://www.tabletopcincy.com/wp-content/uploads/2026/03/TRADE-DAY-3.jpg
END:VEVENT
BEGIN:VEVENT
DTSTART;TZID=America/Detroit:20260918T180000
DTEND;TZID=America/Detroit:20260918T210000
DTSTAMP:20260419T155134
CREATED:20251031T195536Z
LAST-MODIFIED:20251031T195536Z
UID:10000317-1789754400-1789765200@www.tabletopcincy.com
SUMMARY:Friday Night Magic!
DESCRIPTION:Join us each Friday for a variety of Friday Night Magic shenanigans. We will be having a variety of different events including Commander\, draft\, and prerelease!
URL:https://www.tabletopcincy.com/event/friday-night-magic/2026-09-18/
LOCATION:Tabletop Cincy\, 4876 Union Center Pavilion\, West Chester\, OH\, 45069\, United States
ATTACH;FMTTYPE=image/png:https://www.tabletopcincy.com/wp-content/uploads/2025/10/Board-Game-Night-1.png
END:VEVENT
BEGIN:VEVENT
DTSTART;TZID=America/Detroit:20260919T160000
DTEND;TZID=America/Detroit:20260919T180000
DTSTAMP:20260419T155134
CREATED:20251031T200340Z
LAST-MODIFIED:20260203T160919Z
UID:10001413-1789833600-1789840800@www.tabletopcincy.com
SUMMARY:Pokémon Saturdays!
DESCRIPTION:Join us each Saturday for Pokémon from 4p-6p. There will be someone on hand to help teach. Open to gamers of all ages!
URL:https://www.tabletopcincy.com/event/pokemon-saturdays/2026-09-19/
LOCATION:Tabletop Cincy\, 4876 Union Center Pavilion\, West Chester\, OH\, 45069\, United States
ATTACH;FMTTYPE=image/jpeg:https://www.tabletopcincy.com/wp-content/uploads/2025/10/February-Events-6.jpg
END:VEVENT
BEGIN:VEVENT
DTSTART;TZID=America/Detroit:20260920T170000
DTEND;TZID=America/Detroit:20260920T200000
DTSTAMP:20260419T155134
CREATED:20260331T185138Z
LAST-MODIFIED:20260331T185138Z
UID:10002329-1789923600-1789934400@www.tabletopcincy.com
SUMMARY:Sunday Evening Nexus Nights
DESCRIPTION:Join us each Sunday at 5p for a Nexus Night event. \nEntry: $10 \nTime: 5p \nEvents will vary by the week\, all participants will receive a pack of Riftbound and Nexus Nights packs (while supplies last) \nRSVP Required: (https://locator.riftbound.uvsgames.com/events) Just search for Tabletop Cincy to see all of our upcoming events!
URL:https://www.tabletopcincy.com/event/sunday-evening-nexus-nights-2/2026-09-20/
LOCATION:Tabletop Cincy\, 4876 Union Center Pavilion\, West Chester\, OH\, 45069\, United States
ATTACH;FMTTYPE=image/webp:https://www.tabletopcincy.com/wp-content/uploads/2026/02/RiftboundOG.webp
END:VEVENT
BEGIN:VEVENT
DTSTART;TZID=America/Detroit:20260922T120000
DTEND;TZID=America/Detroit:20260922T130000
DTSTAMP:20260419T155134
CREATED:20260203T145026Z
LAST-MODIFIED:20260203T145026Z
UID:10001135-1790078400-1790082000@www.tabletopcincy.com
SUMMARY:Tuesday Lunch Time Gaming!
DESCRIPTION:Join us each Tuesday afternoon for lunch time gaming!
URL:https://www.tabletopcincy.com/event/tuesday-lunch-time-gaming/2026-09-22/
LOCATION:Tabletop Cincy\, 4876 Union Center Pavilion\, West Chester\, OH\, 45069\, United States
ATTACH;FMTTYPE=image/jpeg:https://www.tabletopcincy.com/wp-content/uploads/2026/02/February-Events.jpg
END:VEVENT
END:VCALENDAR