BEGIN:VCALENDAR
VERSION:2.0
PRODID:-//Tabletop Cincy - ECPv6.15.18//NONSGML v1.0//EN
CALSCALE:GREGORIAN
METHOD:PUBLISH
X-WR-CALNAME:Tabletop Cincy
X-ORIGINAL-URL:https://www.tabletopcincy.com
X-WR-CALDESC:Events for Tabletop Cincy
REFRESH-INTERVAL;VALUE=DURATION:PT1H
X-Robots-Tag:noindex
X-PUBLISHED-TTL:PT1H
BEGIN:VTIMEZONE
TZID:America/Detroit
BEGIN:DAYLIGHT
TZOFFSETFROM:-0500
TZOFFSETTO:-0400
TZNAME:EDT
DTSTART:20240310T070000
END:DAYLIGHT
BEGIN:STANDARD
TZOFFSETFROM:-0400
TZOFFSETTO:-0500
TZNAME:EST
DTSTART:20241103T060000
END:STANDARD
BEGIN:DAYLIGHT
TZOFFSETFROM:-0500
TZOFFSETTO:-0400
TZNAME:EDT
DTSTART:20250309T070000
END:DAYLIGHT
BEGIN:STANDARD
TZOFFSETFROM:-0400
TZOFFSETTO:-0500
TZNAME:EST
DTSTART:20251102T060000
END:STANDARD
BEGIN:DAYLIGHT
TZOFFSETFROM:-0500
TZOFFSETTO:-0400
TZNAME:EDT
DTSTART:20260308T070000
END:DAYLIGHT
BEGIN:STANDARD
TZOFFSETFROM:-0400
TZOFFSETTO:-0500
TZNAME:EST
DTSTART:20261101T060000
END:STANDARD
BEGIN:DAYLIGHT
TZOFFSETFROM:-0500
TZOFFSETTO:-0400
TZNAME:EDT
DTSTART:20270314T070000
END:DAYLIGHT
BEGIN:STANDARD
TZOFFSETFROM:-0400
TZOFFSETTO:-0500
TZNAME:EST
DTSTART:20271107T060000
END:STANDARD
END:VTIMEZONE
BEGIN:VEVENT
DTSTART;TZID=America/Detroit:20260113T170000
DTEND;TZID=America/Detroit:20260113T190000
DTSTAMP:20260419T144128
CREATED:20251230T194152Z
LAST-MODIFIED:20251230T194152Z
UID:10001084-1768323600-1768330800@www.tabletopcincy.com
SUMMARY:Learn to Play Tuesdays - River Valley Glassworks!
DESCRIPTION:Join us each Tuesday for a different Learn to Play! \nRiver Valley Glassworks will be on the table on January 13th!
URL:https://www.tabletopcincy.com/event/learn-to-play-tuesdays-river-valley-glassworks/
LOCATION:Tabletop Cincy\, 4876 Union Center Pavilion\, West Chester\, OH\, 45069\, United States
ATTACH;FMTTYPE=image/jpeg:https://www.tabletopcincy.com/wp-content/uploads/2025/12/l2prvg.jpg
END:VEVENT
BEGIN:VEVENT
DTSTART;TZID=America/Detroit:20260112T110000
DTEND;TZID=America/Detroit:20260112T113000
DTSTAMP:20260419T144128
CREATED:20251230T194025Z
LAST-MODIFIED:20251230T211411Z
UID:10001083-1768215600-1768217400@www.tabletopcincy.com
SUMMARY:Toddler Learn to Play: Go\, Go\, Little Penguin!
DESCRIPTION:Toddler Learn to Play!\nJoin us for our Toddler Learn to Play featuring Go\, go\, little penguin! (Ages 2+). \n🗓 Monday\, 1/19\n⏰11am–11:30am \nA perfect introduction to games for our youngest players—simple\, colorful\, and fun!
URL:https://www.tabletopcincy.com/event/toddler-learn-to-play-go-go-little-penguin/
LOCATION:Tabletop Cincy\, 4876 Union Center Pavilion\, West Chester\, OH\, 45069\, United States
ATTACH;FMTTYPE=image/jpeg:https://www.tabletopcincy.com/wp-content/uploads/2025/12/January-Events.jpg
END:VEVENT
BEGIN:VEVENT
DTSTART;TZID=America/Detroit:20260111T120000
DTEND;TZID=America/Detroit:20260111T160000
DTSTAMP:20260419T144128
CREATED:20260108T173833Z
LAST-MODIFIED:20260108T173833Z
UID:10001096-1768132800-1768147200@www.tabletopcincy.com
SUMMARY:Disney Lorcana: Whispers in the Well Set Championship!
DESCRIPTION:We’re excited to host our first Disney Lorcana Set Championship!\nEntry is $10\, and all entry fees will be paid out in packs\, with prizing for all participants.\n🏆 The Champion will receive the special championship playmat!
URL:https://www.tabletopcincy.com/event/disney-lorcana-whispers-in-the-well-set-championship/
LOCATION:Tabletop Cincy\, 4876 Union Center Pavilion\, West Chester\, OH\, 45069\, United States
ATTACH;FMTTYPE=image/jpeg:https://www.tabletopcincy.com/wp-content/uploads/2026/01/Set-Championship.jpg
END:VEVENT
BEGIN:VEVENT
DTSTART;TZID=America/Detroit:20260110T160000
DTEND;TZID=America/Detroit:20260110T180000
DTSTAMP:20260419T144128
CREATED:20251031T200340Z
LAST-MODIFIED:20260203T160919Z
UID:10001377-1768060800-1768068000@www.tabletopcincy.com
SUMMARY:Pokémon Saturdays!
DESCRIPTION:Join us each Saturday for Pokémon from 4p-6p. There will be someone on hand to help teach. Open to gamers of all ages!
URL:https://www.tabletopcincy.com/event/pokemon-saturdays/2026-01-10/
LOCATION:Tabletop Cincy\, 4876 Union Center Pavilion\, West Chester\, OH\, 45069\, United States
ATTACH;FMTTYPE=image/jpeg:https://www.tabletopcincy.com/wp-content/uploads/2025/10/February-Events-6.jpg
END:VEVENT
BEGIN:VEVENT
DTSTART;TZID=America/Detroit:20260110T100000
DTEND;TZID=America/Detroit:20260110T150000
DTSTAMP:20260419T144128
CREATED:20260106T212628Z
LAST-MODIFIED:20260106T212628Z
UID:10001090-1768039200-1768057200@www.tabletopcincy.com
SUMMARY:Learn to Play: Nature with the Arctic Tundra Expansion!
DESCRIPTION:Curious about Nature? Join us for a Learn to Play session featuring the Arctic Tundra Expansion. This guided demo will cover the base game and highlight how the expansion changes the ecosystem with new cards\, mechanics\, and challenges. Perfect for first-time players and anyone considering adding the expansion to their collection.
URL:https://www.tabletopcincy.com/event/learn-to-play-nature-with-the-arctic-tundra-expansion/
LOCATION:Tabletop Cincy\, 4876 Union Center Pavilion\, West Chester\, OH\, 45069\, United States
ATTACH;FMTTYPE=image/jpeg:https://www.tabletopcincy.com/wp-content/uploads/2026/01/January-Events-1.jpg
END:VEVENT
BEGIN:VEVENT
DTSTART;TZID=America/Detroit:20260109T180000
DTEND;TZID=America/Detroit:20260109T210000
DTSTAMP:20260419T144128
CREATED:20251031T195536Z
LAST-MODIFIED:20251031T195536Z
UID:10000281-1767981600-1767992400@www.tabletopcincy.com
SUMMARY:Friday Night Magic!
DESCRIPTION:Join us each Friday for a variety of Friday Night Magic shenanigans. We will be having a variety of different events including Commander\, draft\, and prerelease!
URL:https://www.tabletopcincy.com/event/friday-night-magic/2026-01-09/
LOCATION:Tabletop Cincy\, 4876 Union Center Pavilion\, West Chester\, OH\, 45069\, United States
ATTACH;FMTTYPE=image/png:https://www.tabletopcincy.com/wp-content/uploads/2025/10/Board-Game-Night-1.png
END:VEVENT
BEGIN:VEVENT
DTSTART;TZID=America/Detroit:20260108T173000
DTEND;TZID=America/Detroit:20260108T210000
DTSTAMP:20260419T144128
CREATED:20260106T213309Z
LAST-MODIFIED:20260106T213309Z
UID:10001092-1767893400-1767906000@www.tabletopcincy.com
SUMMARY:Themed Thursday: Animal Themed Games!
DESCRIPTION:Join us for Themed Thursday: Animal-Themed Games! 🐾From cute and cozy critters to fierce and competitive creatures\, we’ll have a variety of animal-themed games on the tables. Bring your own favorites or jump into something new—everyone is welcome\, no matter your experience level!
URL:https://www.tabletopcincy.com/event/themed-thursday-animal-themed-games/
LOCATION:Tabletop Cincy\, 4876 Union Center Pavilion\, West Chester\, OH\, 45069\, United States
ATTACH;FMTTYPE=image/jpeg:https://www.tabletopcincy.com/wp-content/uploads/2026/01/January-Events-3.jpg
END:VEVENT
BEGIN:VEVENT
DTSTART;TZID=America/Detroit:20260106T170000
DTEND;TZID=America/Detroit:20260106T190000
DTSTAMP:20260419T144128
CREATED:20251230T202121Z
LAST-MODIFIED:20251230T202121Z
UID:10001088-1767718800-1767726000@www.tabletopcincy.com
SUMMARY:Learn to Play Tuesdays - Space Base!
DESCRIPTION:Join us each Tuesday for a different Learn to Play! \nSpace Base will be on the table on January 6th!
URL:https://www.tabletopcincy.com/event/learn-to-play-tuesdays-space-base/
LOCATION:Tabletop Cincy\, 4876 Union Center Pavilion\, West Chester\, OH\, 45069\, United States
ATTACH;FMTTYPE=image/jpeg:https://www.tabletopcincy.com/wp-content/uploads/2025/12/l2psb.jpg
END:VEVENT
BEGIN:VEVENT
DTSTART;TZID=America/Detroit:20260103T160000
DTEND;TZID=America/Detroit:20260103T180000
DTSTAMP:20260419T144128
CREATED:20251031T200340Z
LAST-MODIFIED:20260203T160919Z
UID:10001376-1767456000-1767463200@www.tabletopcincy.com
SUMMARY:Pokémon Saturdays!
DESCRIPTION:Join us each Saturday for Pokémon from 4p-6p. There will be someone on hand to help teach. Open to gamers of all ages!
URL:https://www.tabletopcincy.com/event/pokemon-saturdays/2026-01-03/
LOCATION:Tabletop Cincy\, 4876 Union Center Pavilion\, West Chester\, OH\, 45069\, United States
ATTACH;FMTTYPE=image/jpeg:https://www.tabletopcincy.com/wp-content/uploads/2025/10/February-Events-6.jpg
END:VEVENT
BEGIN:VEVENT
DTSTART;TZID=America/Detroit:20260102T180000
DTEND;TZID=America/Detroit:20260102T210000
DTSTAMP:20260419T144128
CREATED:20251031T195536Z
LAST-MODIFIED:20251031T195536Z
UID:10000280-1767376800-1767387600@www.tabletopcincy.com
SUMMARY:Friday Night Magic!
DESCRIPTION:Join us each Friday for a variety of Friday Night Magic shenanigans. We will be having a variety of different events including Commander\, draft\, and prerelease!
URL:https://www.tabletopcincy.com/event/friday-night-magic/2026-01-02/
LOCATION:Tabletop Cincy\, 4876 Union Center Pavilion\, West Chester\, OH\, 45069\, United States
ATTACH;FMTTYPE=image/png:https://www.tabletopcincy.com/wp-content/uploads/2025/10/Board-Game-Night-1.png
END:VEVENT
BEGIN:VEVENT
DTSTART;TZID=America/Detroit:20251231T170000
DTEND;TZID=America/Detroit:20260101T003000
DTSTAMP:20260419T144128
CREATED:20251210T165127Z
LAST-MODIFIED:20251210T165127Z
UID:10001071-1767200400-1767227400@www.tabletopcincy.com
SUMMARY:🎲 Game Into 2026! New Year’s Eve at Tabletop Cincy!
DESCRIPTION:🎉 NYE Game Night! Ring in the New Year With Gaming! 🎲 \nPlay\, laugh\, and countdown with us! Bring a game or grab one from our library as we celebrate straight into 2026.
URL:https://www.tabletopcincy.com/event/%f0%9f%8e%b2-game-into-2026-new-years-eve-at-tabletop-cincy/
LOCATION:Tabletop Cincy\, 4876 Union Center Pavilion\, West Chester\, OH\, 45069\, United States
ATTACH;FMTTYPE=image/jpeg:https://www.tabletopcincy.com/wp-content/uploads/2025/12/New-Years-Eve.jpg
END:VEVENT
BEGIN:VEVENT
DTSTART;TZID=America/Detroit:20251230T170000
DTEND;TZID=America/Detroit:20251230T190000
DTSTAMP:20260419T144128
CREATED:20251201T193723Z
LAST-MODIFIED:20251201T193723Z
UID:10001066-1767114000-1767121200@www.tabletopcincy.com
SUMMARY:Learn to Play Tuesdays - Trio!
DESCRIPTION:Join us each Tuesday for a different Learn to Play! \nTrio will be featured on 12/30.
URL:https://www.tabletopcincy.com/event/learn-to-play-tuesdays-trio/
LOCATION:Tabletop Cincy\, 4876 Union Center Pavilion\, West Chester\, OH\, 45069\, United States
ATTACH;FMTTYPE=image/jpeg:https://www.tabletopcincy.com/wp-content/uploads/2025/12/TUESDAY-LTP-TRIO.jpg
END:VEVENT
BEGIN:VEVENT
DTSTART;TZID=America/Detroit:20251227T160000
DTEND;TZID=America/Detroit:20251227T180000
DTSTAMP:20260419T144128
CREATED:20251031T200340Z
LAST-MODIFIED:20260203T160919Z
UID:10001375-1766851200-1766858400@www.tabletopcincy.com
SUMMARY:Pokémon Saturdays!
DESCRIPTION:Join us each Saturday for Pokémon from 4p-6p. There will be someone on hand to help teach. Open to gamers of all ages!
URL:https://www.tabletopcincy.com/event/pokemon-saturdays/2025-12-27/
LOCATION:Tabletop Cincy\, 4876 Union Center Pavilion\, West Chester\, OH\, 45069\, United States
ATTACH;FMTTYPE=image/jpeg:https://www.tabletopcincy.com/wp-content/uploads/2025/10/February-Events-6.jpg
END:VEVENT
BEGIN:VEVENT
DTSTART;TZID=America/Detroit:20251226T180000
DTEND;TZID=America/Detroit:20251226T210000
DTSTAMP:20260419T144128
CREATED:20251031T195536Z
LAST-MODIFIED:20251031T195536Z
UID:10000279-1766772000-1766782800@www.tabletopcincy.com
SUMMARY:Friday Night Magic!
DESCRIPTION:Join us each Friday for a variety of Friday Night Magic shenanigans. We will be having a variety of different events including Commander\, draft\, and prerelease!
URL:https://www.tabletopcincy.com/event/friday-night-magic/2025-12-26/
LOCATION:Tabletop Cincy\, 4876 Union Center Pavilion\, West Chester\, OH\, 45069\, United States
ATTACH;FMTTYPE=image/png:https://www.tabletopcincy.com/wp-content/uploads/2025/10/Board-Game-Night-1.png
END:VEVENT
BEGIN:VEVENT
DTSTART;TZID=America/Detroit:20251223T170000
DTEND;TZID=America/Detroit:20251223T190000
DTSTAMP:20260419T144128
CREATED:20251201T193412Z
LAST-MODIFIED:20251201T193412Z
UID:10001065-1766509200-1766516400@www.tabletopcincy.com
SUMMARY:Learn to Play Tuesdays - Santa's Workshop!
DESCRIPTION:Join us each Tuesday for a different Learn to Play! \nSanta’s Workshop will be featured on 12/23.
URL:https://www.tabletopcincy.com/event/learn-to-play-tuesdays-santas-workshop/
LOCATION:Tabletop Cincy\, 4876 Union Center Pavilion\, West Chester\, OH\, 45069\, United States
ATTACH;FMTTYPE=image/jpeg:https://www.tabletopcincy.com/wp-content/uploads/2025/12/TUESDAY-LTP-SW.jpg
END:VEVENT
BEGIN:VEVENT
DTSTART;TZID=America/Detroit:20251220T160000
DTEND;TZID=America/Detroit:20251220T180000
DTSTAMP:20260419T144128
CREATED:20251031T200340Z
LAST-MODIFIED:20260203T160919Z
UID:10001374-1766246400-1766253600@www.tabletopcincy.com
SUMMARY:Pokémon Saturdays!
DESCRIPTION:Join us each Saturday for Pokémon from 4p-6p. There will be someone on hand to help teach. Open to gamers of all ages!
URL:https://www.tabletopcincy.com/event/pokemon-saturdays/2025-12-20/
LOCATION:Tabletop Cincy\, 4876 Union Center Pavilion\, West Chester\, OH\, 45069\, United States
ATTACH;FMTTYPE=image/jpeg:https://www.tabletopcincy.com/wp-content/uploads/2025/10/February-Events-6.jpg
END:VEVENT
BEGIN:VEVENT
DTSTART;TZID=America/Detroit:20251219T180000
DTEND;TZID=America/Detroit:20251219T210000
DTSTAMP:20260419T144128
CREATED:20251031T195536Z
LAST-MODIFIED:20251031T195536Z
UID:10000278-1766167200-1766178000@www.tabletopcincy.com
SUMMARY:Friday Night Magic!
DESCRIPTION:Join us each Friday for a variety of Friday Night Magic shenanigans. We will be having a variety of different events including Commander\, draft\, and prerelease!
URL:https://www.tabletopcincy.com/event/friday-night-magic/2025-12-19/
LOCATION:Tabletop Cincy\, 4876 Union Center Pavilion\, West Chester\, OH\, 45069\, United States
ATTACH;FMTTYPE=image/png:https://www.tabletopcincy.com/wp-content/uploads/2025/10/Board-Game-Night-1.png
END:VEVENT
BEGIN:VEVENT
DTSTART;TZID=America/Detroit:20251218T173000
DTEND;TZID=America/Detroit:20251218T210000
DTSTAMP:20260419T144128
CREATED:20251210T194829Z
LAST-MODIFIED:20251210T194829Z
UID:10001072-1766079000-1766091600@www.tabletopcincy.com
SUMMARY:❄️ Sleigh the Night! Christmas Games Galore!
DESCRIPTION:❄️ This Week’s “Themed Thursday”! ❄️\nTheme: Christmas Themed Games\n(A fun-filled game night with a themed twist!) \nBring any games you think fit this theme and join us at Tabletop Cincy from 5:30 PM–9:00 PM. Can’t wait to see you there!
URL:https://www.tabletopcincy.com/event/%e2%9d%84%ef%b8%8f-sleigh-the-night-christmas-games-galore/
LOCATION:Tabletop Cincy\, 4876 Union Center Pavilion\, West Chester\, OH\, 45069\, United States
ATTACH;FMTTYPE=image/jpeg:https://www.tabletopcincy.com/wp-content/uploads/2025/12/Join-us-for-this-weeks-Themed-Thursday-2.jpg
END:VEVENT
BEGIN:VEVENT
DTSTART;TZID=America/Detroit:20251216T180000
DTEND;TZID=America/Detroit:20251216T213000
DTSTAMP:20260419T144128
CREATED:20251215T201922Z
LAST-MODIFIED:20251215T201922Z
UID:10001074-1765908000-1765920600@www.tabletopcincy.com
SUMMARY:Marvel Champions Night!
DESCRIPTION:Join us for our once a month Marvel Champions night! New players welcome!
URL:https://www.tabletopcincy.com/event/marvel-champions-night/
LOCATION:Tabletop Cincy\, 4876 Union Center Pavilion\, West Chester\, OH\, 45069\, United States
ATTACH;FMTTYPE=image/jpeg:https://www.tabletopcincy.com/wp-content/uploads/2025/11/mc01_anc_slider.jpg
END:VEVENT
BEGIN:VEVENT
DTSTART;TZID=America/Detroit:20251216T170000
DTEND;TZID=America/Detroit:20251216T190000
DTSTAMP:20260419T144128
CREATED:20251201T192843Z
LAST-MODIFIED:20251201T192843Z
UID:10001064-1765904400-1765911600@www.tabletopcincy.com
SUMMARY:Learn to Play Tuesdays - RA!
DESCRIPTION:Join us each Tuesday for a different Learn to Play! \nRA will be featured on 12/16.
URL:https://www.tabletopcincy.com/event/learn-to-play-tuesdays-ra/
LOCATION:Tabletop Cincy\, 4876 Union Center Pavilion\, West Chester\, OH\, 45069\, United States
ATTACH;FMTTYPE=image/jpeg:https://www.tabletopcincy.com/wp-content/uploads/2025/12/TUESDAY-LTP-ra.jpg
END:VEVENT
BEGIN:VEVENT
DTSTART;TZID=America/Detroit:20251215T103000
DTEND;TZID=America/Detroit:20251215T110000
DTSTAMP:20260419T144128
CREATED:20251202T221915Z
LAST-MODIFIED:20251202T221915Z
UID:10001068-1765794600-1765796400@www.tabletopcincy.com
SUMMARY:Toddler Learn to Play: My Very First Orchard!
DESCRIPTION:🌈 Toddler Learn to Play! 🌈\nJoin us for our very first Toddler Learn to Play featuring My Very First Games: First Orchard (Ages 2+). \n🗓 Monday\, 12/15\n⏰ 10:30am–11:00am \nA perfect introduction to games for our youngest players—simple\, colorful\, and fun!
URL:https://www.tabletopcincy.com/event/toddler-learn-to-play-my-very-first-orchard/
LOCATION:Tabletop Cincy\, 4876 Union Center Pavilion\, West Chester\, OH\, 45069\, United States
ATTACH;FMTTYPE=image/jpeg:https://www.tabletopcincy.com/wp-content/uploads/2025/12/Toddler-LTP.jpg
END:VEVENT
BEGIN:VEVENT
DTSTART;TZID=America/Detroit:20251214T130000
DTEND;TZID=America/Detroit:20251214T170000
DTSTAMP:20260419T144128
CREATED:20251105T185932Z
LAST-MODIFIED:20251105T185932Z
UID:10000797-1765717200-1765731600@www.tabletopcincy.com
SUMMARY:DCC RPG Continuing Campaign Open Table
DESCRIPTION:RSVP: https://www.heylo.com/event/-OcHbq-uoiUFhS2Dk0nX?inviteId=216b6630-f0a2-472b-97e3-2dda5ee1fec6 \nGongfarmer’s Local #513 presents a continuation of our ongoing level 1 hex crawl campaign for Dungeon Crawl Classics Blights ov the Eastern Forest. \nOur group of villagers return home after stopping a dark and bloody ritual in an ancient keep near the village of Reed. The witch\, once a resident of Reed\, abducted and killed many of their friends and family. But how can our group return to their normal lives? Adventure calls right in their very back yard. Rumors abound of evils stirring in the forest\, now that the great witch is no longer around. And what of the necromancer who ruled this land so many centuries ago? Is he truly gone?\nJoin us to find out! \nWhere: Tabletop Cincy\nWhen: 10/23 1-5pm\nExperience needed: None! Rules will be taught.\nMaterials needed: Also None! Pre-generated characters\, dice and pencils will be provided.
URL:https://www.tabletopcincy.com/event/dcc-rpg-continuing-campaign-open-table-2/
LOCATION:Tabletop Cincy\, 4876 Union Center Pavilion\, West Chester\, OH\, 45069\, United States
ATTACH;FMTTYPE=image/webp:https://www.tabletopcincy.com/wp-content/uploads/2025/11/fa8989e1-dd55-42a2-8099-fa8b0718e1da-1.webp
END:VEVENT
BEGIN:VEVENT
DTSTART;TZID=America/Detroit:20251213T160000
DTEND;TZID=America/Detroit:20251213T180000
DTSTAMP:20260419T144128
CREATED:20251106T155145Z
LAST-MODIFIED:20251106T155545Z
UID:10000799-1765641600-1765648800@www.tabletopcincy.com
SUMMARY:FREE Photos with Santa!
DESCRIPTION:Santa’s trading in his sleigh for a game night stop at Tabletop Cincy!\nBring the whole family for a FREE photo with Santa\, surrounded by stacks of board games and holiday cheer. \n🗓 Date: Saturday\, December 13th (4p-6p)\n📍 Location: 4876 Union Centre Pavilion\, West Chester\, OH 45069 \nWe’ll have:\n🎁 Festive treats\n🎲 Family-friendly games to try\n📸 Free Santa photos for everyone \nNo need to roll for initiative — just bring your best holiday spirit and your biggest smiles! ✨ \n \n(Photo Credit: SUMMEY Photography)
URL:https://www.tabletopcincy.com/event/free-photos-with-santa/
LOCATION:Tabletop Cincy\, 4876 Union Center Pavilion\, West Chester\, OH\, 45069\, United States
ATTACH;FMTTYPE=image/jpeg:https://www.tabletopcincy.com/wp-content/uploads/2025/11/Photos-with-Santa.jpg
END:VEVENT
BEGIN:VEVENT
DTSTART;TZID=America/Detroit:20251213T160000
DTEND;TZID=America/Detroit:20251213T180000
DTSTAMP:20260419T144128
CREATED:20251031T200340Z
LAST-MODIFIED:20260203T160919Z
UID:10001373-1765641600-1765648800@www.tabletopcincy.com
SUMMARY:Pokémon Saturdays!
DESCRIPTION:Join us each Saturday for Pokémon from 4p-6p. There will be someone on hand to help teach. Open to gamers of all ages!
URL:https://www.tabletopcincy.com/event/pokemon-saturdays/2025-12-13/
LOCATION:Tabletop Cincy\, 4876 Union Center Pavilion\, West Chester\, OH\, 45069\, United States
ATTACH;FMTTYPE=image/jpeg:https://www.tabletopcincy.com/wp-content/uploads/2025/10/February-Events-6.jpg
END:VEVENT
BEGIN:VEVENT
DTSTART;TZID=America/Detroit:20251212T180000
DTEND;TZID=America/Detroit:20251212T210000
DTSTAMP:20260419T144128
CREATED:20251031T195536Z
LAST-MODIFIED:20251031T195536Z
UID:10000277-1765562400-1765573200@www.tabletopcincy.com
SUMMARY:Friday Night Magic!
DESCRIPTION:Join us each Friday for a variety of Friday Night Magic shenanigans. We will be having a variety of different events including Commander\, draft\, and prerelease!
URL:https://www.tabletopcincy.com/event/friday-night-magic/2025-12-12/
LOCATION:Tabletop Cincy\, 4876 Union Center Pavilion\, West Chester\, OH\, 45069\, United States
ATTACH;FMTTYPE=image/png:https://www.tabletopcincy.com/wp-content/uploads/2025/10/Board-Game-Night-1.png
END:VEVENT
BEGIN:VEVENT
DTSTART;TZID=America/Detroit:20251211T173000
DTEND;TZID=America/Detroit:20251211T210000
DTSTAMP:20260419T144128
CREATED:20251209T143426Z
LAST-MODIFIED:20251209T143426Z
UID:10001070-1765474200-1765486800@www.tabletopcincy.com
SUMMARY:Themed Thursday: Trick Taking Games
DESCRIPTION:🎲 This Week’s “Themed Thursday”! 🎲\nTheme: Trick Taking Games\n(A fun-filled game night with a themed twist!) \nBring any games you think fit this theme and join us at Tabletop Cincy from 5:30 PM–9:00 PM. Can’t wait to see you there!
URL:https://www.tabletopcincy.com/event/themed-thursday-trick-taking-games/
LOCATION:Tabletop Cincy\, 4876 Union Center Pavilion\, West Chester\, OH\, 45069\, United States
ATTACH;FMTTYPE=image/jpeg:https://www.tabletopcincy.com/wp-content/uploads/2025/12/Join-us-for-this-weeks-Themed-Thursday-1.jpg
END:VEVENT
BEGIN:VEVENT
DTSTART;TZID=America/Detroit:20251209T170000
DTEND;TZID=America/Detroit:20251209T190000
DTSTAMP:20260419T144128
CREATED:20251201T192116Z
LAST-MODIFIED:20251201T192116Z
UID:10001063-1765299600-1765306800@www.tabletopcincy.com
SUMMARY:Learn to Play Tuesdays - Castles of Burgundy!
DESCRIPTION:Join us each Tuesday for a different Learn to Play! \nCastles of Burgundy will be featured on 12/9.
URL:https://www.tabletopcincy.com/event/learn-to-play-tuesdays-castles-of-burgundy/
LOCATION:Tabletop Cincy\, 4876 Union Center Pavilion\, West Chester\, OH\, 45069\, United States
ATTACH;FMTTYPE=image/jpeg:https://www.tabletopcincy.com/wp-content/uploads/2025/12/TUESDAY-LTP-COB.jpg
END:VEVENT
BEGIN:VEVENT
DTSTART;TZID=America/Detroit:20251207T130000
DTEND;TZID=America/Detroit:20251207T170000
DTSTAMP:20260419T144128
CREATED:20251105T185751Z
LAST-MODIFIED:20251105T185751Z
UID:10000796-1765112400-1765126800@www.tabletopcincy.com
SUMMARY:Xcrawl RPG Ongoing Open Table Campaign
DESCRIPTION:RSVP: https://www.heylo.com/event/-OcHbhRiaH5haorE5Z3L?inviteId=1cad7ac0-f27a-4044-b40e-7e0884c6eac4 \nOngoing Xcrawl campaign. More details are coming. (Specific module depends on if we finish the Terror on the Tundra)
URL:https://www.tabletopcincy.com/event/xcrawl-rpg-ongoing-open-table-campaign-2/
LOCATION:Tabletop Cincy\, 4876 Union Center Pavilion\, West Chester\, OH\, 45069\, United States
ATTACH;FMTTYPE=image/webp:https://www.tabletopcincy.com/wp-content/uploads/2025/11/543fcec2-faba-49bf-bbd7-2e423ea75c3e.webp
END:VEVENT
BEGIN:VEVENT
DTSTART;TZID=America/Detroit:20251206T160000
DTEND;TZID=America/Detroit:20251206T180000
DTSTAMP:20260419T144128
CREATED:20251031T200340Z
LAST-MODIFIED:20260203T160919Z
UID:10001372-1765036800-1765044000@www.tabletopcincy.com
SUMMARY:Pokémon Saturdays!
DESCRIPTION:Join us each Saturday for Pokémon from 4p-6p. There will be someone on hand to help teach. Open to gamers of all ages!
URL:https://www.tabletopcincy.com/event/pokemon-saturdays/2025-12-06/
LOCATION:Tabletop Cincy\, 4876 Union Center Pavilion\, West Chester\, OH\, 45069\, United States
ATTACH;FMTTYPE=image/jpeg:https://www.tabletopcincy.com/wp-content/uploads/2025/10/February-Events-6.jpg
END:VEVENT
BEGIN:VEVENT
DTSTART;TZID=America/Detroit:20251206T120000
DTEND;TZID=America/Detroit:20251206T140000
DTSTAMP:20260419T144128
CREATED:20251202T200320Z
LAST-MODIFIED:20251202T200320Z
UID:10001067-1765022400-1765029600@www.tabletopcincy.com
SUMMARY:Learn to Play: Origin Story (Hosted by Games & Drinks!)
DESCRIPTION:Swing by this Saturday\, 12/6 from 12–2 PM\, for an Origin Story Learn to Play event! Our friends from the Games & Drinks YouTube channel will be hosting—come learn\, play\, and have some fun! \nCheck them out: https://www.youtube.com/@GamesandDrinksChannel \n  \n 
URL:https://www.tabletopcincy.com/event/learn-to-play-origin-story-hosted-by-games-drinks/
LOCATION:Tabletop Cincy\, 4876 Union Center Pavilion\, West Chester\, OH\, 45069\, United States
ATTACH;FMTTYPE=image/jpeg:https://www.tabletopcincy.com/wp-content/uploads/2025/12/Games-and-Drinks-logo-smaller-scaled.jpg
END:VEVENT
END:VCALENDAR