BEGIN:VCALENDAR
VERSION:2.0
PRODID:-//Tabletop Cincy - ECPv6.15.18//NONSGML v1.0//EN
CALSCALE:GREGORIAN
METHOD:PUBLISH
X-WR-CALNAME:Tabletop Cincy
X-ORIGINAL-URL:https://www.tabletopcincy.com
X-WR-CALDESC:Events for Tabletop Cincy
REFRESH-INTERVAL;VALUE=DURATION:PT1H
X-Robots-Tag:noindex
X-PUBLISHED-TTL:PT1H
BEGIN:VTIMEZONE
TZID:America/Detroit
BEGIN:DAYLIGHT
TZOFFSETFROM:-0500
TZOFFSETTO:-0400
TZNAME:EDT
DTSTART:20250309T070000
END:DAYLIGHT
BEGIN:STANDARD
TZOFFSETFROM:-0400
TZOFFSETTO:-0500
TZNAME:EST
DTSTART:20251102T060000
END:STANDARD
BEGIN:DAYLIGHT
TZOFFSETFROM:-0500
TZOFFSETTO:-0400
TZNAME:EDT
DTSTART:20260308T070000
END:DAYLIGHT
BEGIN:STANDARD
TZOFFSETFROM:-0400
TZOFFSETTO:-0500
TZNAME:EST
DTSTART:20261101T060000
END:STANDARD
BEGIN:DAYLIGHT
TZOFFSETFROM:-0500
TZOFFSETTO:-0400
TZNAME:EDT
DTSTART:20270314T070000
END:DAYLIGHT
BEGIN:STANDARD
TZOFFSETFROM:-0400
TZOFFSETTO:-0500
TZNAME:EST
DTSTART:20271107T060000
END:STANDARD
END:VTIMEZONE
BEGIN:VEVENT
DTSTART;TZID=America/Detroit:20260526T120000
DTEND;TZID=America/Detroit:20260526T130000
DTSTAMP:20260421T072301
CREATED:20260203T145026Z
LAST-MODIFIED:20260203T145026Z
UID:10001118-1779796800-1779800400@www.tabletopcincy.com
SUMMARY:Tuesday Lunch Time Gaming!
DESCRIPTION:Join us each Tuesday afternoon for lunch time gaming!
URL:https://www.tabletopcincy.com/event/tuesday-lunch-time-gaming/2026-05-26/
LOCATION:Tabletop Cincy\, 4876 Union Center Pavilion\, West Chester\, OH\, 45069\, United States
ATTACH;FMTTYPE=image/jpeg:https://www.tabletopcincy.com/wp-content/uploads/2026/02/February-Events.jpg
END:VEVENT
BEGIN:VEVENT
DTSTART;TZID=America/Detroit:20260526T180000
DTEND;TZID=America/Detroit:20260526T210000
DTSTAMP:20260421T072301
CREATED:20260330T191705Z
LAST-MODIFIED:20260330T191705Z
UID:10002255-1779818400-1779829200@www.tabletopcincy.com
SUMMARY:Game Night w/ Giveaway!
DESCRIPTION:🎲 Big Update for Game Night! 🎲 \nStarting in April\, our weekly Game Night is moving to Tuesday nights from 6PM–9PM! \nTo celebrate\, we’re doing something extra fun all month long…\n🎁 We’re giving away a game EVERY Tuesday in April! 🎁 \nEveryone who joins us will receive a raffle ticket\, and at the end of the night we’ll draw a winner to take home a game! \nCome hang out\, play something new\, and maybe leave with a new favorite for your collection. See you Tuesday nights!
URL:https://www.tabletopcincy.com/event/game-night-w-giveaway/2026-05-26/
LOCATION:Tabletop Cincy\, 4876 Union Center Pavilion\, West Chester\, OH\, 45069\, United States
ATTACH;FMTTYPE=image/jpeg:https://www.tabletopcincy.com/wp-content/uploads/2026/03/Game-Night.jpg
END:VEVENT
BEGIN:VEVENT
DTSTART;TZID=America/Detroit:20260529T180000
DTEND;TZID=America/Detroit:20260529T210000
DTSTAMP:20260421T072301
CREATED:20251031T195536Z
LAST-MODIFIED:20251031T195536Z
UID:10000301-1780077600-1780088400@www.tabletopcincy.com
SUMMARY:Friday Night Magic!
DESCRIPTION:Join us each Friday for a variety of Friday Night Magic shenanigans. We will be having a variety of different events including Commander\, draft\, and prerelease!
URL:https://www.tabletopcincy.com/event/friday-night-magic/2026-05-29/
LOCATION:Tabletop Cincy\, 4876 Union Center Pavilion\, West Chester\, OH\, 45069\, United States
ATTACH;FMTTYPE=image/png:https://www.tabletopcincy.com/wp-content/uploads/2025/10/Board-Game-Night-1.png
END:VEVENT
BEGIN:VEVENT
DTSTART;TZID=America/Detroit:20260529T183000
DTEND;TZID=America/Detroit:20260529T210000
DTSTAMP:20260421T072301
CREATED:20260323T183525Z
LAST-MODIFIED:20260323T183525Z
UID:10002246-1780079400-1780088400@www.tabletopcincy.com
SUMMARY:Paint & Sip at Tabletop Cincy - Meeple Night!
DESCRIPTION:Join us for a fun and creative Paint & Sip event at Tabletop Cincy where we’ll be painting a playful Meeple! Perfect for board game lovers\, friends\, or a unique night out\, this event combines creativity with a fun\, social atmosphere surrounded by games. Enjoy step-by-step instruction—no painting experience needed—and all supplies are included. Seats are limited\, so book now for this one-of-a-kind game night experience!  \n  \nTickets available here: \nhttps://www.paintingwithatwist.com/studio/mason/event/4268423/?fbclid=IwY2xjawQuRn9leHRuA2FlbQIxMABicmlkETE3ZHc1RTExZ0JDSlZ1eWRDc3J0YwZhcHBfaWQQMjIyMDM5MTc4ODIwMDg5MgABHru2gfBhLblNqxYLvB1p_KXSzSfBdfbJ3ckPsOA83W8EM2kGMCuEfPNsn87V_aem_3n7O9bBh9txnkhoi_31ykA
URL:https://www.tabletopcincy.com/event/paint-sip-at-tabletop-cincy-meeple-night/
LOCATION:Tabletop Cincy\, 4876 Union Center Pavilion\, West Chester\, OH\, 45069\, United States
ATTACH;FMTTYPE=image/jpeg:https://www.tabletopcincy.com/wp-content/uploads/2026/03/655018168_1368497058650750_7612792676568587070_n.jpg
END:VEVENT
BEGIN:VEVENT
DTSTART;TZID=America/Detroit:20260530T160000
DTEND;TZID=America/Detroit:20260530T180000
DTSTAMP:20260421T072301
CREATED:20251031T200340Z
LAST-MODIFIED:20260203T160919Z
UID:10001397-1780156800-1780164000@www.tabletopcincy.com
SUMMARY:Pokémon Saturdays!
DESCRIPTION:Join us each Saturday for Pokémon from 4p-6p. There will be someone on hand to help teach. Open to gamers of all ages!
URL:https://www.tabletopcincy.com/event/pokemon-saturdays/2026-05-30/
LOCATION:Tabletop Cincy\, 4876 Union Center Pavilion\, West Chester\, OH\, 45069\, United States
ATTACH;FMTTYPE=image/jpeg:https://www.tabletopcincy.com/wp-content/uploads/2025/10/February-Events-6.jpg
END:VEVENT
BEGIN:VEVENT
DTSTART;TZID=America/Detroit:20260531T170000
DTEND;TZID=America/Detroit:20260531T200000
DTSTAMP:20260421T072301
CREATED:20260331T185138Z
LAST-MODIFIED:20260331T185138Z
UID:10002313-1780246800-1780257600@www.tabletopcincy.com
SUMMARY:Sunday Evening Nexus Nights
DESCRIPTION:Join us each Sunday at 5p for a Nexus Night event. \nEntry: $10 \nTime: 5p \nEvents will vary by the week\, all participants will receive a pack of Riftbound and Nexus Nights packs (while supplies last) \nRSVP Required: (https://locator.riftbound.uvsgames.com/events) Just search for Tabletop Cincy to see all of our upcoming events!
URL:https://www.tabletopcincy.com/event/sunday-evening-nexus-nights-2/2026-05-31/
LOCATION:Tabletop Cincy\, 4876 Union Center Pavilion\, West Chester\, OH\, 45069\, United States
ATTACH;FMTTYPE=image/webp:https://www.tabletopcincy.com/wp-content/uploads/2026/02/RiftboundOG.webp
END:VEVENT
END:VCALENDAR